BEGIN:VCALENDAR
VERSION:2.0
PRODID:-//DDRCommunity - ECPv6.15.14//NONSGML v1.0//EN
CALSCALE:GREGORIAN
METHOD:PUBLISH
X-WR-CALNAME:DDRCommunity
X-ORIGINAL-URL:https://ddrcommunity.com
X-WR-CALDESC:Events for DDRCommunity
REFRESH-INTERVAL;VALUE=DURATION:PT1H
X-Robots-Tag:noindex
X-PUBLISHED-TTL:PT1H
BEGIN:VTIMEZONE
TZID:America/New_York
BEGIN:DAYLIGHT
TZOFFSETFROM:-0500
TZOFFSETTO:-0400
TZNAME:EDT
DTSTART:20240310T070000
END:DAYLIGHT
BEGIN:STANDARD
TZOFFSETFROM:-0400
TZOFFSETTO:-0500
TZNAME:EST
DTSTART:20241103T060000
END:STANDARD
BEGIN:DAYLIGHT
TZOFFSETFROM:-0500
TZOFFSETTO:-0400
TZNAME:EDT
DTSTART:20250309T070000
END:DAYLIGHT
BEGIN:STANDARD
TZOFFSETFROM:-0400
TZOFFSETTO:-0500
TZNAME:EST
DTSTART:20251102T060000
END:STANDARD
BEGIN:DAYLIGHT
TZOFFSETFROM:-0500
TZOFFSETTO:-0400
TZNAME:EDT
DTSTART:20260308T070000
END:DAYLIGHT
BEGIN:STANDARD
TZOFFSETFROM:-0400
TZOFFSETTO:-0500
TZNAME:EST
DTSTART:20261101T060000
END:STANDARD
BEGIN:DAYLIGHT
TZOFFSETFROM:-0500
TZOFFSETTO:-0400
TZNAME:EDT
DTSTART:20270314T070000
END:DAYLIGHT
BEGIN:STANDARD
TZOFFSETFROM:-0400
TZOFFSETTO:-0500
TZNAME:EST
DTSTART:20271107T060000
END:STANDARD
END:VTIMEZONE
BEGIN:VEVENT
DTSTART;VALUE=DATE:20250822
DTEND;VALUE=DATE:20250825
DTSTAMP:20260423T023643
CREATED:20250803T022917Z
LAST-MODIFIED:20250803T023010Z
UID:34716-1755820800-1756079999@ddrcommunity.com
SUMMARY:Beast in the East 8
DESCRIPTION:Beast in the East or BITE is Hampton Roads largest gaming festival. BITE is focused on bringing a unique event to provide a place for people to enjoy their favorite games\, meet new communities\, discover new interest\, jam out to amazing performances\, buy one of a kind gaming merch from vendors\, and most importantly create long lasting memories along the way!
URL:https://ddrcommunity.com/event/beast-in-the-east-8/
LOCATION:Hampton Roads Convention Center\, 1610 Coliseum Dr\, Hampton\, VA\, 23666\, United States
CATEGORIES:Meetups,Tournaments
ATTACH;FMTTYPE=image/jpeg:https://ddrcommunity.com/wp-content/uploads/2025/08/image-ac1496a2e656e00a6a57aa025a87b0b3.jpg
END:VEVENT
BEGIN:VEVENT
DTSTART;TZID=America/New_York:20260117T103000
DTEND;TZID=America/New_York:20260118T170000
DTSTAMP:20260423T023643
CREATED:20250924T011952Z
LAST-MODIFIED:20250924T011952Z
UID:36117-1768645800-1768755600@ddrcommunity.com
SUMMARY:L.E.F.T.S. Tournament
DESCRIPTION:L.E.F.T.S\nDiscord: https://discord.gg/uyf7BCmq4q \nL.E.F.T.S is a 4-panel StepMania event usually taking place at Penn State main campus. https://github.com/CrashCringle12/RIGHTS/wiki. This year the event will be at the PGH Dance Game Space. \n  \nThe event will feature a Singles Event as well as a special Couples Event. \nWhat’s the event like?\nLEFTS is the spiritual successor to the D.O.W.N.S. and U.P.S. tournament series\, both of which were a fun social weekend\, loosely organized around a StepMania tournament. Competitors create new stepcharts specifically for the event. Some people take it seriously and make stepcharts that they’ll be good at. Others submit shitpost-tier stepcharts in the hope that someone will end up having to play it. Some people get very creative with Lua scripting. Overall\, it’s a pretty fun time.\nWhen is it?\nLEFTS occurs annually on a Saturday+Sunday in January or February. This year it is January 17th – 18th\, 2026\nWhere?\nPittsburgh Dance Game Space \nI’ll edit this desc more later but I just want to make sure I get this up here.
URL:https://ddrcommunity.com/event/l-e-f-t-s-tournament/
LOCATION:PGH Dance Game Space\, Pittsburgh\, PA\, United States
CATEGORIES:Meetups,Tournaments
ATTACH;FMTTYPE=image/png:https://ddrcommunity.com/wp-content/uploads/2025/09/LeftsBanner.png
ORGANIZER;CN="Crash Cringle":MAILTO:lamarcooley123@gmail.com
END:VEVENT
BEGIN:VEVENT
DTSTART;VALUE=DATE:20260411
DTEND;VALUE=DATE:20260412
DTSTAMP:20260423T023643
CREATED:20260330T140809Z
LAST-MODIFIED:20260330T140809Z
UID:64503-1775865600-1775951999@ddrcommunity.com
SUMMARY:Dizzy Dance
DESCRIPTION:DIZZY DANCE! 😵‍💫\nDizzy Dance is a 28-player DDR World tournament and Cleveland DDR community meetup held in scenic Mentor\, Ohio on April 11th\, 2026.
URL:https://ddrcommunity.com/event/dizzy-dance/
LOCATION:Round1 Great Lakes Mall\, 7850 Mentor Ave.\, Mentor\, 44060\, United States
CATEGORIES:Meetups,Tournaments
ATTACH;FMTTYPE=image/png:https://ddrcommunity.com/wp-content/uploads/2026/03/dizzy_flyer.png
END:VEVENT
BEGIN:VEVENT
DTSTART;TZID=America/New_York:20260515T110000
DTEND;TZID=America/New_York:20260517T180000
DTSTAMP:20260423T023643
CREATED:20260329T203506Z
LAST-MODIFIED:20260329T203506Z
UID:64484-1778842800-1779040800@ddrcommunity.com
SUMMARY:Stamina Jawn 2
DESCRIPTION:The sequel to the original Stamina Jawn from last year! Like the first one\, the event is centered around meeting up to do ECS 14.5 sets\, and there will be setups for ITG and PIU that accommodate both singles and doubles teams. You can also just come to hang out and enjoy free play on the machines when they’re not in use! \nThis time we’ll be running the event from May 15th to May 17th\, once again at the PGH Dance Game Space in Pittsburgh\, PA. Huge thanks to them for allowing us to host another event there! \nThe cutoff for shirt pre-sales is April 15th\, so make sure you register and place your order before then if that’s something you’re interested in! 100% of the proceeds from badge and shirt sales go directly to the venue. \nWe’ve also added team-related side activities this year\, and a ranking based around points earned from them! \nHead on over to the site for event registration/shirt pre-sales: \nhttps://staminajawn2.groovestats.com/ \nHoping to see lots of you make it out!
URL:https://ddrcommunity.com/event/stamina-jawn-2/
LOCATION:PGH Dance Game Space\, Pittsburgh\, PA\, United States
CATEGORIES:Meetups,Tournaments
ATTACH;FMTTYPE=image/png:https://ddrcommunity.com/wp-content/uploads/2026/03/sj2-invite-logo.png
END:VEVENT
BEGIN:VEVENT
DTSTART;VALUE=DATE:20260710
DTEND;VALUE=DATE:20260713
DTSTAMP:20260423T023643
CREATED:20260325T000818Z
LAST-MODIFIED:20260325T000818Z
UID:56895-1783641600-1783900799@ddrcommunity.com
SUMMARY:ROOTS26
DESCRIPTION:OhioDDR presents ROOTS26: a celebration of the people within our community who create a safe and welcoming space for building up every player. We’re going back to our roots\, offering social-focused community events all weekend\, friendly for players of all experience levels.
URL:https://ddrcommunity.com/event/roots26/
LOCATION:Round1 Great Lakes Mall\, 7850 Mentor Ave.\, Mentor\, 44060\, United States
CATEGORIES:Meetups,Tournaments
ATTACH;FMTTYPE=image/png:https://ddrcommunity.com/wp-content/uploads/2026/03/scott-the-woz-please-come.png
ORGANIZER;CN="OhioDDR":MAILTO:ohioddr@gmail.com
END:VEVENT
END:VCALENDAR