BEGIN:VCALENDAR
VERSION:2.0
PRODID:-//DDRCommunity - ECPv6.15.14//NONSGML v1.0//EN
CALSCALE:GREGORIAN
METHOD:PUBLISH
X-ORIGINAL-URL:https://ddrcommunity.com
X-WR-CALDESC:Events for DDRCommunity
REFRESH-INTERVAL;VALUE=DURATION:PT1H
X-Robots-Tag:noindex
X-PUBLISHED-TTL:PT1H
BEGIN:VTIMEZONE
TZID:America/New_York
BEGIN:DAYLIGHT
TZOFFSETFROM:-0500
TZOFFSETTO:-0400
TZNAME:EDT
DTSTART:20170312T070000
END:DAYLIGHT
BEGIN:STANDARD
TZOFFSETFROM:-0400
TZOFFSETTO:-0500
TZNAME:EST
DTSTART:20171105T060000
END:STANDARD
BEGIN:DAYLIGHT
TZOFFSETFROM:-0500
TZOFFSETTO:-0400
TZNAME:EDT
DTSTART:20180311T070000
END:DAYLIGHT
BEGIN:STANDARD
TZOFFSETFROM:-0400
TZOFFSETTO:-0500
TZNAME:EST
DTSTART:20181104T060000
END:STANDARD
BEGIN:DAYLIGHT
TZOFFSETFROM:-0500
TZOFFSETTO:-0400
TZNAME:EDT
DTSTART:20190310T070000
END:DAYLIGHT
BEGIN:STANDARD
TZOFFSETFROM:-0400
TZOFFSETTO:-0500
TZNAME:EST
DTSTART:20191103T060000
END:STANDARD
BEGIN:DAYLIGHT
TZOFFSETFROM:-0500
TZOFFSETTO:-0400
TZNAME:EDT
DTSTART:20200308T070000
END:DAYLIGHT
BEGIN:STANDARD
TZOFFSETFROM:-0400
TZOFFSETTO:-0500
TZNAME:EST
DTSTART:20201101T060000
END:STANDARD
BEGIN:DAYLIGHT
TZOFFSETFROM:-0500
TZOFFSETTO:-0400
TZNAME:EDT
DTSTART:20210314T070000
END:DAYLIGHT
BEGIN:STANDARD
TZOFFSETFROM:-0400
TZOFFSETTO:-0500
TZNAME:EST
DTSTART:20211107T060000
END:STANDARD
BEGIN:DAYLIGHT
TZOFFSETFROM:-0500
TZOFFSETTO:-0400
TZNAME:EDT
DTSTART:20220313T070000
END:DAYLIGHT
BEGIN:STANDARD
TZOFFSETFROM:-0400
TZOFFSETTO:-0500
TZNAME:EST
DTSTART:20221106T060000
END:STANDARD
BEGIN:DAYLIGHT
TZOFFSETFROM:-0500
TZOFFSETTO:-0400
TZNAME:EDT
DTSTART:20230312T070000
END:DAYLIGHT
BEGIN:STANDARD
TZOFFSETFROM:-0400
TZOFFSETTO:-0500
TZNAME:EST
DTSTART:20231105T060000
END:STANDARD
BEGIN:DAYLIGHT
TZOFFSETFROM:-0500
TZOFFSETTO:-0400
TZNAME:EDT
DTSTART:20240310T070000
END:DAYLIGHT
BEGIN:STANDARD
TZOFFSETFROM:-0400
TZOFFSETTO:-0500
TZNAME:EST
DTSTART:20241103T060000
END:STANDARD
END:VTIMEZONE
BEGIN:VEVENT
DTSTART;VALUE=DATE:20230619
DTEND;VALUE=DATE:20231009
DTSTAMP:20260424T232210
CREATED:20240411T034242Z
LAST-MODIFIED:20240411T054054Z
UID:8778-1687132800-1696809599@ddrcommunity.com
SUMMARY:Stamina RPG 7
DESCRIPTION:Stamina RPG 7 is an online StepMania competition for the post-ITG community that\, in addition to being a tournament in its own right\, serves as the qualifier for ECS 12. The event focuses on stamina content\, but there is a large amount of footspeed and tech-oriented charts available as well. The difficulty ratings range from 11s to 28s and beyond\, so Stamina RPG is a great tool for personal progression.This event has many special features\, including an unlock system where new songs are available for play both through purchase using earned currency and through the completion of quests. The RPG presents many ways to pursue goals for yourself– and many ways to rank yourself against others.\nInformation on format and rankings for previous Stamina RPG events can be found on Groovestats. The official event page for Stamina RPG 7 will be accessible at the start of the event.
URL:https://ddrcommunity.com/event/stamina-rpg-7/
LOCATION:CA
CATEGORIES:Online Tournaments
ATTACH;FMTTYPE=image/png:https://ddrcommunity.com/wp-content/uploads/2023/04/Stamina-RPG-7.png
END:VEVENT
BEGIN:VEVENT
DTSTART;VALUE=DATE:20180514
DTEND;VALUE=DATE:20180903
DTSTAMP:20260424T232210
CREATED:20240411T041303Z
LAST-MODIFIED:20240411T053934Z
UID:8937-1526256000-1535932799@ddrcommunity.com
SUMMARY:Stamina RPG 2
DESCRIPTION:http://groovestats.com/ECS7/Rules\nStamina RPG 2 is an online competition for In The Groove 2 that\, in addition to being a tournament in its own right\, serves as the qualifier for ECS7 and for FCS3. Difficulties range from 12-footers to songs so challenging that almost no one can pass them. To participate\, you must register on Groovestats first. Once you’ve done that and you’ve downloaded the songs for the qualifier\, after logging in\, you can go to the Passes page to view your current status and enter in any new passes.\nYou will accrue experience points toward your overall level and skill points towards specific BPM ranges for each song you pass\, as well as Tournament Points (TP)– a new addition to Stamina RPG 2– which will determine your qualifying rank for ECS7. For each BPM range above 160\, the three charts you have passed in that range with the highest TP value will contribute to your total TP.\nYou can view the current rankings by going to the Ranking page. The Quests page will provide a log of quests that participants can undertake for rewards\, and hints on how to complete them. Finally\, if you’d like to view the song list without logging in\, the Song List page is the place to do that.\nThere are a few rules to note: \nBracketing/mashing is strictly prohibited for any songs in the qualifier.\nYou may play with way offs/decents disabled\, but these will be enabled for the actual tournament.\nYou must play on the normal judge and lifebar settings for ITG (Judge and Life difficulty 4). If you’re playing on the Simply Love theme on SM5\, you’ll need to ensure that you’re using a version that has accurate life mechanics (‘Competitive Mode’ handles that on the most recent versions).\nNo scores obtained prior to 05/14/2018 will be accepted.\nMake sure that you have screenshots of every score. If a pass is questioned and you can’t provide a screenshot\, you’ll lose credit for it.\nRate mods below 1.0x rate are not acceptable. \nPrizes\nThe 16 players WORLDWIDE who have earned the highest total TP by September 2nd at 11:59 PM EST are invited to compete in East Coast Stamina 7.\nThe top 12 FRENCH players and top 4 EUROPEAN players who have earned the highest total TP by July 31st at 11:59 PM CEST are invited to compete in French Coast Stamina 3.\nPrizes will also be awarded to the top 4 players who have accrued the highest total EXP by September 2nd at 11:59 PM EST: \n1st Place: $400 USD\n2nd Place: $200 USD\n3rd Place: $100 USD\n4th Place: $50 USD
URL:https://ddrcommunity.com/event/stamina-rpg-2-2/
LOCATION:Online
CATEGORIES:Online Tournaments,Tournaments
ATTACH;FMTTYPE=image/jpeg:https://ddrcommunity.com/wp-content/uploads/2024/04/32349925_10156601037193258_8349997137362157568_n-480x320-pXVxz1.tmp_.jpg
END:VEVENT
BEGIN:VEVENT
DTSTART;TZID=America/New_York:20180303T000000
DTEND;TZID=America/New_York:20180514T000000
DTSTAMP:20260424T232210
CREATED:20180402T144000Z
LAST-MODIFIED:20240411T041331Z
UID:2910-1520035200-1526256000@ddrcommunity.com
SUMMARY:East Coast Stamina 6.5
DESCRIPTION:Visit Groovestats for full info on East Coast Stamina 6.5.What is ECS6.5?:\nECS6.5 is the eleventh (after ECS1\, 2\, 2.5\, 3\, 3.5\, 4\, 4.5\, 5\, 5.5\, and 6) tournament in the East Coast Stamina series. The objective is to try to clear as many of the hardest stamina charts as you can within the format of the tournament. It is a team tournament\, and you may enter it on a team of up to three individuals. \nOnce again\, since this isn’t a “main” ECS (like\, one of the whole number ones)\, it’s going to be split into an upper and lower division to make it more accessible to a wider range of participants. \nWhen:\nEntrants can submit their sets at any time BEFORE May 14th\, 2018 to count towards the ranking. Within that timeframe\, when and where they do this is at their discretion\, so long as they adhere to the rules detailed further on. \nWhere:\nWherever. Any ITG machine that’s running an ITG theme and not the StomperZ one Stepmania 5 is acceptable as long as you’re using ITG’s life/scoring mechanics (using the Simply Love theme on Competitive mode is the easiest way to accomplish that). \nWhat are the prizes?: \nEach player that competes gets a special ECS6.5 poster.\nThe members of each team in the lower division that breaks 1100 total points between their marathons and their Raw Output set (after scaling) get a special ECS6.5 shirt.\nThe members of each team in the upper division that breaks 700 total points between their marathons and their Raw Output set (after scaling) get a more special ECS6.5 shirt.\nEach member of a team of my choosing from each division that I note as having performed especially well relative to their skill level gets a special\, three of a kind poster.\nEach member of the winning team of each division gets a special\, three of a kind poster and a trophy. \nKeep in mind it’ll probably take me a while to mail everything once the tournament is over. \nFormat:\nECS6.5 is a team tournament split into an Upper Division and a Lower Division\, with two portions to the tournament for each division.  \nTeams are comprised of up to three individuals total; deciding who to team up with is up to you.\nIt is strongly preferred that you enter with people you are able to play on the same machine with\, but in special cases\, if you advise me in advance\, I will permit you to play on separate machines. This is really only an issue for the Raw Output set; you must coordinate between your other team members if they’re not playing at the same place as you to ensure that you are not playing songs at the same time on different machines\, or else you’re giving yourself an unfair advantage over other competitors. I would recommend streaming to each other if possible or at least using messaging to make sure you know when you can start your next song. Again\, it is strictly against the rules for two different people on a team to be playing songs at the same time during Raw Output. You may also take the approach of just dividing your four hour block up amongst your team\, but it goes without saying this puts you at a disadvantage in terms of efficiency.\nEach entrant can enter on up to two teams for EACH of the Upper and Lower divisions\, but they are not eligible for duplicate prizes (meaning if I were to enter on the maximum of four teams\, and all of the teams happen to win the same prize\, I only get that prize one time rather than four times)\nThere is no concept of ‘local ranking’ versus ‘remote ranking’ in this tournament– each division has its own ranking\, period\, and all teams entering are eligible for winnings regardless of where they play.\nThe lower division has songs in it from 12s-17s and marathons made up of 13s. It is recommended that you at least be comfortable with 13s if you’re going to enter. If you/your team fails the marathon(s)\, it will still count towards your team’s marathon total\, however.\nThe upper division has songs from 16s-24s and a marathon with charts ranging from 16s to 21s. It’s recommended that you be able to pass at least a few lower 18s on command if you’re going to enter the upper division.\nC-mods are legal. Mirror/other turn mods are legal. No Mines is legal. Any mods that add or subtract arrows\, holds\, or rolls– those are not.\nYou may rate mod songs\, but only at rates that are at or above 1.0x\, and you will not receive any point bonus for doing so.\nBracketing/mashing is not permitted in any portion of the tournament.\nYou must compete on ITG. The StomperZ theme is not allowed due to different life and scoring metrics.\nYou may turn off way-offs and decents (it will only really help you in the marathon portion\, though).
URL:https://ddrcommunity.com/event/east-coast-stamina-6-5/
LOCATION:Online
CATEGORIES:Online Tournaments
ATTACH;FMTTYPE=image/jpeg:https://ddrcommunity.com/wp-content/uploads/2024/04/28577083_10156395850663258_8159750628371805627_n-480x320-QiAtvI.tmp_.jpg
END:VEVENT
BEGIN:VEVENT
DTSTART;TZID=America/New_York:20180411T080000
DTEND;TZID=America/New_York:20180505T170000
DTSTAMP:20260424T232210
CREATED:20180412T145358Z
LAST-MODIFIED:20240411T041316Z
UID:2931-1523433600-1525539600@ddrcommunity.com
SUMMARY:Freestyle Takeover: Cyber Cypher #1
DESCRIPTION:We’re excited to announce Cyber Cypher #1\, an online #DDR freestyle tournament! pic.twitter.com/rTYgW1kQ39\n— Freestyle Takeover (@FSTakeover) April 10\, 2018 \nWe’re excited to announce Cyber Cypher #1\, an online DDR freestyle tournament! We wanted to reach out to freestylers outside of California and a remote event sounded like the perfect way to showcase talent from all across the world.\nTo enter\, choose from one of the following three songs and record a performance to it between now and May 5th:\n• Dance Celebration (DDR X)\n• Hands Up In The Air (DDR A)\n• Try 2 Luv U (SuperNOVA)\nFull rules are as follows: \nCyber Cypher is open to everyone on Earth\, regardless of region.\nTo enter\, record yourself performing a routine to one of the three Cyber Cypher eligible songs. Performances may be done on a Dance Dance Revolution arcade machine or on a home version pad using either a console version of the game or a DDR simulator/emulator.\nAll performance videos may be e-mailed directly to FreestyleTakeover@gmail.comor uploaded online. A link to the upload must be provided to any of Freestyle Takeover’s social media channels using the hashtag #DDRFreestyle.\nAll performances must have been recorded between 4/9/18 and 5/5/18. (No\, we’re not accepting a video of a routine you did back in 2014. Re-perform that bad boy for the spirit of competition.)\nPerformer must complete their performance with a passing grade per the game’s scoring system. A failed grade performance is not eligible for submission.\nAll performances must adhere to general guidelines of decency. Keep it PG\, maybe PG-13. (If the material/tone of the performance wouldn’t be allowed on an episode of The Simpsons\, you might want to rethink your idea.)\nAll performances will be judged by Freestyle Takeover staff. Each judge will grade the performances based on (but not limited to) showmanship\, creativity\, musicality\, and presentation. The competitor’s game score will not be factored into judgment.\nAfter the final performance of the competition\, each judge will submit their top 10 candidates using the following voting vector (14\, 9\, 8\, 7\, 6\, 5\, 4\, 3\, 2\, 1)\, where 1st place receives 14 points\, 2nd place receives 9 points and so on.\nAll judges’ decisions are final and are not subject to protest. Final tallies will be available per request after the competition is over.\nEntrants who submit a video to the Cyber Cypher are agreeing to allow Freestyle Takeover to potentially use their footage and/or likeness in future promotional and marketing material.\nRules are subject to change at the discretion of Freestyle Takeover. \nPrizes for this are forthcoming but we guarantee they will be worth your while. Start brainstorming your routines and stay tuned for more!
URL:https://ddrcommunity.com/event/freestyle-takeover-cyber-cypher-1/
LOCATION:Online
CATEGORIES:Online Tournaments,Tournaments
ATTACH;FMTTYPE=image/jpeg:https://ddrcommunity.com/wp-content/uploads/2024/04/23722511_10213459913028739_2222781435021571634_n-480x320-TqX5zh.tmp_.jpg
END:VEVENT
BEGIN:VEVENT
DTSTART;TZID=America/New_York:20180427T100000
DTEND;TZID=America/New_York:20180520T235900
DTSTAMP:20260424T232210
CREATED:20180427T140749Z
LAST-MODIFIED:20240411T041315Z
UID:2990-1524823200-1526860740@ddrcommunity.com
SUMMARY:Atlanta Music Games Cup #1: Tokimeki Idol Invasion
DESCRIPTION:It’s 10AM! The event has officially begun!\nThe theme for our online DDR A tournament this month is Tokimeki Idol Invasion! More information can be found below.\nRules: https://t.co/emet64X6jERegistration: https://t.co/grL0cvbIYCFacebook Event: https://t.co/PLCCLGM5cU pic.twitter.com/xCImQkviPV\n— Storm × League (@stormxleague) April 27\, 2018
URL:https://ddrcommunity.com/event/atlanta-music-games-cup-1-tokimeki-idol-invasion/
LOCATION:Online
CATEGORIES:Online Tournaments,Tournaments
ATTACH;FMTTYPE=image/jpeg:https://ddrcommunity.com/wp-content/uploads/2024/04/31403910_1015880438559655_8766438699685642240_n-480x320-I0ax1i.tmp_.jpg
ORGANIZER;CN="Vincent Kim":MAILTO:mailto:musicgamesatl@gmail.com
END:VEVENT
END:VCALENDAR