BEGIN:VCALENDAR
VERSION:2.0
PRODID:-//DDRCommunity - ECPv6.15.14//NONSGML v1.0//EN
CALSCALE:GREGORIAN
METHOD:PUBLISH
X-ORIGINAL-URL:https://ddrcommunity.com
X-WR-CALDESC:Events for DDRCommunity
REFRESH-INTERVAL;VALUE=DURATION:PT1H
X-Robots-Tag:noindex
X-PUBLISHED-TTL:PT1H
BEGIN:VTIMEZONE
TZID:America/New_York
BEGIN:DAYLIGHT
TZOFFSETFROM:-0500
TZOFFSETTO:-0400
TZNAME:EDT
DTSTART:20220313T070000
END:DAYLIGHT
BEGIN:STANDARD
TZOFFSETFROM:-0400
TZOFFSETTO:-0500
TZNAME:EST
DTSTART:20221106T060000
END:STANDARD
BEGIN:DAYLIGHT
TZOFFSETFROM:-0500
TZOFFSETTO:-0400
TZNAME:EDT
DTSTART:20230312T070000
END:DAYLIGHT
BEGIN:STANDARD
TZOFFSETFROM:-0400
TZOFFSETTO:-0500
TZNAME:EST
DTSTART:20231105T060000
END:STANDARD
BEGIN:DAYLIGHT
TZOFFSETFROM:-0500
TZOFFSETTO:-0400
TZNAME:EDT
DTSTART:20240310T070000
END:DAYLIGHT
BEGIN:STANDARD
TZOFFSETFROM:-0400
TZOFFSETTO:-0500
TZNAME:EST
DTSTART:20241103T060000
END:STANDARD
END:VTIMEZONE
BEGIN:VEVENT
DTSTART;VALUE=DATE:20230619
DTEND;VALUE=DATE:20231009
DTSTAMP:20260420T160501
CREATED:20240411T034242Z
LAST-MODIFIED:20240411T054054Z
UID:8778-1687132800-1696809599@ddrcommunity.com
SUMMARY:Stamina RPG 7
DESCRIPTION:Stamina RPG 7 is an online StepMania competition for the post-ITG community that\, in addition to being a tournament in its own right\, serves as the qualifier for ECS 12. The event focuses on stamina content\, but there is a large amount of footspeed and tech-oriented charts available as well. The difficulty ratings range from 11s to 28s and beyond\, so Stamina RPG is a great tool for personal progression.This event has many special features\, including an unlock system where new songs are available for play both through purchase using earned currency and through the completion of quests. The RPG presents many ways to pursue goals for yourself– and many ways to rank yourself against others.\nInformation on format and rankings for previous Stamina RPG events can be found on Groovestats. The official event page for Stamina RPG 7 will be accessible at the start of the event.
URL:https://ddrcommunity.com/event/stamina-rpg-7/
LOCATION:CA
CATEGORIES:Online Tournaments
ATTACH;FMTTYPE=image/png:https://ddrcommunity.com/wp-content/uploads/2023/04/Stamina-RPG-7.png
END:VEVENT
BEGIN:VEVENT
DTSTART;TZID=America/New_York:20230828T000000
DTEND;TZID=America/New_York:20231121T235900
DTSTAMP:20260420T160501
CREATED:20240411T034039Z
LAST-MODIFIED:20240412T012014Z
UID:8771-1693180800-1700611140@ddrcommunity.com
SUMMARY:DDR Champions League 2023!
DESCRIPTION:We are excited to announce the first-ever “DDR Champions League”! This is a 3-player team tournament for DanceDanceRevolution that will be conducted remotely. Teams representing arcades all over the world are invited to compete in a battle for world DDR supremacy!The qualifying period for the tournament will begin Monday\, August 28th and end Sunday\, September 24th. The top teams will advance to the DDR Champions League Tournament\, a single-elimination bracket where champions will be crowned!\nTeams that do not qualify for the DDR Champions League Tournament will be seeded into alternate brackets that provide skill-appropriate competition\, to run concurrently with the Champions League Tournament. Each phase of the knockout rounds will last approximately two weeks.\nSupported software for the tournament include DDR A20 PLUS\, DDR A3\, and DDR GRAND PRIX. Please read the full rules of the tournament for full details (link provided below). We hope you enjoy the DDR Champions League!\nDDR Champions League homepage
URL:https://ddrcommunity.com/event/ddr-champions-league-2023/
LOCATION:Online
CATEGORIES:Online Tournaments,Tournaments
ATTACH;FMTTYPE=image/png:https://ddrcommunity.com/wp-content/uploads/2024/04/cllogo-nobg-WBPcJu.tmp_.png
ORGANIZER;CN="Logan Barnes":MAILTO:barnesl007@gmail.com
END:VEVENT
END:VCALENDAR