BEGIN:VCALENDAR
VERSION:2.0
PRODID:-//DDRCommunity - ECPv6.15.14//NONSGML v1.0//EN
CALSCALE:GREGORIAN
METHOD:PUBLISH
X-ORIGINAL-URL:https://ddrcommunity.com
X-WR-CALDESC:Events for DDRCommunity
REFRESH-INTERVAL;VALUE=DURATION:PT1H
X-Robots-Tag:noindex
X-PUBLISHED-TTL:PT1H
BEGIN:VTIMEZONE
TZID:America/Los_Angeles
BEGIN:DAYLIGHT
TZOFFSETFROM:-0800
TZOFFSETTO:-0700
TZNAME:PDT
DTSTART:20180311T100000
END:DAYLIGHT
BEGIN:STANDARD
TZOFFSETFROM:-0700
TZOFFSETTO:-0800
TZNAME:PST
DTSTART:20181104T090000
END:STANDARD
BEGIN:DAYLIGHT
TZOFFSETFROM:-0800
TZOFFSETTO:-0700
TZNAME:PDT
DTSTART:20190310T100000
END:DAYLIGHT
BEGIN:STANDARD
TZOFFSETFROM:-0700
TZOFFSETTO:-0800
TZNAME:PST
DTSTART:20191103T090000
END:STANDARD
BEGIN:DAYLIGHT
TZOFFSETFROM:-0800
TZOFFSETTO:-0700
TZNAME:PDT
DTSTART:20200308T100000
END:DAYLIGHT
BEGIN:STANDARD
TZOFFSETFROM:-0700
TZOFFSETTO:-0800
TZNAME:PST
DTSTART:20201101T090000
END:STANDARD
END:VTIMEZONE
BEGIN:VTIMEZONE
TZID:America/New_York
BEGIN:DAYLIGHT
TZOFFSETFROM:-0500
TZOFFSETTO:-0400
TZNAME:EDT
DTSTART:20180311T070000
END:DAYLIGHT
BEGIN:STANDARD
TZOFFSETFROM:-0400
TZOFFSETTO:-0500
TZNAME:EST
DTSTART:20181104T060000
END:STANDARD
BEGIN:DAYLIGHT
TZOFFSETFROM:-0500
TZOFFSETTO:-0400
TZNAME:EDT
DTSTART:20190310T070000
END:DAYLIGHT
BEGIN:STANDARD
TZOFFSETFROM:-0400
TZOFFSETTO:-0500
TZNAME:EST
DTSTART:20191103T060000
END:STANDARD
BEGIN:DAYLIGHT
TZOFFSETFROM:-0500
TZOFFSETTO:-0400
TZNAME:EDT
DTSTART:20200308T070000
END:DAYLIGHT
BEGIN:STANDARD
TZOFFSETFROM:-0400
TZOFFSETTO:-0500
TZNAME:EST
DTSTART:20201101T060000
END:STANDARD
END:VTIMEZONE
BEGIN:VEVENT
DTSTART;TZID=America/Los_Angeles:20190916T000000
DTEND;TZID=America/Los_Angeles:20191110T235900
DTSTAMP:20260425T145646
CREATED:20190817T195826Z
LAST-MODIFIED:20240412T012546Z
UID:4762-1568592000-1573430340@ddrcommunity.com
SUMMARY:Project IDOLA 2.0
DESCRIPTION:Visit the Project IDOLA 2.0 website for rules\, registration\, and submission information.
URL:https://ddrcommunity.com/event/project-idola-2-0/
LOCATION:Online
CATEGORIES:Tournaments
ATTACH;FMTTYPE=image/jpeg:https://ddrcommunity.com/wp-content/uploads/2019/08/69067248_10157894411222216_3655734930945605632_n.jpg
END:VEVENT
BEGIN:VEVENT
DTSTART;TZID=America/New_York:20191004T080000
DTEND;TZID=America/New_York:20191006T170000
DTSTAMP:20260425T145646
CREATED:20190624T192607Z
LAST-MODIFIED:20240411T035730Z
UID:4427-1570176000-1570381200@ddrcommunity.com
SUMMARY:The Beast in the East 4
DESCRIPTION:smash.gg\nFacebook Event\nPreregistration\nPreregistration has started at $25! You can support the event even further by choosing one of our tiered badges that come with:\nBronze ($35): \nPreregister\nBITE 4 Logo Pin\nBITE 4 Lanyard \nSilver ($55): \nPreregister\nBITE 4 Logo Pin\nBITE 4 Lanyard\nBITE 4 Tote Bag\nBITE 4 Poster\nBITE 4 Shirt \nGold ($100): \nPreregister\nBITE 4 Logo Pin\nBITE 4 Lanyard\nBITE 4 Tote Bag\nBITE 4 Poster\nBITE 4 Shirt\nHandcrafted BITE Logo Statue \nPreregister NOW\nwww.bitebadge.com\nThere will be day passes\, however\, these will only be sold at the door. Friday: $10 Saturday: $15 Sunday: $10\nBadge/Pass includes all day free play on all of our arcade machines! Day passes are subject to max capacity! It is best to preregister for the event to secure your spot. \nBring Setups/Arcade Machines\nWe can use all of the PS4/Lagless monitor and arcade machines that you have! Just message our page 😉 \nAs we get closer to the event we will have a confirmed official game line up\, but here is how it is looking for this year * \nFighting Games\n• Dragonball FighterZ • Street Fighter: 3rd Strike • Super Street Fighter II Turbo • Street Fighter V • Tekken 7 • Tekken 5: Dark Resurrection • Marvel vs Capcom: 2 • Capcom vs SNK 2 • Dengeki Bunko: Fighting Climax • Super Smash Brothers • Soul Calibur II • Vampire Savior 2 • Ultra Street Fighter 4 • Ultimate Marvel vs Capcom 3 • Blazblue Cross Tag Battle \nRhythm Games\n• Pump It Up Prime 2 • Dance Dance Revolution Ace • Dance Dance Revolution Extreme Pro • In the Groove 2 • Rave It Out 2 • Jubeat • Pop’nMusic • Beatmania IIDX • Sound Voltex • CrossBeats Rev. \nOther Games\n• Initial D 7th Stage • Windjammers • PuyoPuyo Tetris • Mario Kart Deluxe 8 • Mario Tennis Aces • Keep Talking and Nobody Explodes • Beat Saber \nVenue\nHampton Roads Convention Center 1610 Coliseum Dr\, Hampton\, VA 23666 \nDriving Directions\nHeading West on I-64(from Norfolk): Take exit 263B (W. Mercury Boulevard/Hampton Coliseum) and turn right at the end of the ramp. Continue straight until the first light and turn right onto Coliseum Drive. Go approximately 1/4 mile. The HRCC and Hampton Coliseum are adjacent properties.\nHeading East on I-64 (from Richmond): Take exit 263 (Mercury Blvd./James River Bridge). Turn left at the end of the ramp (following 258 North) onto Mercury Blvd and continue straight for approximately 1/4 mile to Coliseum Drive. Turn right onto Coliseum Drive and go approximately 1/4 mile. The HRCC and Hampton Coliseum are adjacent properties.\nHeading East on I664 (from Suffolk/Portsmouth): Merge left onto I-64 West. Take exit 263-B (W. Mercury Boulevard/Hampton Coliseum) and turn right at the end of the ramp. Continue straight until the first light and turn right onto Coliseum Drive. Go approximately 1 mile. The HRCC and Hampton Coliseum are adjacent properties. \nAirport\nNewport News/Williamsburg International Airport (PHF 11 Miles Away From Venue) uses the following carriers: American Airlines\, Delta\, and US Airways.\nNorfolk International Airport (ORF 18 Miles Away From Venue) uses the following carriers: American Airlines\, Delta\, Southwest\, United\, and US Airways. \nHotel\nHotel prices within walking distance range from $66-$220. The Embassy Suites is the hotel right next to the venue @ $155 a night. www.thebeastintheeast.com/bite4-hotels
URL:https://ddrcommunity.com/event/the-beast-in-the-east-4/
LOCATION:Hampton Roads Convention Center\, 1610 Coliseum Dr\, Hampton\, VA\, 23666\, United States
CATEGORIES:Tournaments
ATTACH;FMTTYPE=image/jpeg:https://ddrcommunity.com/wp-content/uploads/2024/04/image-dba28aa8a59d2dbc524474e5b0bc15a7-0BqyYk.tmp_.jpg
END:VEVENT
BEGIN:VEVENT
DTSTART;TZID=America/New_York:20191004T100000
DTEND;TZID=America/New_York:20191006T200000
DTSTAMP:20260425T145646
CREATED:20190624T173723Z
LAST-MODIFIED:20240411T035730Z
UID:4424-1570183200-1570392000@ddrcommunity.com
SUMMARY:Game Underground Arcade Championship 4
DESCRIPTION:New England’s premiere 3-day arcade game tournament returns!Featured Games Include:\nDance Dance Revolution\nBeatmania IIDX\nSound Voltex\nPop’n Music\nJubeat\nReflec Beat\nGroove Coaster\nCrossbeats\nPinball (high score challenge)\nMystery Tournament\nDrum Mania (high score challenge)\nIF YOU INTEND TO PLAY PLEASE FILL OUT THE FORM AT THE LINK BELOW!!!\nhttps://tinyurl.com/yy8zl9mq\nVenue Fee: $10 (You must pay this to enter any tournament)\nAll cabinets (except high score challenges) will be on freeplay during their respective tournaments and return to tokens after.\nThis year we would like to change things up and make all of our tournaments free to enter*. We hope this\, along with upper & lower brackets in some events will encourage more people to enter.\n*IF YOU PLACE IN THE DDR UPPER BRACKET there will be a $10 entrance fee to move on. All of this will be paid out to top players.\nQualifiers for DDR and IIDX will be posted in late August and will be available for remote submissions. Scores must be submitted by Tuesday the week of GUAC\, and brackets will be posted in advance of the weekend.\nDoors open 10:00 am\nFull schedule and rules to be announced.\nGames and Tournament organizers:\nSaturday\nDDR Lower Bracket – Yoon Jae Lee\nIIDX Upper Bracket – Allen Seitz\nSound Voltex – Nate Sattar\nReflec Beat – Taylor Hill\nGroove Coaster – Colin Fraser\nMystery Tournament – Javier Guevara\nSunday\nDDR Upper Bracket\nIIDX Lower Bracket\nJubeat – Germain Martinez\nPop’n Music – Kevin Thompson\nCrossbeats – Taylor Hill\nPinball – Jamie York
URL:https://ddrcommunity.com/event/game-underground-arcade-championship-4/
LOCATION:Game Underground\, 349 Moody Street\, Waltham\, MA\, 02453\, United States
CATEGORIES:Tournaments
ATTACH;FMTTYPE=image/jpeg:https://ddrcommunity.com/wp-content/uploads/2024/04/64396191_10156039782211721_567658440168570880_n-480x320-ggkysU.tmp_.jpg
ORGANIZER;CN="Game Underground":MAILTO:gameundergroundstore@yahoo.com
END:VEVENT
BEGIN:VEVENT
DTSTART;TZID=America/Los_Angeles:20191008T080000
DTEND;TZID=America/Los_Angeles:20191118T000100
DTSTAMP:20260425T145646
CREATED:20190927T192105Z
LAST-MODIFIED:20191010T221523Z
UID:5205-1570521600-1574035260@ddrcommunity.com
SUMMARY:Cyber Cypher 4 - Remote DDR Freestyle Tournament
DESCRIPTION:Cyber Cypher 4 is all the way live! Submit a freestyle video using the hashtag #DDRFreestyle to enter. Entries will be accepted from now until November 8th! \n\n\n\nFREESTYLE SONGS ELIGIBLE FOR CYBER CYPHER 4\n– Any song feat. Paula Terry\n– Any song by the artist Naoki\, NM\, or NMR\n– Any song in the Extreme Folder on DDR Ace\n– Dazzlin Darlin\n– Scorching Moon\n– Break Free\n– I Want You to Know\n– Bloody Tears (IIDX remix)\n– Deadball de homerun\n– Dynamite Rave \nFull rules after the jump: \nCyber Cypher #4 rules: \n\nCyber Cypher is open to everyone on Earth\, regardless of region.\nTo enter\, the competitor must record themselves performing a routine to any Dance Dance Revolution song. Performances may be done on a Dance Dance Revolution arcade machine or on a home version pad using either a console version of the game or a DDR simulator/emulator. (We highly recommend that the footage shows your full body and at least a partial glimpse of the game screen\, so that the judges may better critique your performance.)\nCompetitors may submit more than one performance.\nAll performance videos may be uploaded online to a video hosting site (i.e.\, YouTube\, Vimeo\, Streamable) or emailed directly to FreestyleTakeover@gmail.com. A link to the upload must be provided to any of Freestyle Takeover’s social media channels using the hashtag #DDRFreestyle.\nAll performances must be recorded between 10/8/18 and 11/11/18\, 12:01am PDT.\nPerformer must complete their performance with a passing grade per the game’s scoring system. A failed grade performance is not eligible for submission.\nAll performances and costumes must adhere to general guidelines of decency. Keep it PG\, maybe PG-13. (If the material/tone of the performance wouldn’t be allowed on an episode of The Simpsons\, you might want to rethink your idea.)\nEach judge will grade the performances based on (but not limited to) showmanship\, creativity\, musicality\, and presentation. The competitor’s game score will not be factored into judgment.\n\nThere will be slightly more emphasis on visual presentation\, specifically your costume and its synergy with the routine\n\n\n After the final performance of the competition\, each judge will submit their top 10 candidates using the following voting vector (14\, 9\, 8\, 7\, 6\, 5\, 4\, 3\, 2\, 1)\, where 1st place receives 14 points\, 2nd place receives 9 points and so on.\nAll judges’ decisions are final and are not subject to protest. Final tallies will be posted on the Freestyle Takeover website after the competition is over.\nEntrants who submit a video to the Cyber Cypher are agreeing to allow Freestyle Takeover to potentially use their footage and/or likeness in future promotional and marketing material.\nRules may be subject to change at the discretion of Freestyle Takeover.\nPrizes TBD.
URL:https://ddrcommunity.com/event/cyber-cypher-4-remote-ddr-freestyle-tournament/
LOCATION:Online
CATEGORIES:Tournaments
ATTACH;FMTTYPE=image/jpeg:https://ddrcommunity.com/wp-content/uploads/2019/09/71051938_471888070065952_5394640337236918272_n.jpg
END:VEVENT
BEGIN:VEVENT
DTSTART;TZID=America/New_York:20191012T103000
DTEND;TZID=America/New_York:20191012T220000
DTSTAMP:20260425T145646
CREATED:20190716T132915Z
LAST-MODIFIED:20240411T035619Z
UID:4460-1570876200-1570917600@ddrcommunity.com
SUMMARY:GO4THETOP 3rd Season
DESCRIPTION:Watch the past broadcast for date\, location\, rules\, and other information about GO4THETOP 3rd Season.\nMain website: https://www.go4thetop.net/\nTwitter: @Go4TheTop
URL:https://ddrcommunity.com/event/go4thetop-3rd-season/
LOCATION:ATTACK\, 원미구 심곡동 190-14\, Bucheon\, Gyeonggi-do\, 420-012\, Korea\, Republic of
CATEGORIES:Tournaments
ATTACH;FMTTYPE=image/png:https://ddrcommunity.com/wp-content/uploads/2024/04/go4thetop-logo-400x320-HVu58M.tmp_.png
ORGANIZER;CN="Go4TheTop":MAILTO:989990gfc@gmail.com
END:VEVENT
BEGIN:VEVENT
DTSTART;TZID=America/New_York:20191025T170000
DTEND;TZID=America/New_York:20191026T220000
DTSTAMP:20260425T145646
CREATED:20190704T173656Z
LAST-MODIFIED:20240411T035619Z
UID:4453-1572022800-1572127200@ddrcommunity.com
SUMMARY:Feel The Beat\, Round 1 Rhythm Game Tournament
DESCRIPTION:After a very successful trial event with Silver City Summit last February\, System Arcadia is coming back to Round 1 SCG in Taunton\, Massachusetts this October for Feel The Beat!Feel The Beat is System Arcadia’s flagship tournament series similar to how 灼熱Summer Night is our flagship music show series. The aim is to run this event every Halloween weekend for years to come to offset The Big Deal which happens 5 months later. System Arcadia aims to be the biggest and best East Coast rhythm game event for the passionate company we support. With that said\, let’s get to the details.\nDates\n– Qualifiying time periods: Friday October 25th from 6 P.M. to Midnight & Saturday October 26th from 10 A.M. to 12:30 P.M.\n– All tournaments start at 1 P.M. October 26th. DDR should roughly finish around 11 P.M.\nWhat tournaments will we have? Rulesets in links.\n– *DanceDanceRevolution A20: https://bit.ly/2FTfG3O\n– Pump It Up XX: https://bit.ly/328zZ70\n– DanceRush Stardom: https://bit.ly/2Xrw2eT\n– beatmaniaIIDX 27 HEROIC VERSE: https://bit.ly/2XGYHfr\n– SOUND VOLTEX V: VIVID WAVE: https://bit.ly/2Jp7WHM\n– Registration page: https://bit.ly/30I1EuF\n* NOTE: The two white cabinets will be used for the tournament. The gold cabinet will not be used for the following reasons.\n1. It’s a J region machine meaning access to premium options is not possible aka no .25 or .75 speed mods.\n2. Different screen means different sync from white cabinets.\n3. There is only one gold cabinet versus two white cabinets and we wish to give everyone the same level playing field for the whole tournament.\n– DDR Ace will be streamed on System Arcadia’s Twitch channel: https://twitch.tv/systemarcadia\nAll rules and scheduling are subject to change. Stay tuned for more details closer to the event.
URL:https://ddrcommunity.com/event/feel-the-beat-round-1-rhythm-game-tournament/
LOCATION:Round 1 Silver City Galleria\, 2 Galleria Mall Dr\, Taunton\, MA\, 02780\, United States
CATEGORIES:Tournaments
ATTACH;FMTTYPE=image/jpeg:https://ddrcommunity.com/wp-content/uploads/2024/04/66078451_1373846909446234_7886466541447806976_n-480x320-mofukp.tmp_.jpg
END:VEVENT
END:VCALENDAR