BEGIN:VCALENDAR
VERSION:2.0
PRODID:-//DDRCommunity - ECPv6.15.14//NONSGML v1.0//EN
CALSCALE:GREGORIAN
METHOD:PUBLISH
X-ORIGINAL-URL:https://ddrcommunity.com
X-WR-CALDESC:Events for DDRCommunity
REFRESH-INTERVAL;VALUE=DURATION:PT1H
X-Robots-Tag:noindex
X-PUBLISHED-TTL:PT1H
BEGIN:VTIMEZONE
TZID:America/New_York
BEGIN:DAYLIGHT
TZOFFSETFROM:-0500
TZOFFSETTO:-0400
TZNAME:EDT
DTSTART:20210314T070000
END:DAYLIGHT
BEGIN:STANDARD
TZOFFSETFROM:-0400
TZOFFSETTO:-0500
TZNAME:EST
DTSTART:20211107T060000
END:STANDARD
BEGIN:DAYLIGHT
TZOFFSETFROM:-0500
TZOFFSETTO:-0400
TZNAME:EDT
DTSTART:20220313T070000
END:DAYLIGHT
BEGIN:STANDARD
TZOFFSETFROM:-0400
TZOFFSETTO:-0500
TZNAME:EST
DTSTART:20221106T060000
END:STANDARD
BEGIN:DAYLIGHT
TZOFFSETFROM:-0500
TZOFFSETTO:-0400
TZNAME:EDT
DTSTART:20230312T070000
END:DAYLIGHT
BEGIN:STANDARD
TZOFFSETFROM:-0400
TZOFFSETTO:-0500
TZNAME:EST
DTSTART:20231105T060000
END:STANDARD
END:VTIMEZONE
BEGIN:VEVENT
DTSTART;TZID=America/New_York:20221111T000000
DTEND;TZID=America/New_York:20221113T235900
DTSTAMP:20260423T051300
CREATED:20240411T034710Z
LAST-MODIFIED:20240412T012248Z
UID:8797-1668124800-1668383940@ddrcommunity.com
SUMMARY:Mistake on the Lake 4: The Big Mistake
DESCRIPTION:OhioDDR is proud to announce Ohio’s next rhythm game tournament event\, Mistake on the Lake 4: The Big Mistake. This event will be held just outside of Cleveland at Round1 Great Lakes Mall in Mentor\, Ohio from November 11-13\, 2022.There will be FIVE tournaments. DanceDanceRevolution A20+ Singles DanceDanceRevolution A3 Doubles DanceRush Stardom Sound Voltex Exceed Gear Pump It Up XX For more information\, join the OhioDDR Discord here\, follow OhioDDR on twitter\, and visit the start.gg page.
URL:https://ddrcommunity.com/event/mistake-on-the-lake-4-the-big-mistake/
LOCATION:Round1 Great Lakes Mall\, 7850 Mentor Ave.\, Mentor\, 44060\, United States
CATEGORIES:Tournaments
ATTACH;FMTTYPE=image/jpeg:https://ddrcommunity.com/wp-content/uploads/2022/09/OHioDDR_Logo-Icon_BG.jpg
END:VEVENT
BEGIN:VEVENT
DTSTART;TZID=America/New_York:20221118T170000
DTEND;TZID=America/New_York:20221120T220000
DTSTAMP:20260423T051300
CREATED:20240411T034708Z
LAST-MODIFIED:20240411T041943Z
UID:8795-1668790800-1668981600@ddrcommunity.com
SUMMARY:Rumble in the Prairie 12.5
DESCRIPTION:Come hang with ITG players from around the world as we run a variety of fun competitions! We’ll be running:\nTech Singles\nDoubles\nCouples\nTech Sight Reading Tournament\nHubert & Carter’s Mystery Game SRT \nAnd potentially even more depending on time and interest!\n \nCheck our Start.gg page and/or join the DDRIllini Discord server for more info. We can answer whatever questions you may have there!
URL:https://ddrcommunity.com/event/rumble-in-the-prairie-12-5/
LOCATION:Illini Union Ballroom\, 1401 W. Green St.\, Urbana\, IL\, 61801\, United States
CATEGORIES:Tournaments
ATTACH;FMTTYPE=image/png:https://ddrcommunity.com/wp-content/uploads/2024/04/poster-banner-zsZwvP.tmp_.png
END:VEVENT
END:VCALENDAR