BEGIN:VCALENDAR
VERSION:2.0
PRODID:-//DDRCommunity - ECPv6.15.14//NONSGML v1.0//EN
CALSCALE:GREGORIAN
METHOD:PUBLISH
X-ORIGINAL-URL:https://ddrcommunity.com
X-WR-CALDESC:Events for DDRCommunity
REFRESH-INTERVAL;VALUE=DURATION:PT1H
X-Robots-Tag:noindex
X-PUBLISHED-TTL:PT1H
BEGIN:VTIMEZONE
TZID:America/New_York
BEGIN:DAYLIGHT
TZOFFSETFROM:-0500
TZOFFSETTO:-0400
TZNAME:EDT
DTSTART:20220313T070000
END:DAYLIGHT
BEGIN:STANDARD
TZOFFSETFROM:-0400
TZOFFSETTO:-0500
TZNAME:EST
DTSTART:20221106T060000
END:STANDARD
BEGIN:DAYLIGHT
TZOFFSETFROM:-0500
TZOFFSETTO:-0400
TZNAME:EDT
DTSTART:20230312T070000
END:DAYLIGHT
BEGIN:STANDARD
TZOFFSETFROM:-0400
TZOFFSETTO:-0500
TZNAME:EST
DTSTART:20231105T060000
END:STANDARD
BEGIN:DAYLIGHT
TZOFFSETFROM:-0500
TZOFFSETTO:-0400
TZNAME:EDT
DTSTART:20240310T070000
END:DAYLIGHT
BEGIN:STANDARD
TZOFFSETFROM:-0400
TZOFFSETTO:-0500
TZNAME:EST
DTSTART:20241103T060000
END:STANDARD
END:VTIMEZONE
BEGIN:VEVENT
DTSTART;TZID=America/New_York:20230828T000000
DTEND;TZID=America/New_York:20231121T235900
DTSTAMP:20260420T164056
CREATED:20240411T034039Z
LAST-MODIFIED:20240412T012014Z
UID:8771-1693180800-1700611140@ddrcommunity.com
SUMMARY:DDR Champions League 2023!
DESCRIPTION:We are excited to announce the first-ever “DDR Champions League”! This is a 3-player team tournament for DanceDanceRevolution that will be conducted remotely. Teams representing arcades all over the world are invited to compete in a battle for world DDR supremacy!The qualifying period for the tournament will begin Monday\, August 28th and end Sunday\, September 24th. The top teams will advance to the DDR Champions League Tournament\, a single-elimination bracket where champions will be crowned!\nTeams that do not qualify for the DDR Champions League Tournament will be seeded into alternate brackets that provide skill-appropriate competition\, to run concurrently with the Champions League Tournament. Each phase of the knockout rounds will last approximately two weeks.\nSupported software for the tournament include DDR A20 PLUS\, DDR A3\, and DDR GRAND PRIX. Please read the full rules of the tournament for full details (link provided below). We hope you enjoy the DDR Champions League!\nDDR Champions League homepage
URL:https://ddrcommunity.com/event/ddr-champions-league-2023/
LOCATION:Online
CATEGORIES:Online Tournaments,Tournaments
ATTACH;FMTTYPE=image/png:https://ddrcommunity.com/wp-content/uploads/2024/04/cllogo-nobg-WBPcJu.tmp_.png
ORGANIZER;CN="Logan Barnes":MAILTO:barnesl007@gmail.com
END:VEVENT
BEGIN:VEVENT
DTSTART;TZID=America/New_York:20231104T100000
DTEND;TZID=America/New_York:20231104T200000
DTSTAMP:20260420T164056
CREATED:20240411T033641Z
LAST-MODIFIED:20240411T041820Z
UID:8763-1699092000-1699128000@ddrcommunity.com
SUMMARY:San Jose Redux
DESCRIPTION:After many years since the last tournament at Eastridge Round 1\, we are happy to announce we are bringing back the first Dance Dance Revolution in Eastridge Round 1!For this first tournament back\, we will be running this on a smaller scale\, utilizing all 3 machines\, and on a single day. Whether you are looking to join the competition\, hone your preparation for Boba Cup 2\, or just want to hangout we hope to see you there!
URL:https://ddrcommunity.com/event/san-jose-redux/
LOCATION:Round 1 San Jose\, 2200 Eastridge Loop\, San Jose\, CA\, 95122\, United States
CATEGORIES:Tournaments
ATTACH;FMTTYPE=image/jpeg:https://ddrcommunity.com/wp-content/uploads/2023/10/SJ-Redux.jpg
ORGANIZER;CN="Romer Ibo":MAILTO:Ribo.2102@gmail.com
END:VEVENT
BEGIN:VEVENT
DTSTART;TZID=America/New_York:20231104T110000
DTEND;TZID=America/New_York:20231104T210000
DTSTAMP:20260420T164056
CREATED:20240411T033838Z
LAST-MODIFIED:20240411T041820Z
UID:8765-1699095600-1699131600@ddrcommunity.com
SUMMARY:Desert Journey II: A DanceDanceRevolution A3 Tournament
DESCRIPTION:The Journey Continues…Welcome to New Mexico’s Premiere DDR A3 Tournament! Started in 2018\, the Desert Journey tournament showcases the best players from all over New Mexico and the SouthWest Region. Come join is for a full day of competition with Lower’s AND Upper’s Division. Cash prizes for 1st\, 2nd\, 3rd\, and 4th Place for each division! 
URL:https://ddrcommunity.com/event/desert-journey-ii-a-dancedancerevolution-a3-tournament/
LOCATION:Round 1 Coronado Center\, Coronado Center Mall
CATEGORIES:Tournaments
ATTACH;FMTTYPE=image/jpeg:https://ddrcommunity.com/wp-content/uploads/2024/04/Tournament-Logo-scaled-ky61Ic.tmp_.jpg
END:VEVENT
BEGIN:VEVENT
DTSTART;TZID=America/New_York:20231111T000000
DTEND;TZID=America/New_York:20231112T235900
DTSTAMP:20260420T164056
CREATED:20240411T033839Z
LAST-MODIFIED:20240412T012041Z
UID:8766-1699660800-1699833540@ddrcommunity.com
SUMMARY:Game Underground Arcade Championship 7
DESCRIPTION:Game Underground is back with the 7th annual Game Underground Arcade Championship! GUAC is the name of our annual multi-game tournament which features mostly rhythm games. This year the event will run for two days on Saturday November 11th and Sunday November 12th!Here is the confirmed game list so far:\nSaturday November 11th \nDDR A20+ (lower bracket)\nPIU Phoenix\nSDVX Exceed Gear (2 cabinets)\nStepmaniaX\nthe mystery tournament \nSunday November 12th \nDDR A20+ (upper division)\nPop’n Music Kaimei Riddles\nO.N.G.E.K.I.\nIIDX\nJubeat Festo \nThank you in advance to all of the people who have volunteered to run tournaments or write rules: yoonjelly\, DeadCake\, Sigma\, Fluzzarn\, Rob\, olly\, Legion\, PK and Catastrophe.
URL:https://ddrcommunity.com/event/game-underground-arcade-championship-7/
LOCATION:Game Underground\, 349 Moody Street\, Waltham\, MA\, 02453\, United States
CATEGORIES:Tournaments
ATTACH;FMTTYPE=image/png:https://ddrcommunity.com/wp-content/uploads/2023/09/guac_7_square.png
ORGANIZER;CN="Allen Seitz":MAILTO:allenseitz@gmail.com
END:VEVENT
BEGIN:VEVENT
DTSTART;TZID=America/New_York:20231111T000000
DTEND;TZID=America/New_York:20231112T235900
DTSTAMP:20260420T164056
CREATED:20240411T033841Z
LAST-MODIFIED:20240412T011852Z
UID:8768-1699660800-1699833540@ddrcommunity.com
SUMMARY:Boba Cup 2
DESCRIPTION:
URL:https://ddrcommunity.com/event/boba-cup-2/
LOCATION:Factory Tea Bar\, San Gabriel\, CA
CATEGORIES:Tournaments
ATTACH;FMTTYPE=image/jpeg:https://ddrcommunity.com/wp-content/uploads/2024/04/F4a3T1mbkAQ7fVw-3rJWw7.tmp_.jpg
END:VEVENT
BEGIN:VEVENT
DTSTART;TZID=America/New_York:20231117T000000
DTEND;TZID=America/New_York:20231119T235900
DTSTAMP:20260420T164056
CREATED:20240411T033837Z
LAST-MODIFIED:20240412T011842Z
UID:8764-1700179200-1700438340@ddrcommunity.com
SUMMARY:Rumble in the Prairie 13.5
DESCRIPTION:Rumble in the Prairie is one of the world’s largest and longest-running ITG events\, with a focus on technical play in particular. We usually run multiple side brackets\, and we encourage participation from newcomers and veterans alike!Events this time around include: \nITG Tech Singles\nITG Girls’ Singles\nITG Couples\nITG Doubles\nMystery Bracket
URL:https://ddrcommunity.com/event/rumble-in-the-prairie-13-5/
LOCATION:Illini Union Ballroom\, 1401 W. Green St.\, Urbana\, IL\, 61801\, United States
CATEGORIES:Tournaments
ATTACH;FMTTYPE=image/png:https://ddrcommunity.com/wp-content/uploads/2024/04/rip13_banner2-5xDMrk.tmp_.png
END:VEVENT
END:VCALENDAR