BEGIN:VCALENDAR
VERSION:2.0
PRODID:-//DDRCommunity - ECPv6.15.14//NONSGML v1.0//EN
CALSCALE:GREGORIAN
METHOD:PUBLISH
X-WR-CALNAME:DDRCommunity
X-ORIGINAL-URL:https://ddrcommunity.com
X-WR-CALDESC:Events for DDRCommunity
REFRESH-INTERVAL;VALUE=DURATION:PT1H
X-Robots-Tag:noindex
X-PUBLISHED-TTL:PT1H
BEGIN:VTIMEZONE
TZID:America/Los_Angeles
BEGIN:DAYLIGHT
TZOFFSETFROM:-0800
TZOFFSETTO:-0700
TZNAME:PDT
DTSTART:20230312T100000
END:DAYLIGHT
BEGIN:STANDARD
TZOFFSETFROM:-0700
TZOFFSETTO:-0800
TZNAME:PST
DTSTART:20231105T090000
END:STANDARD
BEGIN:DAYLIGHT
TZOFFSETFROM:-0800
TZOFFSETTO:-0700
TZNAME:PDT
DTSTART:20240310T100000
END:DAYLIGHT
BEGIN:STANDARD
TZOFFSETFROM:-0700
TZOFFSETTO:-0800
TZNAME:PST
DTSTART:20241103T090000
END:STANDARD
BEGIN:DAYLIGHT
TZOFFSETFROM:-0800
TZOFFSETTO:-0700
TZNAME:PDT
DTSTART:20250309T100000
END:DAYLIGHT
BEGIN:STANDARD
TZOFFSETFROM:-0700
TZOFFSETTO:-0800
TZNAME:PST
DTSTART:20251102T090000
END:STANDARD
END:VTIMEZONE
BEGIN:VTIMEZONE
TZID:America/New_York
BEGIN:DAYLIGHT
TZOFFSETFROM:-0500
TZOFFSETTO:-0400
TZNAME:EDT
DTSTART:20230312T070000
END:DAYLIGHT
BEGIN:STANDARD
TZOFFSETFROM:-0400
TZOFFSETTO:-0500
TZNAME:EST
DTSTART:20231105T060000
END:STANDARD
BEGIN:DAYLIGHT
TZOFFSETFROM:-0500
TZOFFSETTO:-0400
TZNAME:EDT
DTSTART:20240310T070000
END:DAYLIGHT
BEGIN:STANDARD
TZOFFSETFROM:-0400
TZOFFSETTO:-0500
TZNAME:EST
DTSTART:20241103T060000
END:STANDARD
BEGIN:DAYLIGHT
TZOFFSETFROM:-0500
TZOFFSETTO:-0400
TZNAME:EDT
DTSTART:20250309T070000
END:DAYLIGHT
BEGIN:STANDARD
TZOFFSETFROM:-0400
TZOFFSETTO:-0500
TZNAME:EST
DTSTART:20251102T060000
END:STANDARD
END:VTIMEZONE
BEGIN:VTIMEZONE
TZID:America/Chicago
BEGIN:DAYLIGHT
TZOFFSETFROM:-0600
TZOFFSETTO:-0500
TZNAME:CDT
DTSTART:20230312T080000
END:DAYLIGHT
BEGIN:STANDARD
TZOFFSETFROM:-0500
TZOFFSETTO:-0600
TZNAME:CST
DTSTART:20231105T070000
END:STANDARD
BEGIN:DAYLIGHT
TZOFFSETFROM:-0600
TZOFFSETTO:-0500
TZNAME:CDT
DTSTART:20240310T080000
END:DAYLIGHT
BEGIN:STANDARD
TZOFFSETFROM:-0500
TZOFFSETTO:-0600
TZNAME:CST
DTSTART:20241103T070000
END:STANDARD
BEGIN:DAYLIGHT
TZOFFSETFROM:-0600
TZOFFSETTO:-0500
TZNAME:CDT
DTSTART:20250309T080000
END:DAYLIGHT
BEGIN:STANDARD
TZOFFSETFROM:-0500
TZOFFSETTO:-0600
TZNAME:CST
DTSTART:20251102T070000
END:STANDARD
END:VTIMEZONE
BEGIN:VEVENT
DTSTART;VALUE=DATE:20240501
DTEND;VALUE=DATE:20240811
DTSTAMP:20260420T025142
CREATED:20240517T175602Z
LAST-MODIFIED:20240517T175602Z
UID:11036-1714521600-1723334399@ddrcommunity.com
SUMMARY:SoCal Stage '24 (DRS Tournament)
DESCRIPTION:This FREE\, hybrid-format tournament welcomes all DANCERUSH STARDOM (DRS) players from all countries and regions\, regardless of their physical attributes or experiences. \nThe Online Qualifier phase will determine the eight finalists for the In-Person Finals. Contestants will record their performance during their own time and submit the video online for judging. However\, if you advance as one of the eight finalists\, you MUST be able to physically attend the In-Person Finals located at Round1 Puente Hills Mall. (Rowland Heights\, California\, United States) \nRules can be read here: https://drive.google.com/file/d/1pCfYSvJONNHEA8XkUo-4Ri3LAUcyRKy7/view \nOnline submission Google Form: https://forms.gle/K1h8gMRs4DRTeKWb7 \nGoFundMe page: https://gofund.me/8da14af4 \nPlease join our Discord server for the newest updates! Thank you\, and Good Luck!!
URL:https://ddrcommunity.com/event/socal-stage-24-drs-tournament/
LOCATION:Round1 Puente Hills Mall\, 1600 S Azusa Ave #285\, Rowland Heights\, CA\, 91748\, United States
CATEGORIES:Online Tournaments,Tournaments
ATTACH;FMTTYPE=image/png:https://ddrcommunity.com/wp-content/uploads/2024/05/logo-black-background-small-banner.png
END:VEVENT
BEGIN:VEVENT
DTSTART;VALUE=DATE:20240809
DTEND;VALUE=DATE:20240812
DTSTAMP:20260420T025142
CREATED:20240421T015735Z
LAST-MODIFIED:20240421T015735Z
UID:10491-1723161600-1723420799@ddrcommunity.com
SUMMARY:Beast in the East 7
DESCRIPTION:Beast in the East or BITE is Hampton Roads largest gaming festival. BITE is focused on bringing a unique event to provide a place for people to enjoy their favorite games\, meet new communities\, discover new interest\, jam out to amazing performances\, buy one of a kind gaming merch from vendors\, and most importantly create long lasting memories along the way! \nDance game tournaments will include \n\nPump It Up (Phoenix)\nStepManiaX\nIn The Groove\nDance Dance Revolution (A20+)As well as panels\, vendors\, and free to play rhythm games all weekend!
URL:https://ddrcommunity.com/event/beast-in-the-east-7/
LOCATION:Hampton Roads Convention Center\, 1610 Coliseum Dr\, Hampton\, VA\, 23666\, United States
CATEGORIES:Tournaments
ATTACH;FMTTYPE=image/png:https://ddrcommunity.com/wp-content/uploads/2024/04/BITE7.png
END:VEVENT
BEGIN:VEVENT
DTSTART;TZID=America/Chicago:20240824T120000
DTEND;TZID=America/Chicago:20240825T183000
DTSTAMP:20260420T025142
CREATED:20240503T001528Z
LAST-MODIFIED:20240503T001528Z
UID:10740-1724500800-1724610600@ddrcommunity.com
SUMMARY:SHINE Invitational
DESCRIPTION:SHINE is an invitational event intended to provide some of the top ITG players in the US with the opportunity to compete against each other in a small and relaxed tournament setting. \nDue to the personal nature of the location and very limited maximum occupancy restriction of the venue\, on-site spectator invitations are extremely limited. The event will be streamed and details will be released closer to the event. Thank you for your understanding!
URL:https://ddrcommunity.com/event/shine-invitational/
LOCATION:Private Venue
CATEGORIES:Tournaments
ATTACH;FMTTYPE=image/png:https://ddrcommunity.com/wp-content/uploads/2024/05/Untitled-1-Recovered-Recovered@0.75x.png
END:VEVENT
END:VCALENDAR