BEGIN:VCALENDAR
VERSION:2.0
PRODID:-//DDRCommunity - ECPv6.15.14//NONSGML v1.0//EN
CALSCALE:GREGORIAN
METHOD:PUBLISH
X-ORIGINAL-URL:https://ddrcommunity.com
X-WR-CALDESC:Events for DDRCommunity
REFRESH-INTERVAL;VALUE=DURATION:PT1H
X-Robots-Tag:noindex
X-PUBLISHED-TTL:PT1H
BEGIN:VTIMEZONE
TZID:Africa/Johannesburg
BEGIN:STANDARD
TZOFFSETFROM:+0200
TZOFFSETTO:+0200
TZNAME:SAST
DTSTART:20240101T000000
END:STANDARD
END:VTIMEZONE
BEGIN:VTIMEZONE
TZID:Europe/Madrid
BEGIN:DAYLIGHT
TZOFFSETFROM:+0100
TZOFFSETTO:+0200
TZNAME:CEST
DTSTART:20240331T010000
END:DAYLIGHT
BEGIN:STANDARD
TZOFFSETFROM:+0200
TZOFFSETTO:+0100
TZNAME:CET
DTSTART:20241027T010000
END:STANDARD
BEGIN:DAYLIGHT
TZOFFSETFROM:+0100
TZOFFSETTO:+0200
TZNAME:CEST
DTSTART:20250330T010000
END:DAYLIGHT
BEGIN:STANDARD
TZOFFSETFROM:+0200
TZOFFSETTO:+0100
TZNAME:CET
DTSTART:20251026T010000
END:STANDARD
BEGIN:DAYLIGHT
TZOFFSETFROM:+0100
TZOFFSETTO:+0200
TZNAME:CEST
DTSTART:20260329T010000
END:DAYLIGHT
BEGIN:STANDARD
TZOFFSETFROM:+0200
TZOFFSETTO:+0100
TZNAME:CET
DTSTART:20261025T010000
END:STANDARD
END:VTIMEZONE
BEGIN:VTIMEZONE
TZID:America/New_York
BEGIN:DAYLIGHT
TZOFFSETFROM:-0500
TZOFFSETTO:-0400
TZNAME:EDT
DTSTART:20240310T070000
END:DAYLIGHT
BEGIN:STANDARD
TZOFFSETFROM:-0400
TZOFFSETTO:-0500
TZNAME:EST
DTSTART:20241103T060000
END:STANDARD
BEGIN:DAYLIGHT
TZOFFSETFROM:-0500
TZOFFSETTO:-0400
TZNAME:EDT
DTSTART:20250309T070000
END:DAYLIGHT
BEGIN:STANDARD
TZOFFSETFROM:-0400
TZOFFSETTO:-0500
TZNAME:EST
DTSTART:20251102T060000
END:STANDARD
BEGIN:DAYLIGHT
TZOFFSETFROM:-0500
TZOFFSETTO:-0400
TZNAME:EDT
DTSTART:20260308T070000
END:DAYLIGHT
BEGIN:STANDARD
TZOFFSETFROM:-0400
TZOFFSETTO:-0500
TZNAME:EST
DTSTART:20261101T060000
END:STANDARD
END:VTIMEZONE
BEGIN:VEVENT
DTSTART;TZID=Africa/Johannesburg:20250501T100000
DTEND;TZID=Africa/Johannesburg:20250504T190000
DTSTAMP:20260419T123247
CREATED:20250312T233432Z
LAST-MODIFIED:20250312T233432Z
UID:15398-1746093600-1746385200@ddrcommunity.com
SUMMARY:Otaku Arcade Extravaganza 2 ¦ CCCT25'
DESCRIPTION:Comic Con Cape Town returns with South Africa’s largest dance gaming event once more and just around the corner! Otaku Arcade Extravaganza 2 will be held on 1-4th May at the Cape Town international convention centre 2.\n\n \nParticipation for both competition and free play requires no entry fee! A monetized cash prize pool of R6750 will be included for the competition segment for this event with prizes as well for all divisions assessed on: Beginner’s division\, Intermediate’s division and advance division. You can register online or in person if you wish to compete (no registration required for free play). Keep yourself up to date with more on this event’s information on the Simply African EVOLVED 1949 Instagram & Youtube channel.\n \nWe are looking forward to you all to come and dance with us!!\n– Tournament’s online registration: https://docs.google.com/forms/d/e/1FAIpQLSck0UcW2bGT8HvbDKHpbT19fPGkZ88quIvzuum9Df3Pg39ARA/viewform?usp=preview\n– Tournament’s Rulebook: https://docs.google.com/document/d/18atDa6ysiakMNxYmxTZeOEMcf5RNqG–kzt9DBx2Zvg/edit?tab=t.0
URL:https://ddrcommunity.com/event/otaku-arcade-extravaganza-2-%c2%a6-ccct25/
LOCATION:CTICC 2\, Cape Town\, CORNER OF HEERENGRACHT STREET & RUA BARTHOLOMEU DIAS\, FORESHORE\, CAPE TOWN
CATEGORIES:Tournaments
ATTACH;FMTTYPE=image/jpeg:https://ddrcommunity.com/wp-content/uploads/2025/03/Picsart_25-02-15_12-48-04-262-1.jpg
ORGANIZER;CN="SimplyAfricanEVOLVED1949":MAILTO:SimplyAfricanEVOLVED1949@gmail.com
END:VEVENT
BEGIN:VEVENT
DTSTART;VALUE=DATE:20250502
DTEND;VALUE=DATE:20250503
DTSTAMP:20260419T123247
CREATED:20250403T225757Z
LAST-MODIFIED:20250403T225757Z
UID:15710-1746144000-1746230399@ddrcommunity.com
SUMMARY:DDR SPRING BLOOM TOURNAMENT
DESCRIPTION:🎶🏆 DDR Spring Bloom Tournament 2025 is here! 🏆🎶 \n🌸 Date: May 2\, 2025 \n📍 Location: Nextage Madrid \n⏰ Doors open: 10:00 AM | Tournament starts: 11:00 AM \n🔥 Format: Double elimination with a preliminary group stage. \n🎯 Pre-qualification: \nFrom April 1 to May 1\, play 5 spring-themed songs and submit your best scores. \nThe top 16 will advance directly to the elimination stage. \nThe rest can qualify by playing an Expert 9-level song on the event day. \n📌 For more information\, updates\, and score submission\, join the Rhythm Masters group: https://t.me/+2sMmXVNAtK05OTNk \n📜 Full rules available on the group. \n📝 Sign up here: https://forms.gle/QRVQ7UKgHwUGaEXH7 \nSee you on the dance floor! 💃🔥 \n 
URL:https://ddrcommunity.com/event/ddr-spring-bloom-tournament/
LOCATION:Nextage Madrid
CATEGORIES:Tournaments
ATTACH;FMTTYPE=image/jpeg:https://ddrcommunity.com/wp-content/uploads/2025/04/IMG_20250401_071040_705.jpg
ORGANIZER;CN="Rhythm Masters":MAILTO:Rhythmasters573@gmail.com
END:VEVENT
BEGIN:VEVENT
DTSTART;VALUE=DATE:20250517
DTEND;VALUE=DATE:20250518
DTSTAMP:20260419T123247
CREATED:20250328T135558Z
LAST-MODIFIED:20250328T135558Z
UID:15570-1747440000-1747526399@ddrcommunity.com
SUMMARY:Technicality 2025
DESCRIPTION:Hello and welcome to Technicality 2025\, hosted by the FFAAMM House! If you didn’t know\, Fun Food And Also Music Mansion is a DIY house venue for concerts and gaming. Join us for the inaugural dedicated game night for Smash Bros. Melee\, DDR Extreme Pro and In The Groove! \nThe night will conclude with some chill live music and open mic! \nIn addition to the tournaments\, there will be burgers/dogs and veggie options grilling in the backyard\, and a diversity of beverage offerings! That being the case\, this is a 21+ event. \nYou can check out examples of the house venue and past events at the Instagram page!
URL:https://ddrcommunity.com/event/technicality-2025/
LOCATION:Fun Food And Also Music Mansion\, 1919 N Monticello Ave\, Chicago\, IL\, 60647\, United States
CATEGORIES:Concerts,Tournaments
ATTACH;FMTTYPE=image/jpeg:https://ddrcommunity.com/wp-content/uploads/2025/03/technicality_startggbanner_final.jpg
END:VEVENT
BEGIN:VEVENT
DTSTART;VALUE=DATE:20250517
DTEND;VALUE=DATE:20250518
DTSTAMP:20260419T123247
CREATED:20250410T223523Z
LAST-MODIFIED:20250410T223523Z
UID:15803-1747440000-1747526399@ddrcommunity.com
SUMMARY:Rhythm Riot
DESCRIPTION:For the first time in over 10 years\, New York City is hosting a public DDR tournament\, and we’re doing it grassroots style – raw\, loud\, and powered by the community that never stopped stepping. Rhythm Riot is a grassroots event built by the local community\, for the community. No sponsors\, no big stage – just real players\, real competition\, and a city that’s long overdue for a serious dance game event. This isn’t just a tournament – it’s a comeback. This is for the OGs who remember the glory days of Chinatown Fair\, the newcomers training on Stepmania pads in their bedrooms\, and every player in between. We’re bringing the arcade energy back to where it belongs: the heart of NYC. Pure rhythm game passion. Whether you’re in it to win it or just want to watch the city’s finest tear it up\, Rhythm Riot is where you need to be. Let’s make noise. Let’s make history. The silence is over. The floor is yours.
URL:https://ddrcommunity.com/event/rhythm-riot/
LOCATION:Bohemian Hall Beer Garden\, 29-19 24th Ave\, Astoria\, NY\, NY\, 11105\, United States
CATEGORIES:Tournaments
ATTACH;FMTTYPE=image/png:https://ddrcommunity.com/wp-content/uploads/2025/04/banner-copy.png
ORGANIZER;CN="Baptiste Lavielle":MAILTO:baptiste.lavielle@gmail.com
END:VEVENT
BEGIN:VEVENT
DTSTART;TZID=America/New_York:20250522T140000
DTEND;TZID=America/New_York:20250525T170000
DTSTAMP:20260419T123247
CREATED:20250405T210655Z
LAST-MODIFIED:20250405T210655Z
UID:15751-1747922400-1748192400@ddrcommunity.com
SUMMARY:MomoCon 2025: Rhythm Bash
DESCRIPTION:Atlanta’s largest arcade rhythm gaming event returns to MomoCon 2025 in Atlanta\, GA\, USA!
URL:https://ddrcommunity.com/event/momocon-2025-rhythm-bash/
LOCATION:Georgia World Congress Center Authority\, 285 Andrew Young International Blvd NW\, Atlanta\, GA\, 30313\, United States
CATEGORIES:Tournaments
ATTACH;FMTTYPE=image/png:https://ddrcommunity.com/wp-content/uploads/2025/04/promofinal.png
ORGANIZER;CN="Vincent Kim":MAILTO:mailto:musicgamesatl@gmail.com
END:VEVENT
BEGIN:VEVENT
DTSTART;TZID=America/New_York:20250530T110000
DTEND;TZID=America/New_York:20250601T200000
DTSTAMP:20260419T123247
CREATED:20250505T013555Z
LAST-MODIFIED:20250505T013555Z
UID:24678-1748602800-1748808000@ddrcommunity.com
SUMMARY:Stamina Jawn
DESCRIPTION:STAMINA JAWN \nhttps://staminajawn.groovestats.com/ \nAfter six years off from live events\, in collaboration with quietly-turning and the PGH Dance Game Space\, I’m running a new stamina event: Stamina Jawn! \nI’ve been holding off since the first Stamina Con due to reasons ranging from Covid happening\, format concerns with the proliferation of highly personally tuned private setups detracting from player experience when competing live on stamina content\, the escalating cost of renting space for a competition\, the increased scope of my work relating to online events\, and so on\, but I’ve narrowed in on an event concept and location that I think will satisfy my concerns as well as being fun for the community! \nWHEN:\nMay 30th-June 1st 2025 \nWHERE:\nPGH Dance Game Space (address available on Stamina Jawn site after signing up)\nPittsburgh\, PA \nWalkthrough of the space:\n \nLonger form video about it:\n \nWHAT:\nStamina Jawn is an opportunity for players to come together in person and do their East Coast Stamina 13.5 sets live (credit to titandude for suggesting this concept originally). Attendance is capped at 90 people\, with a maximum of 20 teams. \nYou can read up on East Coast Stamina 13.5 here:\nhttps://ecs135.groovestats.com/ \nSingles and Doubles teams on both ITG and Pump are welcome to enter\, though sign-ups will be first come first serve. \nDepending on the setup you sign up for\, you may also be able to bring your own pad if you want! \nEach team will get a 5 hour block on the schedule (one hour of pad modding/warming up + 4 hours of Raw Output)\, and there will be 2.5 hour time slots available for any teams that want to do the full splits as well (one hour of pad modding + 1.5 hours for the full marathon attempt). \nSolo teams won’t be allowed to register for a place on the schedule– as much as I encourage people trying the .5 events solo\, the point of Stamina Jawn is to bring teams together. However\, a limited amount of people will be able to register to hang out/spectate\, depending on the number of teams that decide to compete and their composition (having more teams of two rather than teams of three obviously would allow for more non-competitors). \nOutside of the core time slots for Raw Output and Marathon attempts\, the machines will be free to use for anyone who wants to play\, with priority given to players who have marathon splits they want to attempt.
URL:https://ddrcommunity.com/event/stamina-jawn/
LOCATION:PGH Dance Game Space\, Pittsburgh\, PA\, United States
CATEGORIES:Meetups,Tournaments
ATTACH;FMTTYPE=image/png:https://ddrcommunity.com/wp-content/uploads/2025/05/sj-invite-logo-scaled.png
END:VEVENT
END:VCALENDAR