BEGIN:VCALENDAR
VERSION:2.0
PRODID:-//DDRCommunity - ECPv6.15.14//NONSGML v1.0//EN
CALSCALE:GREGORIAN
METHOD:PUBLISH
X-ORIGINAL-URL:https://ddrcommunity.com
X-WR-CALDESC:Events for DDRCommunity
REFRESH-INTERVAL;VALUE=DURATION:PT1H
X-Robots-Tag:noindex
X-PUBLISHED-TTL:PT1H
BEGIN:VTIMEZONE
TZID:Europe/Rome
BEGIN:DAYLIGHT
TZOFFSETFROM:+0100
TZOFFSETTO:+0200
TZNAME:CEST
DTSTART:20240331T010000
END:DAYLIGHT
BEGIN:STANDARD
TZOFFSETFROM:+0200
TZOFFSETTO:+0100
TZNAME:CET
DTSTART:20241027T010000
END:STANDARD
BEGIN:DAYLIGHT
TZOFFSETFROM:+0100
TZOFFSETTO:+0200
TZNAME:CEST
DTSTART:20250330T010000
END:DAYLIGHT
BEGIN:STANDARD
TZOFFSETFROM:+0200
TZOFFSETTO:+0100
TZNAME:CET
DTSTART:20251026T010000
END:STANDARD
BEGIN:DAYLIGHT
TZOFFSETFROM:+0100
TZOFFSETTO:+0200
TZNAME:CEST
DTSTART:20260329T010000
END:DAYLIGHT
BEGIN:STANDARD
TZOFFSETFROM:+0200
TZOFFSETTO:+0100
TZNAME:CET
DTSTART:20261025T010000
END:STANDARD
END:VTIMEZONE
BEGIN:VTIMEZONE
TZID:Africa/Johannesburg
BEGIN:STANDARD
TZOFFSETFROM:+0200
TZOFFSETTO:+0200
TZNAME:SAST
DTSTART:20240101T000000
END:STANDARD
END:VTIMEZONE
BEGIN:VTIMEZONE
TZID:America/New_York
BEGIN:DAYLIGHT
TZOFFSETFROM:-0500
TZOFFSETTO:-0400
TZNAME:EDT
DTSTART:20240310T070000
END:DAYLIGHT
BEGIN:STANDARD
TZOFFSETFROM:-0400
TZOFFSETTO:-0500
TZNAME:EST
DTSTART:20241103T060000
END:STANDARD
BEGIN:DAYLIGHT
TZOFFSETFROM:-0500
TZOFFSETTO:-0400
TZNAME:EDT
DTSTART:20250309T070000
END:DAYLIGHT
BEGIN:STANDARD
TZOFFSETFROM:-0400
TZOFFSETTO:-0500
TZNAME:EST
DTSTART:20251102T060000
END:STANDARD
BEGIN:DAYLIGHT
TZOFFSETFROM:-0500
TZOFFSETTO:-0400
TZNAME:EDT
DTSTART:20260308T070000
END:DAYLIGHT
BEGIN:STANDARD
TZOFFSETFROM:-0400
TZOFFSETTO:-0500
TZNAME:EST
DTSTART:20261101T060000
END:STANDARD
END:VTIMEZONE
BEGIN:VEVENT
DTSTART;VALUE=DATE:20250705
DTEND;VALUE=DATE:20250707
DTSTAMP:20260419T092343
CREATED:20250222T211623Z
LAST-MODIFIED:20250222T211623Z
UID:14809-1751673600-1751846399@ddrcommunity.com
SUMMARY:ITG Eurocup 2025
DESCRIPTION:ITG Eurocup is an event that aims to bring together all european communities and fans of In The Groove from all over! \nHere’s a quick summary of the event. If you want in depth info\, check out this player’s handbook \n• 2-day event in the south of Italy at a very nice arcade\, “Crazy Games”\, which will provide all the ITG cabs and some more bemani as well\n• inclusive tournament with several divisions to accommodate for all skill levels\, from hardcore veterans to newbie players\n• modern ITGmania cabinets with link mode allowing 4 cabinets connected over LAN – 8 players at once!\n• special events on day 2 focused on single themes\, eg. hard tech and stamina\n• competitive pricing (early registration is only 20€) and several discounts on credits and food provided to attendees\n• location is in a touristy part of the country\, with a lot of things to see and some of the best beaches in Europe nearby
URL:https://ddrcommunity.com/event/itg-eurocup-2025/
LOCATION:Crazy Games – Surbo\, Via Rosanna Benzi 2/C\, Surbo\, Lecce\, 73010\, Italy
CATEGORIES:Tournaments
ATTACH;FMTTYPE=image/jpeg:https://ddrcommunity.com/wp-content/uploads/2025/02/annuncio_Tavola_disegno_1_copia.jpg
ORGANIZER;CN="Marco Ruggiero":MAILTO:marco.ruggero@gmail.com
END:VEVENT
BEGIN:VEVENT
DTSTART;TZID=Africa/Johannesburg:20250710T080000
DTEND;TZID=Africa/Johannesburg:20250713T200000
DTSTAMP:20260419T092343
CREATED:20250710T005619Z
LAST-MODIFIED:20250710T005758Z
UID:34395-1752134400-1752436800@ddrcommunity.com
SUMMARY:AGC Synth Wars
DESCRIPTION:ACGL is in collaboration with Simply African EVOLVED 1949 to bring you their very first dance gaming tournament—a thrilling tournament for competitive players and a fun-filled dance-off for friends and family looking to break into the ice!! 💃⬅⬇⬆➡🕺 \nGet ready to compete for exciting monetized voucher-based prizes sponsored by ACGL 💰\, exclusively awarded to the First Place winners🏆 in each division post the grand finale for the open-public event:\n(This opportunity will not be available for the interschools) \n– Beginners Division🥇 (Footer 1-4 = DDR level 1-6)\n– Intermediate Division🥇 (Footer 4-9 = DDR level 6-13)\n– Advanced Division🥇 (Footer 8-11 = DDR level 12-17) \nHowever\, the Top 3 finalists in every division will receive special certificates of achievement in recognition of their accomplishments on their performances post grand finale! ✊ \n✨AGC Synth Wars✨ will take place from 10–13 July at the Market Hall\, GrandWest Casino & Entertainment World. \nCome and witness who will rise to claim the titles and take home victory in this ultimate dance gaming battle arena!! 🔥🔥🔥 \nhttps://www.youtube.com/watch?v=JCD0mlt2axY
URL:https://ddrcommunity.com/event/agc-synth-wars/
LOCATION:Grandwest Casino & Entertainment Centre\, 1 Jakes Gerwel Dr\, Goodwood\, Cape Town\, Western Cape\, 7460\, South Africa
CATEGORIES:Tournaments
ATTACH;FMTTYPE=image/jpeg:https://ddrcommunity.com/wp-content/uploads/2025/07/agc-synth-thumbnail.jpg
ORGANIZER;CN="SimplyAfricanEVOLVED1949":MAILTO:SimplyAfricanEVOLVED1949@gmail.com
END:VEVENT
BEGIN:VEVENT
DTSTART;VALUE=DATE:20250725
DTEND;VALUE=DATE:20250727
DTSTAMP:20260419T092343
CREATED:20250603T030410Z
LAST-MODIFIED:20250603T030410Z
UID:25123-1753401600-1753574399@ddrcommunity.com
SUMMARY:Midsummer Melody 2: Quest for the Throne
DESCRIPTION:HEAR YE\, HEAR YE! A new chapter unfolds in our tale…and the quest for the throne awaits! The second annual Midsummer Melody returns for a weekend of legendary dance game competitions\, festive gatherings\, and summer celebration. This time around\, our realm has expanded to several new events\, games and more for you to explore. In this royal battle of the ages\, brave contenders shall compete for glory in: \n\nDance Dance Revolution World – Singles\, Doubles & Women’s/Non-Binary\,\nStepManiaX – Open & Women’s/Non-Binary\,\nPump It Up – Open & Women’s/Non-Binary\,\nSound Voltex\,\nBeatmania IIDX\,\nDance Rush\,\n\nThe trials\, however\, do not end here… Hidden throughout the weekend are special side quests for those eager to complete magical mini-challenges. Beyond the battlefield\, noble adventurers can also gather at one of three weekend activities — from a delicious feast to a beach bazaar! Your adventure is just getting started. Sign up today to secure your spot in the royal competition!
URL:https://ddrcommunity.com/event/midsummer-melody-2-quest-for-the-throne/
LOCATION:Round1 Great Lakes Crossing\, 4000 Baldwin Rd\, Auburn Hills\, 48326\, United States
CATEGORIES:Tournaments
ATTACH;FMTTYPE=image/jpeg:https://ddrcommunity.com/wp-content/uploads/2025/06/Midsummer-Melody-2025.jpg
END:VEVENT
END:VCALENDAR