BEGIN:VCALENDAR
VERSION:2.0
PRODID:-//DDRCommunity - ECPv6.15.14//NONSGML v1.0//EN
CALSCALE:GREGORIAN
METHOD:PUBLISH
X-WR-CALNAME:DDRCommunity
X-ORIGINAL-URL:https://ddrcommunity.com
X-WR-CALDESC:Events for DDRCommunity
REFRESH-INTERVAL;VALUE=DURATION:PT1H
X-Robots-Tag:noindex
X-PUBLISHED-TTL:PT1H
BEGIN:VTIMEZONE
TZID:Europe/Amsterdam
BEGIN:DAYLIGHT
TZOFFSETFROM:+0100
TZOFFSETTO:+0200
TZNAME:CEST
DTSTART:20250330T010000
END:DAYLIGHT
BEGIN:STANDARD
TZOFFSETFROM:+0200
TZOFFSETTO:+0100
TZNAME:CET
DTSTART:20251026T010000
END:STANDARD
BEGIN:DAYLIGHT
TZOFFSETFROM:+0100
TZOFFSETTO:+0200
TZNAME:CEST
DTSTART:20260329T010000
END:DAYLIGHT
BEGIN:STANDARD
TZOFFSETFROM:+0200
TZOFFSETTO:+0100
TZNAME:CET
DTSTART:20261025T010000
END:STANDARD
BEGIN:DAYLIGHT
TZOFFSETFROM:+0100
TZOFFSETTO:+0200
TZNAME:CEST
DTSTART:20270328T010000
END:DAYLIGHT
BEGIN:STANDARD
TZOFFSETFROM:+0200
TZOFFSETTO:+0100
TZNAME:CET
DTSTART:20271031T010000
END:STANDARD
END:VTIMEZONE
BEGIN:VTIMEZONE
TZID:America/New_York
BEGIN:DAYLIGHT
TZOFFSETFROM:-0500
TZOFFSETTO:-0400
TZNAME:EDT
DTSTART:20250309T070000
END:DAYLIGHT
BEGIN:STANDARD
TZOFFSETFROM:-0400
TZOFFSETTO:-0500
TZNAME:EST
DTSTART:20251102T060000
END:STANDARD
BEGIN:DAYLIGHT
TZOFFSETFROM:-0500
TZOFFSETTO:-0400
TZNAME:EDT
DTSTART:20260308T070000
END:DAYLIGHT
BEGIN:STANDARD
TZOFFSETFROM:-0400
TZOFFSETTO:-0500
TZNAME:EST
DTSTART:20261101T060000
END:STANDARD
BEGIN:DAYLIGHT
TZOFFSETFROM:-0500
TZOFFSETTO:-0400
TZNAME:EDT
DTSTART:20270314T070000
END:DAYLIGHT
BEGIN:STANDARD
TZOFFSETFROM:-0400
TZOFFSETTO:-0500
TZNAME:EST
DTSTART:20271107T060000
END:STANDARD
END:VTIMEZONE
BEGIN:VEVENT
DTSTART;VALUE=DATE:20260611
DTEND;VALUE=DATE:20260615
DTSTAMP:20260419T190813
CREATED:20251114T152640Z
LAST-MODIFIED:20251114T152640Z
UID:37245-1781136000-1781481599@ddrcommunity.com
SUMMARY:ITG Eurocup 2026
DESCRIPTION:Dear players\, \nThis year we had a great time at the European In The Groove Cup in Italy\, big thanks to the great community over there. \nThe last time team Netherlands organized this event was in 2018\, since then a lot has happened and next year we’ll be hosting it again. New players\, new venue\, new charts and more cabs! There’s a lot of space for this event to be the best we’ve done yet. \nHere’s what we can share so far: \n\nDate: From Thursday June 11th – 2026 to Sunday June 14th 2026\nThere will a Stamina and a Tech category (amongst others)\nThe venue will be Pixel Arcade located in Den Bosch (https://pixelarcade.nl/)\nThe whole venue is booked for just us\, which means freeplay is included in your ticket\nWe’re aiming for 3 dedicabs and 2 upgrades\n\nMore information will follow soon. You can join the discord to stay up to date: https://discord.gg/nMYvzJqCvN \nYou can also take a look at the webpage: http://itgeurocup.com
URL:https://ddrcommunity.com/event/itg-eurocup-2026/
LOCATION:Pixel Arcade\, Tramkade 18\, Den Bosch\, Braband\, 5211 VB\, Netherlands
CATEGORIES:Tournaments
ATTACH;FMTTYPE=image/jpeg:https://ddrcommunity.com/wp-content/uploads/2025/11/post.jpg
END:VEVENT
BEGIN:VEVENT
DTSTART;VALUE=DATE:20260613
DTEND;VALUE=DATE:20260614
DTSTAMP:20260419T190813
CREATED:20260130T134914Z
LAST-MODIFIED:20260130T134914Z
UID:38955-1781308800-1781395199@ddrcommunity.com
SUMMARY:Go West 2: Speedrave
DESCRIPTION:Go West returns bigger and better in 2026! Featuring tournaments for DDR\, PIU\, SMX\, IIDX\, and SDVX! This event will take place on June 13th\, 2026 at Round1 Fairfield Commons in Beavercreek\, OH. Interested? Join our server for more details as they are released!
URL:https://ddrcommunity.com/event/go-west-2-speedrave/
LOCATION:Round1 Fairfield Commons\, 2727 Fairfield Commons Blvd\, Beavercreek\, OH 45431
CATEGORIES:Tournaments
ATTACH;FMTTYPE=image/png:https://ddrcommunity.com/wp-content/uploads/2026/01/splash-screen.png
END:VEVENT
BEGIN:VEVENT
DTSTART;VALUE=DATE:20260710
DTEND;VALUE=DATE:20260713
DTSTAMP:20260419T190813
CREATED:20260325T000818Z
LAST-MODIFIED:20260325T000818Z
UID:56895-1783641600-1783900799@ddrcommunity.com
SUMMARY:ROOTS26
DESCRIPTION:OhioDDR presents ROOTS26: a celebration of the people within our community who create a safe and welcoming space for building up every player. We’re going back to our roots\, offering social-focused community events all weekend\, friendly for players of all experience levels.
URL:https://ddrcommunity.com/event/roots26/
LOCATION:Round1 Great Lakes Mall\, 7850 Mentor Ave.\, Mentor\, 44060\, United States
CATEGORIES:Meetups,Tournaments
ATTACH;FMTTYPE=image/png:https://ddrcommunity.com/wp-content/uploads/2026/03/scott-the-woz-please-come.png
ORGANIZER;CN="OhioDDR":MAILTO:ohioddr@gmail.com
END:VEVENT
END:VCALENDAR