BEGIN:VCALENDAR
VERSION:2.0
PRODID:-//DDRCommunity - ECPv6.15.14//NONSGML v1.0//EN
CALSCALE:GREGORIAN
METHOD:PUBLISH
X-WR-CALNAME:DDRCommunity
X-ORIGINAL-URL:https://ddrcommunity.com
X-WR-CALDESC:Events for DDRCommunity
REFRESH-INTERVAL;VALUE=DURATION:PT1H
X-Robots-Tag:noindex
X-PUBLISHED-TTL:PT1H
BEGIN:VTIMEZONE
TZID:America/New_York
BEGIN:DAYLIGHT
TZOFFSETFROM:-0500
TZOFFSETTO:-0400
TZNAME:EDT
DTSTART:20230312T070000
END:DAYLIGHT
BEGIN:STANDARD
TZOFFSETFROM:-0400
TZOFFSETTO:-0500
TZNAME:EST
DTSTART:20231105T060000
END:STANDARD
BEGIN:DAYLIGHT
TZOFFSETFROM:-0500
TZOFFSETTO:-0400
TZNAME:EDT
DTSTART:20240310T070000
END:DAYLIGHT
BEGIN:STANDARD
TZOFFSETFROM:-0400
TZOFFSETTO:-0500
TZNAME:EST
DTSTART:20241103T060000
END:STANDARD
BEGIN:DAYLIGHT
TZOFFSETFROM:-0500
TZOFFSETTO:-0400
TZNAME:EDT
DTSTART:20250309T070000
END:DAYLIGHT
BEGIN:STANDARD
TZOFFSETFROM:-0400
TZOFFSETTO:-0500
TZNAME:EST
DTSTART:20251102T060000
END:STANDARD
END:VTIMEZONE
BEGIN:VEVENT
DTSTART;TZID=America/New_York:20240303T080000
DTEND;TZID=America/New_York:20240421T235500
DTSTAMP:20260420T044144
CREATED:20240411T033619Z
LAST-MODIFIED:20240411T041817Z
UID:8752-1709452800-1713743700@ddrcommunity.com
SUMMARY:Valkyrie Arena
DESCRIPTION:Valkyrie is a team-based Women’s DDR tournament where you are matched with a rival. You will be placed on either the “Light” or “Dark” team\, and earn points with your teammates.How does it work?\nYou can read the full rules on our website: http://www.valkyriedimension.com/valkyrie-arena-2024/ But\, here’s a quick breakdown: \nQualifiers will place you on a team against a rival.\nYou will receive 2 personalized song sets within your skill range to play versus your rival over the play period.\nEarn points by playing! There are more ways to earn points besides beating your rival.\nTeam with the highest points wins! \nDiscord: https://discord.gg/GssF2mt7U7\nGender Inclusion Statement: http://www.valkyriedimension.com/gender-inclusion-statement/
URL:https://ddrcommunity.com/event/valkyrie-arena/
CATEGORIES:Online Tournaments
ATTACH;FMTTYPE=image/gif:https://ddrcommunity.com/wp-content/uploads/2024/04/ARENA-quals-2024-1000-MCWa17.tmp_.gif
END:VEVENT
END:VCALENDAR