BEGIN:VCALENDAR
VERSION:2.0
PRODID:-//DDRCommunity - ECPv6.15.14//NONSGML v1.0//EN
CALSCALE:GREGORIAN
METHOD:PUBLISH
X-ORIGINAL-URL:https://ddrcommunity.com
X-WR-CALDESC:Events for DDRCommunity
REFRESH-INTERVAL;VALUE=DURATION:PT1H
X-Robots-Tag:noindex
X-PUBLISHED-TTL:PT1H
BEGIN:VTIMEZONE
TZID:America/Los_Angeles
BEGIN:DAYLIGHT
TZOFFSETFROM:-0800
TZOFFSETTO:-0700
TZNAME:PDT
DTSTART:20180311T100000
END:DAYLIGHT
BEGIN:STANDARD
TZOFFSETFROM:-0700
TZOFFSETTO:-0800
TZNAME:PST
DTSTART:20181104T090000
END:STANDARD
BEGIN:DAYLIGHT
TZOFFSETFROM:-0800
TZOFFSETTO:-0700
TZNAME:PDT
DTSTART:20190310T100000
END:DAYLIGHT
BEGIN:STANDARD
TZOFFSETFROM:-0700
TZOFFSETTO:-0800
TZNAME:PST
DTSTART:20191103T090000
END:STANDARD
BEGIN:DAYLIGHT
TZOFFSETFROM:-0800
TZOFFSETTO:-0700
TZNAME:PDT
DTSTART:20200308T100000
END:DAYLIGHT
BEGIN:STANDARD
TZOFFSETFROM:-0700
TZOFFSETTO:-0800
TZNAME:PST
DTSTART:20201101T090000
END:STANDARD
END:VTIMEZONE
BEGIN:VTIMEZONE
TZID:America/New_York
BEGIN:DAYLIGHT
TZOFFSETFROM:-0500
TZOFFSETTO:-0400
TZNAME:EDT
DTSTART:20180311T070000
END:DAYLIGHT
BEGIN:STANDARD
TZOFFSETFROM:-0400
TZOFFSETTO:-0500
TZNAME:EST
DTSTART:20181104T060000
END:STANDARD
BEGIN:DAYLIGHT
TZOFFSETFROM:-0500
TZOFFSETTO:-0400
TZNAME:EDT
DTSTART:20190310T070000
END:DAYLIGHT
BEGIN:STANDARD
TZOFFSETFROM:-0400
TZOFFSETTO:-0500
TZNAME:EST
DTSTART:20191103T060000
END:STANDARD
BEGIN:DAYLIGHT
TZOFFSETFROM:-0500
TZOFFSETTO:-0400
TZNAME:EDT
DTSTART:20200308T070000
END:DAYLIGHT
BEGIN:STANDARD
TZOFFSETFROM:-0400
TZOFFSETTO:-0500
TZNAME:EST
DTSTART:20201101T060000
END:STANDARD
END:VTIMEZONE
BEGIN:VEVENT
DTSTART;TZID=America/Los_Angeles:20190809T120000
DTEND;TZID=America/Los_Angeles:20190811T180000
DTSTAMP:20260425T084025
CREATED:20190621T231124Z
LAST-MODIFIED:20190710T161119Z
UID:4417-1565352000-1565546400@ddrcommunity.com
SUMMARY:Infinity Stage - West Coast Music Game Championships
DESCRIPTION:Infinity Stage. Seven music games. Ten tournaments. Infinite hype. Join us for the biggest music game tournament on the west coast\, August 9-11\, at Round1 San Jose. Learn more and register: https://t.co/vNmPmdjQ6m pic.twitter.com/lp43e7isNq \n— Infinity Stage San Jose (@InfinityStageSJ) June 21\, 2019 \n \nWhen: August 9th – August 11th\, 2019 \nWhere: Round 1 Bowling & Amusement at Round1 Eastridge in San Jose\, CA \nINFINITY STAGE is a large-scale\, collaborative music gaming competition to be held in the heart of the Silicon Valley. Individual tournaments for the most popular rhythm titles includes: \nDanceDanceRevolution A (Hosted by SF EVOLVED)\nPump It Up XX\nbeatmania IIDX Rootage\nSOUND VOLTEX VIVID WAVE\nGITADORA EXCHAIN DrumMania\nGITADORA EXCHAIN GuitarFreaks\n…plus an EXTRA STAGE — one more game of your choosing via a poll\, TBD! \nFREESTYLE TAKEOVER: NIGHT IN MOTION (Friday) \nFriday night is party time at Round1 San Jose! \nFreestyle Takeover: Night in Motion is a dance game showcase that’s bound to get you hyped for Infinity Stage weekend. Dazzle the crowd with your fancy footwork in the first DANCERUSH STARDOM freestyle tournament in the US. Afterward\, show us your performance in our Dance Dance Revolution Ace freestyle competition. \nStep up and shine bright! Link here: https://www.facebook.com/events/598080884030377/ \nVALKYRIE ASCENSION (Friday) \nMark your calendars: Valkyrie Ascension\, the first in-person women’s DDR A tournament will be happening on August 9th\, 2019 at Round 1 Eastridge Mall in San Jose\, California!\nWith a starting prize pool of $600\, Valkyrie Ascension will test each woman’s strength\, skill\, and endurance\, and showcasing each individual’s talents in dance games. Trophies and other prizes will be announced in the coming weeks! Click here: https://www.facebook.com/events/280424756181237/
URL:https://ddrcommunity.com/event/infinity-stage-west-coast-music-game-championships/
LOCATION:Round 1 San Jose\, 2200 Eastridge Loop\, San Jose\, CA\, 95122\, United States
CATEGORIES:Tournaments
ATTACH;FMTTYPE=image/jpeg:https://ddrcommunity.com/wp-content/uploads/2019/06/59022713_1266815963472033_2488584719378153472_n.jpg
END:VEVENT
BEGIN:VEVENT
DTSTART;TZID=America/New_York:20190823T120000
DTEND;TZID=America/New_York:20190825T200000
DTSTAMP:20260425T084025
CREATED:20190618T164450Z
LAST-MODIFIED:20240411T035747Z
UID:4291-1566561600-1566763200@ddrcommunity.com
SUMMARY:Champions of the Coast 2019
DESCRIPTION:On behalf of the Shoreline group and Rhythmcore\, we like to welcome everyone back to another year of music gaming tournament at 8 on the Break.Tournament list:\nBeatmania IIDX Sinobuz\nhttps://docs.google.com/document/d/e/2PACX-1vRPBSAOiWUmOTankna0Vqv8kQSp_ncKibfOXU49ZtyTnydH4ErZ3pn1MSLHhKoCZB0OWGbHNMe0_VAn/pub\nDance Dance Revolution Ace Singles\nhttps://docs.google.com/document/d/e/2PACX-1vRXOR8TiClB8v_J3s9vQ2_d0OwAhRZtJnrCsMB8vsDEsZZjisxwb2wzc5-jhM0qGVmXglp_FsDtof1B/pub\nDJ Max Respect (PS4)\nhttps://docs.google.com/document/d/e/2PACX-1vSeedtcUTcaZSwO60f9FjnJptN6QpiYERgOk77k1s9aAUFXgy8SeXvy-6QlXjbhbyIVfmGwc3CeKJJ0/pub\nIn the Groove\nTBA\nPack\nTBA\nIn the Groove Female\nhttps://docs.google.com/document/d/e/2PACX-1vTTY6RAZRehn45LTvzXBTTejahdHZhqHrcG2ePsekKbsqYsuHb0Vvz0zsApyXgXIybi7oCT6uZnarcS/pub\nPack\nhttps://www.dropbox.com/s/88793cdtahv3vry/Champions%20of%20the%20Coast%202019%20-%20Girls%20ITG.zip?dl=0\nStepmaniax\nTBA\nPump it Up XX\nhttps://docs.google.com/document/d/e/2PACX-1vQQKRqjcLTdSWFBUiyIYD7R8OhTPs5bjZgEzKjqK4V2jDGpVgBDjY4XHIdgLjhmslfVxxEypk78Lbs-/pub\nPop’n Music Peace\nCrossbeats\nDrummania V8\nhttps://docs.google.com/document/d/e/2PACX-1vTORkB4D1b73NuPaGGFBJ9jYMTzTh-YTN5ABW1t4D7kbL0KNs3Hf7m3NmULoYQ4EbKtlxCVcStLMfr5/pub\nJubeat Festo\nTBA\nGroove Coaster 3ex\nhttps://docs.google.com/document/d/e/2PACX-1vROfZMxQ0LRxTvdEj76_VAh3d34fz6v1YNE6EF3AInFKPmutaDhadbEDeSm8VI4Hifn-5vXREy5ofuC/pub\nInitial D\nTBA\n…and more to be announced\n*Game list\, version\, rules are subject to change.\nJoin the cotc discussion here:\nhttps://discord.gg/j8a3dW7\nHotel\nHampton Inn South Plainfield\nAddress: 205 New World Way\, South Plainfield\, NJ 07080\nPhone: (908) 561-2600\nThe Garden Executive Hotel\nAddress: 101 New World Way\, South Plainfield\, NJ 07080\nPhone: (908) 561-4488\nMore details to be posted soon. Stay tune.\nPs. Cover photo is a temporary placeholder.
URL:https://ddrcommunity.com/event/champions-of-the-coast-2019/
LOCATION:8 on the Break\, 340 North Ave.\, Dunellen\, 08812\, United States
CATEGORIES:Tournaments
ATTACH;FMTTYPE=image/jpeg:https://ddrcommunity.com/wp-content/uploads/2024/04/67316967_4224683618616_3410683231115149312_n-480x320-qR5Zyn.tmp_.jpg
END:VEVENT
END:VCALENDAR