BEGIN:VCALENDAR
VERSION:2.0
PRODID:-//DDRCommunity - ECPv6.15.14//NONSGML v1.0//EN
CALSCALE:GREGORIAN
METHOD:PUBLISH
X-WR-CALNAME:DDRCommunity
X-ORIGINAL-URL:https://ddrcommunity.com
X-WR-CALDESC:Events for DDRCommunity
REFRESH-INTERVAL;VALUE=DURATION:PT1H
X-Robots-Tag:noindex
X-PUBLISHED-TTL:PT1H
BEGIN:VTIMEZONE
TZID:America/New_York
BEGIN:DAYLIGHT
TZOFFSETFROM:-0500
TZOFFSETTO:-0400
TZNAME:EDT
DTSTART:20220313T070000
END:DAYLIGHT
BEGIN:STANDARD
TZOFFSETFROM:-0400
TZOFFSETTO:-0500
TZNAME:EST
DTSTART:20221106T060000
END:STANDARD
BEGIN:DAYLIGHT
TZOFFSETFROM:-0500
TZOFFSETTO:-0400
TZNAME:EDT
DTSTART:20230312T070000
END:DAYLIGHT
BEGIN:STANDARD
TZOFFSETFROM:-0400
TZOFFSETTO:-0500
TZNAME:EST
DTSTART:20231105T060000
END:STANDARD
BEGIN:DAYLIGHT
TZOFFSETFROM:-0500
TZOFFSETTO:-0400
TZNAME:EDT
DTSTART:20240310T070000
END:DAYLIGHT
BEGIN:STANDARD
TZOFFSETFROM:-0400
TZOFFSETTO:-0500
TZNAME:EST
DTSTART:20241103T060000
END:STANDARD
END:VTIMEZONE
BEGIN:VEVENT
DTSTART;TZID=America/New_York:20230211T000000
DTEND;TZID=America/New_York:20230211T235900
DTSTAMP:20260423T065932
CREATED:20240411T034508Z
LAST-MODIFIED:20240412T012223Z
UID:8790-1676073600-1676159940@ddrcommunity.com
SUMMARY:BEMANI PRO LEAGUE ZERO DDR
DESCRIPTION:A new type entertainment of “esports x music”　BPL ZERO DanceDanceRevolutionWill be held on Feb 10 and 11!Click here for details on rules\, contestants\, etc.https://t.co/CWVJEoRzTo#DDR #ビーマニプロリーグ— 【公式】BEMANI PRO LEAGUE🎶 BPL ZERO DDR@JAEPO2023 (@BemaniProLeague) February 10\, 2023 KONAMI’s BEMANI PRO LEAGUE SEASON 2 finally includes DanceDanceRevolution in its lineup. Entries to be accepted in the league are now open. 24 accepted players will be drafted into a total of 8 teams of 3\, and those teams will play matches against each other. The first draft of BPL ZERO will be held at JAEPO (Japan Amusement Expo) 2023 on February 10th and playoffs on the 11th\, 2023 will be a preview for BPL Season 2. To qualify for entry\, players must have a KONAMI ID\, be a resident of Japan\, be 16 years of age or older\, and must take an interview and submit a video evaluation of gameplay. Visit the BEMANI PRO LEAGUE site for more details on qualifications and the rules page for how tournament matches will be played.
URL:https://ddrcommunity.com/event/bemani-pro-league-zero-ddr/
LOCATION:Makuhari Messe International Exhibition Hall Exhibition Hall 9/10\, 2-1\, Nakase\, Mihama-ku\, Chiba\, Chiba Prefecture\, 261-8550\, Japan
CATEGORIES:Tournaments
ATTACH;FMTTYPE=image/png:https://ddrcommunity.com/wp-content/uploads/2023/02/bplzero.png
END:VEVENT
END:VCALENDAR