BEGIN:VCALENDAR
VERSION:2.0
PRODID:-//DDRCommunity - ECPv6.15.14//NONSGML v1.0//EN
CALSCALE:GREGORIAN
METHOD:PUBLISH
X-WR-CALNAME:DDRCommunity
X-ORIGINAL-URL:https://ddrcommunity.com
X-WR-CALDESC:Events for DDRCommunity
REFRESH-INTERVAL;VALUE=DURATION:PT1H
X-Robots-Tag:noindex
X-PUBLISHED-TTL:PT1H
BEGIN:VTIMEZONE
TZID:America/New_York
BEGIN:DAYLIGHT
TZOFFSETFROM:-0500
TZOFFSETTO:-0400
TZNAME:EDT
DTSTART:20180311T070000
END:DAYLIGHT
BEGIN:STANDARD
TZOFFSETFROM:-0400
TZOFFSETTO:-0500
TZNAME:EST
DTSTART:20181104T060000
END:STANDARD
BEGIN:DAYLIGHT
TZOFFSETFROM:-0500
TZOFFSETTO:-0400
TZNAME:EDT
DTSTART:20190310T070000
END:DAYLIGHT
BEGIN:STANDARD
TZOFFSETFROM:-0400
TZOFFSETTO:-0500
TZNAME:EST
DTSTART:20191103T060000
END:STANDARD
BEGIN:DAYLIGHT
TZOFFSETFROM:-0500
TZOFFSETTO:-0400
TZNAME:EDT
DTSTART:20200308T070000
END:DAYLIGHT
BEGIN:STANDARD
TZOFFSETFROM:-0400
TZOFFSETTO:-0500
TZNAME:EST
DTSTART:20201101T060000
END:STANDARD
END:VTIMEZONE
BEGIN:VEVENT
DTSTART;TZID=America/New_York:20191122T180000
DTEND;TZID=America/New_York:20191124T210000
DTSTAMP:20260425T230716
CREATED:20191119T165646Z
LAST-MODIFIED:20240411T035507Z
UID:5531-1574445600-1574629200@ddrcommunity.com
SUMMARY:Rumble In The Prairie 11.5
DESCRIPTION:DDRillini is getting ready for Rumble In The Prairie 11.5! The event will run from Friday\, November 22 to Sunday\, November 24.SIGN-UPS: https://forms.gle/jz4snW8uDAWHUHv7A\nSCHEDULE: https://docs.google.com/spreadsheets/d/1a0jV1BJrFdVZ3_Hr6-Ran_OWO6hXh2ewLQmN9wKakYY/edit?usp=sharing\nWEBSITE: https://rip.ddrillini.club\nRIP 11.5 will feature:\nITG Singles\nITG Doubles\nITG Couples\nITG Mods SRT\nAnd more…\nWe look forward to seeing you at RIP11.5!
URL:https://ddrcommunity.com/event/rumble-in-the-prairie-11-5/
LOCATION:Illini Union Ballroom\, 1401 W. Green St.\, Urbana\, IL\, 61801\, United States
CATEGORIES:Tournaments
ATTACH;FMTTYPE=image/jpeg:https://ddrcommunity.com/wp-content/uploads/2024/04/67482516_2764711033543425_528377133135822848_n-480x320-f7SJVV.tmp_.jpg
END:VEVENT
END:VCALENDAR