BEGIN:VCALENDAR
VERSION:2.0
PRODID:-//DDRCommunity - ECPv6.15.14//NONSGML v1.0//EN
CALSCALE:GREGORIAN
METHOD:PUBLISH
X-ORIGINAL-URL:https://ddrcommunity.com
X-WR-CALDESC:Events for DDRCommunity
REFRESH-INTERVAL;VALUE=DURATION:PT1H
X-Robots-Tag:noindex
X-PUBLISHED-TTL:PT1H
BEGIN:VTIMEZONE
TZID:America/New_York
BEGIN:DAYLIGHT
TZOFFSETFROM:-0500
TZOFFSETTO:-0400
TZNAME:EDT
DTSTART:20190310T070000
END:DAYLIGHT
BEGIN:STANDARD
TZOFFSETFROM:-0400
TZOFFSETTO:-0500
TZNAME:EST
DTSTART:20191103T060000
END:STANDARD
BEGIN:DAYLIGHT
TZOFFSETFROM:-0500
TZOFFSETTO:-0400
TZNAME:EDT
DTSTART:20200308T070000
END:DAYLIGHT
BEGIN:STANDARD
TZOFFSETFROM:-0400
TZOFFSETTO:-0500
TZNAME:EST
DTSTART:20201101T060000
END:STANDARD
BEGIN:DAYLIGHT
TZOFFSETFROM:-0500
TZOFFSETTO:-0400
TZNAME:EDT
DTSTART:20210314T070000
END:DAYLIGHT
BEGIN:STANDARD
TZOFFSETFROM:-0400
TZOFFSETTO:-0500
TZNAME:EST
DTSTART:20211107T060000
END:STANDARD
END:VTIMEZONE
BEGIN:VEVENT
DTSTART;TZID=America/New_York:20200118T000000
DTEND;TZID=America/New_York:20200118T235900
DTSTAMP:20260424T051453
CREATED:20240411T035426Z
LAST-MODIFIED:20240412T012433Z
UID:8846-1579305600-1579391940@ddrcommunity.com
SUMMARY:New Decade
DESCRIPTION:What better way to kick off a new decade of dance gaming excellence than with a triple-header of tournaments? On Saturday\, January 18\, 2020 at Round1 Eastridge Shopping Center in San Jose… Freestyle Takeover\, in conjunction with Infinity Stage and Valkyrie Dimension\, will usher in a New Decade!Kicking things off will be Clash of the Valkyries\, a 6-on-6 all women’s tech squad battle! Two squads assembled and led by two top-flight team captains will face-off in a 3-round clash to be held on Dance Dance Revolution A20! Check out our qualifier info below and get your scores in by 1/15/20. Our second competition will showcase DANCERUSH STARDOM Freestyle. Flashing lights and flashier moves are the name of the game. Show us your fancy footwork\, get the party jumpin’\, and you might be the special one to take home some sweet prizes and earn the title of DANCERUSH STARDOM Freestyle Champion! To close the evening\, all eyes will be back on the Dance Dance Revolution A20 machine with our DDR Freestyle Competitions. In our First Stage Division\, we encourage first-timers\, novices\, and those finding their own groove to challenge themselves and show us their performance! On the line will be sweet prize packages as well as a free registration for a future Freestyle Takeover event. If you’ve competed more than a couple times in freestyle\, consider our next division! In the Elite Division\, we invite the aces of the freestyle scene to strut their funky stuff on the dance pads to determine our next Freestyle Takeover Champion. The road to glory will go through Applefrog\, the reigning\, defending D2R Champion. Did we mention the Championship Belt will be on the line? We just did. Whether you down to compete or be a spectator\, visit http://www.smash.gg/newdecade to register and get your tickets for this “can’t miss” event. All further questions and inquiries can be sent to staff@freestyletakeover.com. CLASH OF THE VALKYRIES QUALIFIERS: Amalgamation DSP (13) Starlight Fantasia ESP (14) Schroedinger’s Cat ESP (15) Qualifiers may be played independently of one another. Send in your best scores by 1/15/20 using this form and feel free to tag with #ClashOfTheValkyries on social media! https://t.co/2twJnxSdDX?amp=1 PRIZES DDR A20 Freestyle – Elite Division 1st place: 65% prize pot + D2R championship belt 2nd place: 25% prize pot + any item off the FST Shop 3rd place: 15% prize pot DRS 1st place: 65% prize pot + custom trophy 2nd place: $25% prize pot + any item off the FST Shop 3rd place: 15% prize pot DDR A20 Freestyle – First Stage 1st: 50% of prize pot + FST shop item + free registration to a future FST event! 2nd: 25% of prize pot + free FST shop item Clash of the Valkyries: TBA!
URL:https://ddrcommunity.com/event/new-decade/
LOCATION:Round 1 San Jose\, 2200 Eastridge Loop\, San Jose\, CA\, 95122\, United States
CATEGORIES:Tournaments
ATTACH;FMTTYPE=image/jpeg:https://ddrcommunity.com/wp-content/uploads/2024/04/new_decade_ver_3-01-TpPSob.tmp_.jpg
END:VEVENT
END:VCALENDAR