BEGIN:VCALENDAR
VERSION:2.0
PRODID:-//DDRCommunity - ECPv6.15.14//NONSGML v1.0//EN
CALSCALE:GREGORIAN
METHOD:PUBLISH
X-WR-CALNAME:DDRCommunity
X-ORIGINAL-URL:https://ddrcommunity.com
X-WR-CALDESC:Events for DDRCommunity
REFRESH-INTERVAL;VALUE=DURATION:PT1H
X-Robots-Tag:noindex
X-PUBLISHED-TTL:PT1H
BEGIN:VTIMEZONE
TZID:Asia/Manila
BEGIN:STANDARD
TZOFFSETFROM:+0800
TZOFFSETTO:+0800
TZNAME:PST
DTSTART:20180101T000000
END:STANDARD
END:VTIMEZONE
BEGIN:VEVENT
DTSTART;TZID=Asia/Manila:20190929T000000
DTEND;TZID=Asia/Manila:20190929T235900
DTSTAMP:20260424T082021
CREATED:20190806T031545Z
LAST-MODIFIED:20240412T012558Z
UID:4491-1569715200-1569801540@ddrcommunity.com
SUMMARY:DDR Philippines DanceDanceRevolution A20 All Star Challenge
DESCRIPTION:  \n   
URL:https://ddrcommunity.com/event/ddr-philippines-dancedancerevolution-a20-all-star-challenge/
LOCATION:SMX Convention Center\, Mall of Asia Complex\, Seashell Ln\, Pasay\, Manila\, GXJJ+RJ\, Philippines
CATEGORIES:Tournaments
ATTACH;FMTTYPE=image/jpeg:https://ddrcommunity.com/wp-content/uploads/2019/08/67474925_494476017979498_1899733699390341120_n.jpg
END:VEVENT
END:VCALENDAR