BEGIN:VCALENDAR
VERSION:2.0
PRODID:-//DDRCommunity - ECPv6.15.14//NONSGML v1.0//EN
CALSCALE:GREGORIAN
METHOD:PUBLISH
X-WR-CALNAME:DDRCommunity
X-ORIGINAL-URL:https://ddrcommunity.com
X-WR-CALDESC:Events for DDRCommunity
REFRESH-INTERVAL;VALUE=DURATION:PT1H
X-Robots-Tag:noindex
X-PUBLISHED-TTL:PT1H
BEGIN:VTIMEZONE
TZID:America/New_York
BEGIN:DAYLIGHT
TZOFFSETFROM:-0500
TZOFFSETTO:-0400
TZNAME:EDT
DTSTART:20180311T070000
END:DAYLIGHT
BEGIN:STANDARD
TZOFFSETFROM:-0400
TZOFFSETTO:-0500
TZNAME:EST
DTSTART:20181104T060000
END:STANDARD
BEGIN:DAYLIGHT
TZOFFSETFROM:-0500
TZOFFSETTO:-0400
TZNAME:EDT
DTSTART:20190310T070000
END:DAYLIGHT
BEGIN:STANDARD
TZOFFSETFROM:-0400
TZOFFSETTO:-0500
TZNAME:EST
DTSTART:20191103T060000
END:STANDARD
BEGIN:DAYLIGHT
TZOFFSETFROM:-0500
TZOFFSETTO:-0400
TZNAME:EDT
DTSTART:20200308T070000
END:DAYLIGHT
BEGIN:STANDARD
TZOFFSETFROM:-0400
TZOFFSETTO:-0500
TZNAME:EST
DTSTART:20201101T060000
END:STANDARD
END:VTIMEZONE
BEGIN:VEVENT
DTSTART;VALUE=DATE:20190420
DTEND;VALUE=DATE:20190701
DTSTAMP:20260425T123217
CREATED:20190129T173733Z
LAST-MODIFIED:20190704T033710Z
UID:3975-1555718400-1561939199@ddrcommunity.com
SUMMARY:SPECIAL SUMMER CAMPAIGN
DESCRIPTION:SPECIAL SUMMER CAMPAIGN!!!\nA Remote DDR Tournament Series\n \nEVERYTHING YOU NEED TO KNOW ABOUT SPECIAL SUMMER CAMPAIGN\n——————————-\n\nSpecial Summer Campaign (SSC) is a remote divisional DanceDanceRevolution tournament series for all players of all skill levels to participate in. It’s intended as a tournament to be run during the summer\, but with the imminent release of A20\, I want to push this installment forward to conclude before the new mix is released.*** \n \n*NOTE* : The tournament organizers have decided to push the tournament back until A20 is released. Please keep up to date with us for start dates. Qualifiers will still be held on DDR A and will start February 9\, and conclude March 23rd.\n\nOkay\, so…what exactly is SSC?\n——————————-\n-SSC is a round-based successive elimination tournament\, split into three divisions (High\, Mid\, Low). The tournament is to be played on DDR A\, no earlier mixes.\n\n-There will be a qualifying period before the first round starts\, and there is no limit to the number of people that can submit qualifiers. However\, only a maximum of 200 will move on\n\n-From there\, your qualifying rank will determine what division you are placed in.\n\nDivision breakdown by capacity\n——————————-\nRank 1-88 : High (top 44% of qualifiers)\nRank 89-152 : Mid (middle 32% of qualifiers)\nRank 153-200 : Low (bottom 24% of qualifiers)\n\n-If less than 200 people qualify\, the percentage rule will stay in place. For example\, if 100 people enter\, then High Division will have 44 entrants\, Mid will have 32\, and Low will have 24.\n\nWhat is the tournament structure?\n——————————-\n-Qualifying begins Saturday\, February 9\, 2019 @ 12:00am Eastern and will run through Saturday\, March 23\, 2019 @ 11:59pm Eastern.\n\n-The main tournament will start on *TBA*. This is to allow the tournament organizers to have time to manage tiebreakers\, sort players\, and determine the difficulty ranges that will be used \n \n*Due to recent info about the projected release date of DDR A20\, the main tournament is going to be pushed back until after its release. We will update when we have more info\, but we are looking at late-May / early-June based on current projection.\n\n-Qualifiers will be two songs. Each round will have two separate songs per division (effectively\, six songs will be announced per round).\n\n-The difficulty range per division will be determined based on qualifier scores.\n\n-The main tournament will last 12 weeks\, with six rounds lasting two weeks each. Every round will have a placement cutoff\, which will be specified further down this post.\n\nHow does scoring work?\n——————————-\n-Cumulative EX score for qualifiers\, and per round\, will be used.\n\n-During the qualifiers\, you may play whatever difficulty you want to get the highest EX possible\, but during the tiebreaker and rounds\, you must play the difficulties specified.\n\nQualifiers:\n——————————- \n \nScarlet Moon (DDR 2014)\n2/5/9/12\nEX Possible: 1266\n\n冥 (Mei) (DDR X2)\n3/7/11/16/18\nEX Possible: 2220\n\nTOTAL EX Possible: 3486\n\nIf the tiebreaker needs to be used after qualifiers end:\n\nFLOWER [CHALLENGE]\n15\nEX Possible: 1845\n\n———————————————————\n\nNOTE: Score spreadsheet won’t be released until a couple weeks before the end of qualifiers. \n\n\nHow do I submit scores:\n——————————-\nThere will be two proper ways to submit scores. \n  \nGoogle Submission Form (PREFERRED) \nhttps://docs.google.com/forms/d/e/1FAIpQLSflZlwclcFzvCTBOvKCKgPAiVCZRBaEaIyj_koNKXiV9wQ_Iw/viewform \n\nTwitter: DM scores to @SSCtourneys\n\n-When submitting scores\, please have your player name visible\, along with the full song name\, difficulty\, and EX score. No exceptions.\n\n-If playing while a machine is offline\, we will be lenient with needing the player name shown\, but make an effort to verify that you are in fact the one who got the score.\n\n-If anyone is suspected of sandbagging to be placed in a lower division\, you may be moved to a higher division\, or disqualified\, at the discretion of the organizers. \n \nElimination Structure per round\n——————————-\nThe number of entrants shown to be eliminated per round is based on the tournament being full with 200 entrants. If there are less than 200\, the % of remaining entrants per round will be eliminated as shown. There may be slight variations to the percentages based on the exact number of people per division\, but regardless\, there will always be 3 winners per division.\n\nEliminations will be as follows:\n\nHigh (88 / 44% of qualifiers)\n\nRound 1: 66 move on (elim. 20 / 23% of remaining)\nRound 2: 48 move on (elim. 18 / 27% of remaining)\nRound 3: 32 move on (elim. 16 / 33% of remaining)\nRound 4: 16 move on (elim. 16 / 50% of remaining)\nRound 5: 8 move on (elim. 8 / 50% of remaining)\nFinal: Top 3 winners\n\nMid (64 / 32% of qualifiers)\n\nRound 1: 50 move on (elim. 16 / 25% of remaining)\nRound 2: 38 move on (elim. 12 / 24% of remaining)\nRound 3: 26 move on (elim. 12 / 32% of remaining)\nRound 4: 16 move on (elim. 10 / 38% of remaining)\nRound 5: 8 move on (elim. 8 / 50% of remaining)\nFinal: Top 3 winners\n\nLow (48 / 24% of qualifiers)\n\nRound 1: 36 move on (elim. 12 / 25% of remaining)\nRound 2: 28 move on (elim. 10 / 22% of remaining)\nRound 3: 20 move on (elim. 8 / 28% of remaining)\nRound 4: 14 move on (elim. 6 / 30% of remaining)\nRound 5: 8 move on (elim. 6 / 42% of remaining)\nFinal: Top 3 winners\n\nAlthough we don’t anticipate an extremely low turnout\, if the tournament organizers deem that there aren’t enough entrants to justify splitting into three divisions\, then we will split into two divisions and adjust elimination % to appropriate levels. \n \nPrizes???\n——————————-\nTop 3 in each division will receive trophies\, and first place winners will also receive a tournament shirt.\n\nWait…there are shirts too???\n——————————-\nYes! UberPrints will print high quality\, custom shirts and tank tops for those of you who want to show your spirit. Right now there are a few options available\, but hopefully more to come in the future! Maybe we will even have other kinds of merchandise available in the future…\n\nIf you have any other questions\, please contact!\n\nOrganizer: Cam King (Twitter: @Lolifoxxx)\nCo-host: Cuong ‘Foo’ Do (Twitter: @mistaFOO)\nFollow us on Twitter: @SSCtourneys\nJoin us on Discord: https://discord.gg/x5HKvbV\nEmail: specialsummerddr@gmail.com\n\nSpecial thanks to Brittney Scott (Twitter: @thegalagaship) for her very helpful insight to have a proper structure\, and graphic design work to help advertising!\n\nThank you all for playing\, and good luck!
URL:https://ddrcommunity.com/event/special-summer-campaign/
LOCATION:Online
CATEGORIES:Tournaments
ATTACH;FMTTYPE=image/jpeg:https://ddrcommunity.com/wp-content/uploads/2019/01/DyF96sBWkAAy3ii.jpg
END:VEVENT
BEGIN:VEVENT
DTSTART;TZID=America/New_York:20190504T110000
DTEND;TZID=America/New_York:20190504T230000
DTSTAMP:20260425T123217
CREATED:20190312T143806Z
LAST-MODIFIED:20240411T040347Z
UID:4038-1556967600-1557010800@ddrcommunity.com
SUMMARY:Mistake on the Lake 2
DESCRIPTION:Hope y’all are ready for another exciting tournament!Full tournament rules can be found here: https://docs.google.com/document/d/1Ik_LYQ_00NwWROrCgUR9tlRFjhS9EvWCnm_Uy8ro8gI/\nThe format is a little different than we’ve done before\, so I suggest you review it!\nQualifiers:\nINSERTiON Expert (13)\nPARANOIA EVOLUTION (X-Special) (14)\nEntries must be submitted via google forms as a picture of each result screen (as well as the set result) with your e-amusement name and the song EX score clearly visible: https://docs.google.com/forms/d/1EXtOciqaEtqz4twbFGS_tj9d1F_bn6FIBPWHTjKA7-A\nOnce you submit an entry\, you cannot override it with a newer entry. In the event of a tie\, scores submitted earlier will be seeded higher.\nQualifiers must be submitted by 6amET/3am PT on Friday\, May 3rd.\nNo day of registration will be permitted for any reason!\nThe tournament format will be round robin pools with a cut to a double elimination bracket.\nRegistration is $20 (including venue fee). All registration money will be put back into prizes. You can register at http://smash.gg/tournament/mistake-on-the-lake-2\nThe tournament will be streamed live at twitch.tv/OhioDDR
URL:https://ddrcommunity.com/event/mistake-on-the-lake-2/
LOCATION:Round1 Great Lakes Mall\, 7850 Mentor Ave.\, Mentor\, 44060\, United States
CATEGORIES:Tournaments
ATTACH;FMTTYPE=image/jpeg:https://ddrcommunity.com/wp-content/uploads/2024/04/53778725_10156857460206893_4276766195262160896_n-480x320-D1XTHR.tmp_.jpg
END:VEVENT
BEGIN:VEVENT
DTSTART;TZID=America/New_York:20190525T190000
DTEND;TZID=America/New_York:20190525T210000
DTSTAMP:20260425T123217
CREATED:20190430T031150Z
LAST-MODIFIED:20240411T040147Z
UID:4197-1558810800-1558818000@ddrcommunity.com
SUMMARY:Freestyle Takeover: Fanime 2019
DESCRIPTION:We’re returning to the Fanime games hall on the year of the SILVER CELEBRATION~ for another round of Dance Dance Revolution freestyle!WHAT: A DDR 5th Mix freestyle tournament\nWHERE: FanimeCon gaming hall\nWHEN: Saturday 5/25 @ 7pm\nRULES:\nROUND 1 – IMPROV CARD DRAW\n3 song choices will come up – eliminate 2 and perform an improv to the remaining song. Top 8 dancers will advance to round 2.\nROUND 2 – ROUTINE\nPerform to any song you want on 5th mix. Come prepared and knock this round out of the park!\nPRIZES\n1st prize – 60% of the pot\, a sweet daypack from The Shrine and a DDR-themed canteen!\n2nd prize – 25% of the pot + DDR canteen!\n3rd prize – 15% of the pot and a mystery prize!\nJudges TBD\nFollow us here and on Twitter @FSTakeover for more!
URL:https://ddrcommunity.com/event/freestyle-takeover-fanime-2019/
LOCATION:San Jose Convention Center\, 410 Almaden Blvd\, San Jose\, CA\, 95110\, United States
CATEGORIES:Tournaments
ATTACH;FMTTYPE=image/jpeg:https://ddrcommunity.com/wp-content/uploads/2024/04/59418345_391519631436130_6235936211895058432_n-480x320-aVRieW.tmp_.jpg
END:VEVENT
END:VCALENDAR