BEGIN:VCALENDAR
VERSION:2.0
PRODID:-//DDRCommunity - ECPv6.15.14//NONSGML v1.0//EN
CALSCALE:GREGORIAN
METHOD:PUBLISH
X-WR-CALNAME:DDRCommunity
X-ORIGINAL-URL:https://ddrcommunity.com
X-WR-CALDESC:Events for DDRCommunity
REFRESH-INTERVAL;VALUE=DURATION:PT1H
X-Robots-Tag:noindex
X-PUBLISHED-TTL:PT1H
BEGIN:VTIMEZONE
TZID:America/New_York
BEGIN:DAYLIGHT
TZOFFSETFROM:-0500
TZOFFSETTO:-0400
TZNAME:EDT
DTSTART:20180311T070000
END:DAYLIGHT
BEGIN:STANDARD
TZOFFSETFROM:-0400
TZOFFSETTO:-0500
TZNAME:EST
DTSTART:20181104T060000
END:STANDARD
BEGIN:DAYLIGHT
TZOFFSETFROM:-0500
TZOFFSETTO:-0400
TZNAME:EDT
DTSTART:20190310T070000
END:DAYLIGHT
BEGIN:STANDARD
TZOFFSETFROM:-0400
TZOFFSETTO:-0500
TZNAME:EST
DTSTART:20191103T060000
END:STANDARD
BEGIN:DAYLIGHT
TZOFFSETFROM:-0500
TZOFFSETTO:-0400
TZNAME:EDT
DTSTART:20200308T070000
END:DAYLIGHT
BEGIN:STANDARD
TZOFFSETFROM:-0400
TZOFFSETTO:-0500
TZNAME:EST
DTSTART:20201101T060000
END:STANDARD
END:VTIMEZONE
BEGIN:VEVENT
DTSTART;TZID=America/New_York:20190713T140000
DTEND;TZID=America/New_York:20190713T200000
DTSTAMP:20260425T093131
CREATED:20190704T033550Z
LAST-MODIFIED:20190704T033550Z
UID:4447-1563026400-1563048000@ddrcommunity.com
SUMMARY:SFGE 2019 - Dance Dance Revolution Tournament
DESCRIPTION:Arcade Impact and The Atlanta League of Music Gamers (of Storm × League) invites players and enthusiasts alike to show us your moves and stomp away at our first Dance Dance Revolution tournament at Southern-Fried Gaming Expo 2019!
URL:https://ddrcommunity.com/event/sfge-2019-dance-dance-revolution-tournament/
LOCATION:Southern-Fried Gaming Expo\, 2450 Galleria Pkwy SE\, Atlanta\, GA\, 30339\, United States
CATEGORIES:Tournaments
ATTACH;FMTTYPE=image/jpeg:https://ddrcommunity.com/wp-content/uploads/2019/07/65813591_1333057010175328_6388027489247035392_n.jpg
ORGANIZER;CN="Storm x League":MAILTO:musicgamesatl@gmail.com
END:VEVENT
END:VCALENDAR