BEGIN:VCALENDAR
VERSION:2.0
PRODID:-//DDRCommunity - ECPv6.15.14//NONSGML v1.0//EN
CALSCALE:GREGORIAN
METHOD:PUBLISH
X-WR-CALNAME:DDRCommunity
X-ORIGINAL-URL:https://ddrcommunity.com
X-WR-CALDESC:Events for DDRCommunity
REFRESH-INTERVAL;VALUE=DURATION:PT1H
X-Robots-Tag:noindex
X-PUBLISHED-TTL:PT1H
BEGIN:VTIMEZONE
TZID:America/New_York
BEGIN:DAYLIGHT
TZOFFSETFROM:-0500
TZOFFSETTO:-0400
TZNAME:EDT
DTSTART:20200308T070000
END:DAYLIGHT
BEGIN:STANDARD
TZOFFSETFROM:-0400
TZOFFSETTO:-0500
TZNAME:EST
DTSTART:20201101T060000
END:STANDARD
BEGIN:DAYLIGHT
TZOFFSETFROM:-0500
TZOFFSETTO:-0400
TZNAME:EDT
DTSTART:20210314T070000
END:DAYLIGHT
BEGIN:STANDARD
TZOFFSETFROM:-0400
TZOFFSETTO:-0500
TZNAME:EST
DTSTART:20211107T060000
END:STANDARD
BEGIN:DAYLIGHT
TZOFFSETFROM:-0500
TZOFFSETTO:-0400
TZNAME:EDT
DTSTART:20220313T070000
END:DAYLIGHT
BEGIN:STANDARD
TZOFFSETFROM:-0400
TZOFFSETTO:-0500
TZNAME:EST
DTSTART:20221106T060000
END:STANDARD
END:VTIMEZONE
BEGIN:VEVENT
DTSTART;TZID=America/New_York:20211121T130000
DTEND;TZID=America/New_York:20211121T170000
DTSTAMP:20260423T161311
CREATED:20240411T034741Z
LAST-MODIFIED:20240411T041944Z
UID:8808-1637499600-1637514000@ddrcommunity.com
SUMMARY:MAX300 Birthday Challenge to Benefit Feeding America
DESCRIPTION:Join New York\, USA area players yyr and DANH (revolutionomega in the FFR community) as they attempt the @OhioDDR MAX300 Birthday Challenge together on Sunday\, November 21st at 1PM Eastern!\nThe Challenge consists of clearing MAX300 as many times as your age\, with at least half of those being on the hardest difficulty you can pass. For yyr and DANH\, that’s a combined 72 times\, with half of those or more on Expert! And you’re not allowed to play any other songs or warmups until the challenge is finished!\nThe two players will be doing this to benefit Feeding America! Hunger is still a big problem in the USA\, affecting millions of people every day. If you’re financially able to chip in\, your support will be much appreciated…thanks!
URL:https://ddrcommunity.com/event/max300-birthday-challenge-to-benefit-feeding-america/
ATTACH;FMTTYPE=image/png:https://ddrcommunity.com/wp-content/uploads/2024/04/MAX-300-jacket-6PXSED.tmp_.png
END:VEVENT
END:VCALENDAR