BEGIN:VCALENDAR
VERSION:2.0
PRODID:-//DDRCommunity - ECPv6.15.14//NONSGML v1.0//EN
CALSCALE:GREGORIAN
METHOD:PUBLISH
X-ORIGINAL-URL:https://ddrcommunity.com
X-WR-CALDESC:Events for DDRCommunity
REFRESH-INTERVAL;VALUE=DURATION:PT1H
X-Robots-Tag:noindex
X-PUBLISHED-TTL:PT1H
BEGIN:VTIMEZONE
TZID:America/New_York
BEGIN:DAYLIGHT
TZOFFSETFROM:-0500
TZOFFSETTO:-0400
TZNAME:EDT
DTSTART:20220313T070000
END:DAYLIGHT
BEGIN:STANDARD
TZOFFSETFROM:-0400
TZOFFSETTO:-0500
TZNAME:EST
DTSTART:20221106T060000
END:STANDARD
BEGIN:DAYLIGHT
TZOFFSETFROM:-0500
TZOFFSETTO:-0400
TZNAME:EDT
DTSTART:20230312T070000
END:DAYLIGHT
BEGIN:STANDARD
TZOFFSETFROM:-0400
TZOFFSETTO:-0500
TZNAME:EST
DTSTART:20231105T060000
END:STANDARD
BEGIN:DAYLIGHT
TZOFFSETFROM:-0500
TZOFFSETTO:-0400
TZNAME:EDT
DTSTART:20240310T070000
END:DAYLIGHT
BEGIN:STANDARD
TZOFFSETFROM:-0400
TZOFFSETTO:-0500
TZNAME:EST
DTSTART:20241103T060000
END:STANDARD
END:VTIMEZONE
BEGIN:VEVENT
DTSTART;TZID=America/New_York:20230505T000000
DTEND;TZID=America/New_York:20230820T235900
DTSTAMP:20260422T082435
CREATED:20240411T034241Z
LAST-MODIFIED:20240412T012152Z
UID:8777-1683244800-1692575940@ddrcommunity.com
SUMMARY:Shakunetsu Summer Campaign
DESCRIPTION:Solstice Arena is back for the 4th time\, and more ready than ever to spend our summer with you burnin’ the floor. What better time than summer to show everyone your hottest moves\, with Shakunetsu Summer Campaign!A remote ddr a20+ event\, we’ll have 4 all-inclusive singles divisions\, 3 valkyrie divisions\, and 3 doubles divisions! Qualifiers will be posted at around 10pm on Friday\, May 5th (US Eastern Time) A google doc is posted in the twitter link to give you all the info we can\, as well as in our discord server linked below! \nWe finally have a healthy amount of info to share for our not-so-little summer get together!Be on the lookout for coming updates with entry forms\, score submission forms\, and the qualifiers to be announced in a few days!https://t.co/W7zWdDQAh2\n— Shakunetsu Summer Campaign (@SolsticeArena_) May 2\, 2023 \nEvent discord: https://discord.gg/x5HKvbV
URL:https://ddrcommunity.com/event/shakunetsu-summer-campaign/
LOCATION:Online
CATEGORIES:Online Tournaments
ATTACH;FMTTYPE=image/jpeg:https://ddrcommunity.com/wp-content/uploads/2024/04/Shakunetsu-Champion-Towels-VMcCyI.tmp_.jpg
END:VEVENT
BEGIN:VEVENT
DTSTART;TZID=America/New_York:20230520T090000
DTEND;TZID=America/New_York:20230521T150000
DTSTAMP:20260422T082435
CREATED:20240411T034309Z
LAST-MODIFIED:20240411T041941Z
UID:8785-1684573200-1684681200@ddrcommunity.com
SUMMARY:ARC2023
DESCRIPTION:This May 20th and 21st the tournament every dancing player has been waiting for will be celebrated at #LaNau \, Barcelona\, Spain. A weekend where we will give our all\, two days of maximum dancing vibes. \nThree tournaments at the same time and for all categories.\n– Tournament amateur/pro Dance Dance Revolution X\n– Tournament amateur/pro Pump It Up XX\n– Tournament freestyle DanceRush Stardom\n \nEach category will have it’s own machine. This was possible thanks to Nextage and PiuSpain.\n \nWe have the collaboration for this tournament of:\nNormaComics\nECC Ediciones\nDomino’s Pizzas\nRAPÚN ORDUNA IMPORTACIONES\n \nAll the info and inscription form at: arc23.arcade.cat
URL:https://ddrcommunity.com/event/arc2023/
LOCATION:Barcelona\, Spain\, Asociacion A.R.C.A.D.E.
CATEGORIES:Tournaments
ATTACH;FMTTYPE=image/jpeg:https://ddrcommunity.com/wp-content/uploads/2024/04/torneo-eng-OigBWl.tmp_.jpg
END:VEVENT
BEGIN:VEVENT
DTSTART;TZID=America/New_York:20230525T140000
DTEND;TZID=America/New_York:20230525T170000
DTSTAMP:20260422T082435
CREATED:20240411T034256Z
LAST-MODIFIED:20240411T041941Z
UID:8781-1685023200-1685034000@ddrcommunity.com
SUMMARY:MomoCon 2023: Rhythm Bash
DESCRIPTION:Storm x League presents Atlanta’s first multi-rhythm game event\, Rhythm Bash! This special event is in collaboration with our convention host MomoCon\, and this year’s arcade providers\, Save Point and Snow Phoenix.Plenty of rhythm game events with $100 prize pools provided for DDR and PIU each!
URL:https://ddrcommunity.com/event/momocon-2023-rhythm-bash/
LOCATION:Georgia World Congress Center Authority\, 285 Andrew Young International Blvd NW\, Atlanta\, GA\, 30313\, United States
CATEGORIES:Meetups,Tournaments
ATTACH;FMTTYPE=image/png:https://ddrcommunity.com/wp-content/uploads/2024/04/rhythmbashcover-uFGwPk.tmp_.png
ORGANIZER;CN="Storm x League":MAILTO:musicgamesatl@gmail.com
END:VEVENT
BEGIN:VEVENT
DTSTART;TZID=America/New_York:20230526T120000
DTEND;TZID=America/New_York:20230527T220000
DTSTAMP:20260422T082435
CREATED:20240411T034507Z
LAST-MODIFIED:20240411T041940Z
UID:8789-1685102400-1685224800@ddrcommunity.com
SUMMARY:Dahn Dahn Right 2023
DESCRIPTION:Pittsburgh’s premiere Dance Dance Revolution A20 Plus tournament is back\, this year with a bigger cap\, bigger pot\, and bigger stakes! \nFeaturing:\n-$2000 pot bonus (top 8 payout)\n-Buffet (both days)\n-Championship trophies\n  \nAre you dahn to show us what you’ve got? Sign-ups are LIVE at https://start.gg/dahn-dahn-right-2023.
URL:https://ddrcommunity.com/event/dahn-dahn-right-2023/
LOCATION:Dave & Buster’s Homestead\, 180 E Waterfront Dr. Homestead\, PA 15120
CATEGORIES:Meetups,Tournaments
ATTACH;FMTTYPE=image/png:https://ddrcommunity.com/wp-content/uploads/2024/04/dhdhr_promo-2-qaFSQ7.tmp_.png
END:VEVENT
END:VCALENDAR