BEGIN:VCALENDAR
VERSION:2.0
PRODID:-//DDRCommunity - ECPv6.15.14//NONSGML v1.0//EN
CALSCALE:GREGORIAN
METHOD:PUBLISH
X-ORIGINAL-URL:https://ddrcommunity.com
X-WR-CALDESC:Events for DDRCommunity
REFRESH-INTERVAL;VALUE=DURATION:PT1H
X-Robots-Tag:noindex
X-PUBLISHED-TTL:PT1H
BEGIN:VTIMEZONE
TZID:America/New_York
BEGIN:DAYLIGHT
TZOFFSETFROM:-0500
TZOFFSETTO:-0400
TZNAME:EDT
DTSTART:20220313T070000
END:DAYLIGHT
BEGIN:STANDARD
TZOFFSETFROM:-0400
TZOFFSETTO:-0500
TZNAME:EST
DTSTART:20221106T060000
END:STANDARD
BEGIN:DAYLIGHT
TZOFFSETFROM:-0500
TZOFFSETTO:-0400
TZNAME:EDT
DTSTART:20230312T070000
END:DAYLIGHT
BEGIN:STANDARD
TZOFFSETFROM:-0400
TZOFFSETTO:-0500
TZNAME:EST
DTSTART:20231105T060000
END:STANDARD
BEGIN:DAYLIGHT
TZOFFSETFROM:-0500
TZOFFSETTO:-0400
TZNAME:EDT
DTSTART:20240310T070000
END:DAYLIGHT
BEGIN:STANDARD
TZOFFSETFROM:-0400
TZOFFSETTO:-0500
TZNAME:EST
DTSTART:20241103T060000
END:STANDARD
END:VTIMEZONE
BEGIN:VEVENT
DTSTART;TZID=America/New_York:20230505T000000
DTEND;TZID=America/New_York:20230820T235900
DTSTAMP:20260422T050512
CREATED:20240411T034241Z
LAST-MODIFIED:20240412T012152Z
UID:8777-1683244800-1692575940@ddrcommunity.com
SUMMARY:Shakunetsu Summer Campaign
DESCRIPTION:Solstice Arena is back for the 4th time\, and more ready than ever to spend our summer with you burnin’ the floor. What better time than summer to show everyone your hottest moves\, with Shakunetsu Summer Campaign!A remote ddr a20+ event\, we’ll have 4 all-inclusive singles divisions\, 3 valkyrie divisions\, and 3 doubles divisions! Qualifiers will be posted at around 10pm on Friday\, May 5th (US Eastern Time) A google doc is posted in the twitter link to give you all the info we can\, as well as in our discord server linked below! \nWe finally have a healthy amount of info to share for our not-so-little summer get together!Be on the lookout for coming updates with entry forms\, score submission forms\, and the qualifiers to be announced in a few days!https://t.co/W7zWdDQAh2\n— Shakunetsu Summer Campaign (@SolsticeArena_) May 2\, 2023 \nEvent discord: https://discord.gg/x5HKvbV
URL:https://ddrcommunity.com/event/shakunetsu-summer-campaign/
LOCATION:Online
CATEGORIES:Online Tournaments
ATTACH;FMTTYPE=image/jpeg:https://ddrcommunity.com/wp-content/uploads/2024/04/Shakunetsu-Champion-Towels-VMcCyI.tmp_.jpg
END:VEVENT
BEGIN:VEVENT
DTSTART;TZID=America/New_York:20230721T180000
DTEND;TZID=America/New_York:20230723T190000
DTSTAMP:20260422T050512
CREATED:20240411T034239Z
LAST-MODIFIED:20240411T041821Z
UID:8775-1689962400-1690138800@ddrcommunity.com
SUMMARY:Last Card
DESCRIPTION:Pack your bags and place your bets\, because… SOCAL DDR is going to Vegas!(Just kidding…please don’t actually bet on DDR matches)\nAnd we’re hosting a DDR Tourney at Red Note Gaming!\nCome on by and bring a little luck! Because in a Vegas DDR tourney\, It’s all in the card (draw)s!\nSingles DDR Tournament Rules\n6 vs. 6 Crew Battle Rules\nFreestyle Rules\nFor event participants and spectators the\, fee to enter is $10 per day (cashless payment only). The fee allows everyone\, including spectator\, to play the arcade games at Red Note. \nAll participants and spectators need to adhere to the Rhythm Game Code of Conduct. Those who violate of the Rhythm Game Code of Conduct are subject to disciplinary action.
URL:https://ddrcommunity.com/event/last-card/
LOCATION:Red Note of Las Vegas\, Las Vegas\, NV
CATEGORIES:Meetups,Tournaments
ATTACH;FMTTYPE=image/jpeg:https://ddrcommunity.com/wp-content/uploads/2024/04/last-card-tournament-scaled-PTtnkz.tmp_.jpg
ORGANIZER;CN="Alecks Shieh":MAILTO:alecks.shieh@gmail.com
END:VEVENT
BEGIN:VEVENT
DTSTART;TZID=America/New_York:20230722T000000
DTEND;TZID=America/New_York:20230722T235900
DTSTAMP:20260422T050512
CREATED:20240411T034238Z
LAST-MODIFIED:20240412T012121Z
UID:8774-1689984000-1690070340@ddrcommunity.com
SUMMARY:Left Down Up Wright
DESCRIPTION:Left Down Up Wright is a one-day DanceDanceRevolution tournament\, held at Round1 Fairfield Commons\, in Beavercreek\, OH. Rules can be found here.
URL:https://ddrcommunity.com/event/left-down-up-wright/
LOCATION:Round1 Fairfield Commons\, 2727 Fairfield Commons Blvd\, Beavercreek\, OH 45431
CATEGORIES:Tournaments
ATTACH;FMTTYPE=image/png:https://ddrcommunity.com/wp-content/uploads/2024/04/socialMedia_PANEL-small-bfxY5I.tmp_.png
ORGANIZER;CN="phuzion":MAILTO:ohioddr@gmail.com
END:VEVENT
BEGIN:VEVENT
DTSTART;TZID=America/New_York:20230729T100000
DTEND;TZID=America/New_York:20230729T210000
DTSTAMP:20260422T050512
CREATED:20240411T034254Z
LAST-MODIFIED:20240411T041820Z
UID:8780-1690624800-1690664400@ddrcommunity.com
SUMMARY:Everything But Expert
DESCRIPTION:A Teaser…The sun shines down upon the lake shore; and the residents by the bay\, quiet and reserved\, stride about on foot and on wheels to go away or to go home to their weekend destinations once more…\nLate July encapsulates what a perfect summer vacation should be: warm weather\, sweets by the water\, a six-hour drive from traffic and crazies… it’s a break away from the grey or the green and out toward the blue\, with the Great North close to your door\, and pleasant waters always in view…\nErie is perhaps a venture not exactly exotic to the four-panel traveller\, but more likely off the beaten path. However you get here\, remember to bring everything along with you. Everything… but the Expert chart. \nEvent Info:\n“Everything but Expert” is a one-day\, intermediate-difficulty local DanceDanceRevolution (DDR) A20PLUS Single tournament at Round1 Bowling & Amusement in Millcreek Mall\, Erie\, PA.\nIt will run all day Saturday\, July 29th from 10 AM to 9 PM (EDT).\nTo sign up for this event\, please click the link below to register (capped at 20 players). There\, you will also find a link to the ruleset\, which includes information on tournament format\, prizes\, and qualifiers:\nhttps://www.start.gg/tournament/work-in-progress-everything-but-expert/details\nAdditionally\, to connect with other participants and with me if you have any questions\, make sure to join the PA Rhythm Gaming Discord\, where the event will be coordinated:\nhttps://discord.gg/B6P97QAQ89
URL:https://ddrcommunity.com/event/everything-but-expert/
LOCATION:Round 1 Millcreek Mall\, 825 Millcreek Mall Blvd\, Erie\, PA 16509
CATEGORIES:Tournaments
ATTACH;FMTTYPE=image/png:https://ddrcommunity.com/wp-content/uploads/2024/04/ExpertChart21Banner-atGb3M.tmp_.png
ORGANIZER;CN="Roco P":MAILTO:gaming.jouks@aleeas.com
END:VEVENT
END:VCALENDAR