BEGIN:VCALENDAR
VERSION:2.0
PRODID:-//DDRCommunity - ECPv6.15.14//NONSGML v1.0//EN
CALSCALE:GREGORIAN
METHOD:PUBLISH
X-ORIGINAL-URL:https://ddrcommunity.com
X-WR-CALDESC:Events for DDRCommunity
REFRESH-INTERVAL;VALUE=DURATION:PT1H
X-Robots-Tag:noindex
X-PUBLISHED-TTL:PT1H
BEGIN:VTIMEZONE
TZID:America/New_York
BEGIN:DAYLIGHT
TZOFFSETFROM:-0500
TZOFFSETTO:-0400
TZNAME:EDT
DTSTART:20230312T070000
END:DAYLIGHT
BEGIN:STANDARD
TZOFFSETFROM:-0400
TZOFFSETTO:-0500
TZNAME:EST
DTSTART:20231105T060000
END:STANDARD
BEGIN:DAYLIGHT
TZOFFSETFROM:-0500
TZOFFSETTO:-0400
TZNAME:EDT
DTSTART:20240310T070000
END:DAYLIGHT
BEGIN:STANDARD
TZOFFSETFROM:-0400
TZOFFSETTO:-0500
TZNAME:EST
DTSTART:20241103T060000
END:STANDARD
BEGIN:DAYLIGHT
TZOFFSETFROM:-0500
TZOFFSETTO:-0400
TZNAME:EDT
DTSTART:20250309T070000
END:DAYLIGHT
BEGIN:STANDARD
TZOFFSETFROM:-0400
TZOFFSETTO:-0500
TZNAME:EST
DTSTART:20251102T060000
END:STANDARD
END:VTIMEZONE
BEGIN:VEVENT
DTSTART;TZID=America/New_York:20240608T110000
DTEND;TZID=America/New_York:20240608T235900
DTSTAMP:20260420T012102
CREATED:20240430T230329Z
LAST-MODIFIED:20240430T230329Z
UID:10704-1717844400-1717891140@ddrcommunity.com
SUMMARY:Salt City 2024
DESCRIPTION:Utah based tournament with all levels welcome! Lower\, Mid\, and Upper divisions!
URL:https://ddrcommunity.com/event/salt-city-2024/
LOCATION:Round 1 South Town Mall\, 10450 State St\, Sandy\, UT\, 84070\, United States
CATEGORIES:Tournaments
ATTACH;FMTTYPE=image/png:https://ddrcommunity.com/wp-content/uploads/2024/04/Modern_Game_Esport_Competition_Team.png
END:VEVENT
BEGIN:VEVENT
DTSTART;TZID=America/New_York:20240628T100000
DTEND;TZID=America/New_York:20240630T180000
DTSTAMP:20260420T012102
CREATED:20240421T015809Z
LAST-MODIFIED:20240421T015809Z
UID:10335-1719568800-1719770400@ddrcommunity.com
SUMMARY:Project Storm @ CEO 2024
DESCRIPTION:Project Storm\, also known as  DDR Storm\, is one of the longest running multi-dance game tournaments in the United States! This year the event is once again presented by Storm x League and hosted by CEO Gaming as part of CEO Fighting Game Championships on June 28-30\, 2024 at the Ocean Center Convention Center in Daytona Beach\, FL. \nThis year the main events at Project Storm are: \n\nDDR A20PLUS\nITG2 (SM5 Tech) – Song Pack\nStepManiaX\nPump It Up Phoenix\n\nThere are also various planned community events for Dance Rush\, PIU\, StepManiaX\, and DDR Extreme Pro! \nAny community members who wish to run community events may also look through the official start.gg site and follow the appropriate steps to run their own dance/rhythm game side events during the weekend if they do not conflict with a main event. Please be sure to check out the official CEO Discord CEOGaming Twitter Alex Jebailey Twitter Steven Lo (VivaLaMoo) Twitter for general event updates and/or if you have any event questions! Please also see the Discord for hotel/travel updates and inquires (#hotel-travel-venue channel). \n  \n  \n 
URL:https://ddrcommunity.com/event/project-storm-ceo-2024/
LOCATION:Ocean Center\, 101 N Atlantic Ave\, Daytona Beach\, FL\, 32118\, United States
CATEGORIES:Tournaments
ATTACH;FMTTYPE=image/png:https://ddrcommunity.com/wp-content/uploads/2024/04/Logobg-storm-1.png
ORGANIZER;CN="Storm x League":MAILTO:musicgamesatl@gmail.com
END:VEVENT
BEGIN:VEVENT
DTSTART;TZID=America/New_York:20240629T000000
DTEND;TZID=America/New_York:20240629T235900
DTSTAMP:20260420T012102
CREATED:20240411T033616Z
LAST-MODIFIED:20240412T011727Z
UID:8749-1719619200-1719705540@ddrcommunity.com
SUMMARY:Road to B1g One
DESCRIPTION:Attention all DDR and Pump It Up lovers! Welcome to our new event in Madrid\, Spain!  It’s time to start the exciting path to B1g One! We are pleased to announce that next June 29\, we will be celebrating our “Road to B1g One” tournament at the Nextage association in Madrid\, in which we will also enjoy a DDR tournament thanks to our friends Rhythm Masters. This event will mark the beginning of an incredible journey towards the biggest and most exciting competition of the year.   This event promises to be an experience full of excitement\, rhythm and friendly competition. This “Road to B1g One” tournament will not only be a competition\, but also an unforgettable experience full of fun and opportunities to grow as a player.   The tournament will feature incredible prizes for champions\, including Cash Prize to financially support those who wish to travel to compete in B1G One.   The following link will lead you to the regulations of the event and both tournaments\, and also the registration form: https://me-qr.com/es/link-list/6bN4NG2h/show      The Nextage association in Madrid will be the perfect setting for this epic event. So mark your calendar\, get ready to dance and join us on June 29 for an unforgettable day   PS: As the association is a private venue\, we will share the exact location with the players who register when the date approaches. For the moment\, for those who need to reserve accommodation\, here is an approximate indication of the place: https://zenius-i-vanisher.com/v5.2/arcade.php?id=7309#summary    Place: Nextage Association of Madrid\, Spain Date: June 29\, 2024 Doors opening 9:30 a.m. Start of the tournament 10h00
URL:https://ddrcommunity.com/event/road-to-b1g-one/
LOCATION:Nextage Madrid
CATEGORIES:Tournaments
ATTACH;FMTTYPE=image/jpeg:https://ddrcommunity.com/wp-content/uploads/2024/03/Road-to-B1g-One-Spain.jpg
END:VEVENT
END:VCALENDAR