BEGIN:VCALENDAR
VERSION:2.0
PRODID:-//DDRCommunity - ECPv6.15.14//NONSGML v1.0//EN
CALSCALE:GREGORIAN
METHOD:PUBLISH
X-ORIGINAL-URL:https://ddrcommunity.com
X-WR-CALDESC:Events for DDRCommunity
REFRESH-INTERVAL;VALUE=DURATION:PT1H
X-Robots-Tag:noindex
X-PUBLISHED-TTL:PT1H
BEGIN:VTIMEZONE
TZID:America/New_York
BEGIN:DAYLIGHT
TZOFFSETFROM:-0500
TZOFFSETTO:-0400
TZNAME:EDT
DTSTART:20170312T070000
END:DAYLIGHT
BEGIN:STANDARD
TZOFFSETFROM:-0400
TZOFFSETTO:-0500
TZNAME:EST
DTSTART:20171105T060000
END:STANDARD
BEGIN:DAYLIGHT
TZOFFSETFROM:-0500
TZOFFSETTO:-0400
TZNAME:EDT
DTSTART:20180311T070000
END:DAYLIGHT
BEGIN:STANDARD
TZOFFSETFROM:-0400
TZOFFSETTO:-0500
TZNAME:EST
DTSTART:20181104T060000
END:STANDARD
BEGIN:DAYLIGHT
TZOFFSETFROM:-0500
TZOFFSETTO:-0400
TZNAME:EDT
DTSTART:20190310T070000
END:DAYLIGHT
BEGIN:STANDARD
TZOFFSETFROM:-0400
TZOFFSETTO:-0500
TZNAME:EST
DTSTART:20191103T060000
END:STANDARD
END:VTIMEZONE
BEGIN:VEVENT
DTSTART;TZID=America/New_York:20181116T090000
DTEND;TZID=America/New_York:20181118T180000
DTSTAMP:20260425T193133
CREATED:20181105T195848Z
LAST-MODIFIED:20181205T170029Z
UID:3600-1542358800-1542564000@ddrcommunity.com
SUMMARY:DreamHack Atlanta 2018 - The Calm Before the Storm
DESCRIPTION:We’re proud to partner up with Arcade Impact and DDR Storm to host tournaments for Dance Dance Revolution and Pump It Up PRIME 2 at DreamHack Atlanta 2018! \n※ DREAMHACK ATLANTA PASSES WILL BE REQUIRED UPON ENTRY OF THE VENUE. ※\nYou may purchase event passes in advance here in the meantime: https://www.tixr.com/groups/dreamhack/events/dreamhack-atlanta-2018-8474 \n\nRegistration form for our dance game tournaments at @DreamHack Atlanta next weekend is now live! @MomoCon will also be providing full membership badges as winning prizes for both tournaments! \nSee you next weekend!Form: https://t.co/CMKPgRVsSOEvent page: https://t.co/Z40dTCs6oQ pic.twitter.com/yDuuLs02Te \n— Storm × League (@stormxleague) November 5\, 2018
URL:https://ddrcommunity.com/event/dreamhack-atlanta-2018-the-calm-before-the-storm/
LOCATION:Georgia World Congress Center Authority\, 285 Andrew Young International Blvd NW\, Atlanta\, GA\, 30313\, United States
CATEGORIES:Tournaments
ATTACH;FMTTYPE=image/jpeg:https://ddrcommunity.com/wp-content/uploads/2018/11/44249040_1155270481287316_9186982436813144064_n.jpg
ORGANIZER;CN="Vincent Kim":MAILTO:mailto:musicgamesatl@gmail.com
END:VEVENT
END:VCALENDAR