BEGIN:VCALENDAR
VERSION:2.0
PRODID:-//DDRCommunity - ECPv6.15.14//NONSGML v1.0//EN
CALSCALE:GREGORIAN
METHOD:PUBLISH
X-WR-CALNAME:DDRCommunity
X-ORIGINAL-URL:https://ddrcommunity.com
X-WR-CALDESC:Events for DDRCommunity
REFRESH-INTERVAL;VALUE=DURATION:PT1H
X-Robots-Tag:noindex
X-PUBLISHED-TTL:PT1H
BEGIN:VTIMEZONE
TZID:America/New_York
BEGIN:DAYLIGHT
TZOFFSETFROM:-0500
TZOFFSETTO:-0400
TZNAME:EDT
DTSTART:20190310T070000
END:DAYLIGHT
BEGIN:STANDARD
TZOFFSETFROM:-0400
TZOFFSETTO:-0500
TZNAME:EST
DTSTART:20191103T060000
END:STANDARD
BEGIN:DAYLIGHT
TZOFFSETFROM:-0500
TZOFFSETTO:-0400
TZNAME:EDT
DTSTART:20200308T070000
END:DAYLIGHT
BEGIN:STANDARD
TZOFFSETFROM:-0400
TZOFFSETTO:-0500
TZNAME:EST
DTSTART:20201101T060000
END:STANDARD
BEGIN:DAYLIGHT
TZOFFSETFROM:-0500
TZOFFSETTO:-0400
TZNAME:EDT
DTSTART:20210314T070000
END:DAYLIGHT
BEGIN:STANDARD
TZOFFSETFROM:-0400
TZOFFSETTO:-0500
TZNAME:EST
DTSTART:20211107T060000
END:STANDARD
END:VTIMEZONE
BEGIN:VEVENT
DTSTART;TZID=America/New_York:20200626T193000
DTEND;TZID=America/New_York:20200628T020000
DTSTAMP:20260424T180902
CREATED:20240411T035041Z
LAST-MODIFIED:20240411T042200Z
UID:8820-1593199800-1593309600@ddrcommunity.com
SUMMARY:System Arcadia Presents Shakunetsu (灼熱) APPEND – We’re Going Global
DESCRIPTION:If you thought a pandemic closing down clubs across the United States was going to stop us from running a show this year\, you are all sorely mistaken. For the first time ever\, System Arcadia will be running a web-show to entertain you online instead of the club during these uncertain times.System Arcadia presents Shakunetsu Append\, our company’s first web-show live exclusively on Twitch via twitch.tv/systemarcadia. This is going to be a two-night event featuring a whopping 16 acts total from 3 different countries: United States\, United Kingdom\, and Japan. Each night will begin at 7:30 P.M. EST (8:30 A.M. JST) and run roughly until 2 A.M. EST (15:00 P.M. JST). If you’re an avid beatmania fan\, you might have noticed we went with a heavy reference to the PlayStation games GottaMix 1 and 2. We decided that since our webshow is featuring broadcasts from multiple countries that the punchline of GottaMix 2 “Going Global” made a lot of sense. The design work was all done by our long-time friend Mike DeBisco\, who has been doing design work for System Arcadia since Shakunetsu 2 in 2016. He has such fantastic talent and if you’re curious to see more of his work\, please look up DeBisco on Facebook and Twitter and give him a follow.\nSo what’s the lineup looking like? Below is the full lineup along with scheduled starts. All start times are listed in EST.\nFriday \nDeBisco: 7:30 – 8:00 PM — Pre-show set\nToste: 8:00 – 8:30 PM\nZach Goin: 8:30 – 9:00 PM\nSnack Attack Block: 9:00 – 11:00 PM \nW.T. Snacks: 9:00 – 9:40 PM\nSnack Attack: 9:40 – 10:20 PM\nDJ HYPE*GIRL: 10:20 – 11:00 PM \nFlapjack: 11:00 PM – 12:00 AM\nTwo-hour special performance by the label Enigma\, hosted by CUBE in Tokyo\, Japan: 12:00 – 2:00 AM \nBound Round & AkuaMarine B2B: 12:00 – 1:00 AM\nni-21: 1:00 – 2:00 AM \nSaturday \nDeBisco: 7:30 – 8:00 PM — Pre-show set\nBadaxe: 8:00 – 8:30 PM\nSawtooth: 8:30 – 9:00 PM\nAkemi: 9:00 – 10:00 PM\nBadcorey: 10:00 – 11:00 PM\nJAKAZiD: 11:00 PM – 12:00 AM\nKent Alexander: 12:00 – 1:00 AM\nREMO-CON: 1:00 – 2:00 AM \nThis show is going to be one for the ages\, so don’t miss it. Tell your friends and join us for System Arcadia’s first of many webshows. Make sure to follow us on Twitch\, Facebook\, and Twitter so you know the second we go live and to stay current with our happenings throughout the Summer because we have a lot more stuff to announce in the coming weeks. See you all at the webshow!\nLastly\, if you want to help us promote the show\, we are making several pieces of digital promotional materials for people to use to spread word of this amazing show. Send an e-mail inquiry to sigma@systemarcadia.com for more information.\nTwitch: twitch.tv/systemarcadia\nFacebook: facebook.com/systemarcadia\nTwitter: twitter.com/systemarcadia
URL:https://ddrcommunity.com/event/system-arcadia-presents-shakunetsu-%e7%81%bc%e7%86%b1-append-were-going-global/
LOCATION:VA
CATEGORIES:Concerts
ATTACH;FMTTYPE=image/png:https://ddrcommunity.com/wp-content/uploads/2024/04/append-feature-images-MRVsfv.tmp_.png
END:VEVENT
END:VCALENDAR