BEGIN:VCALENDAR
VERSION:2.0
PRODID:-//DDRCommunity - ECPv6.15.14//NONSGML v1.0//EN
CALSCALE:GREGORIAN
METHOD:PUBLISH
X-ORIGINAL-URL:https://ddrcommunity.com
X-WR-CALDESC:Events for DDRCommunity
REFRESH-INTERVAL;VALUE=DURATION:PT1H
X-Robots-Tag:noindex
X-PUBLISHED-TTL:PT1H
BEGIN:VTIMEZONE
TZID:America/New_York
BEGIN:DAYLIGHT
TZOFFSETFROM:-0500
TZOFFSETTO:-0400
TZNAME:EDT
DTSTART:20210314T070000
END:DAYLIGHT
BEGIN:STANDARD
TZOFFSETFROM:-0400
TZOFFSETTO:-0500
TZNAME:EST
DTSTART:20211107T060000
END:STANDARD
BEGIN:DAYLIGHT
TZOFFSETFROM:-0500
TZOFFSETTO:-0400
TZNAME:EDT
DTSTART:20220313T070000
END:DAYLIGHT
BEGIN:STANDARD
TZOFFSETFROM:-0400
TZOFFSETTO:-0500
TZNAME:EST
DTSTART:20221106T060000
END:STANDARD
BEGIN:DAYLIGHT
TZOFFSETFROM:-0500
TZOFFSETTO:-0400
TZNAME:EDT
DTSTART:20230312T070000
END:DAYLIGHT
BEGIN:STANDARD
TZOFFSETFROM:-0400
TZOFFSETTO:-0500
TZNAME:EST
DTSTART:20231105T060000
END:STANDARD
END:VTIMEZONE
BEGIN:VEVENT
DTSTART;TZID=America/New_York:20220415T000000
DTEND;TZID=America/New_York:20220416T235900
DTSTAMP:20260420T022145
CREATED:20240411T034737Z
LAST-MODIFIED:20240412T012311Z
UID:8804-1649980800-1650153540@ddrcommunity.com
SUMMARY:Nordic Cup 3
DESCRIPTION:One of the biggest and best dance gaming tournaments in Europe!Our main focus is to get the community together\, have fun and enjoy exciting matches!  There are two different main tournaments\, one for Precision(FA/TECH) and one for Stamina. These events have multiple different skill divisions\, so everyone will have something for them. There will be also one extra passive tournament which is played with one Marathon which contains songs from Official games. Feel free to join the fun! Registration is open until April 10th and everyone around the globe is welcome to join!
URL:https://ddrcommunity.com/event/nordic-cup-3/
LOCATION:Europe\, Netherlands
CATEGORIES:Tournaments
ATTACH;FMTTYPE=image/png:https://ddrcommunity.com/wp-content/uploads/2024/04/bn-1-Mnv4m1.tmp_.png
END:VEVENT
END:VCALENDAR