BEGIN:VCALENDAR
VERSION:2.0
PRODID:-//DDRCommunity - ECPv6.15.14//NONSGML v1.0//EN
CALSCALE:GREGORIAN
METHOD:PUBLISH
X-ORIGINAL-URL:https://ddrcommunity.com
X-WR-CALDESC:Events for DDRCommunity
REFRESH-INTERVAL;VALUE=DURATION:PT1H
X-Robots-Tag:noindex
X-PUBLISHED-TTL:PT1H
BEGIN:VTIMEZONE
TZID:America/New_York
BEGIN:DAYLIGHT
TZOFFSETFROM:-0500
TZOFFSETTO:-0400
TZNAME:EDT
DTSTART:20210314T070000
END:DAYLIGHT
BEGIN:STANDARD
TZOFFSETFROM:-0400
TZOFFSETTO:-0500
TZNAME:EST
DTSTART:20211107T060000
END:STANDARD
BEGIN:DAYLIGHT
TZOFFSETFROM:-0500
TZOFFSETTO:-0400
TZNAME:EDT
DTSTART:20220313T070000
END:DAYLIGHT
BEGIN:STANDARD
TZOFFSETFROM:-0400
TZOFFSETTO:-0500
TZNAME:EST
DTSTART:20221106T060000
END:STANDARD
BEGIN:DAYLIGHT
TZOFFSETFROM:-0500
TZOFFSETTO:-0400
TZNAME:EDT
DTSTART:20230312T070000
END:DAYLIGHT
BEGIN:STANDARD
TZOFFSETFROM:-0400
TZOFFSETTO:-0500
TZNAME:EST
DTSTART:20231105T060000
END:STANDARD
END:VTIMEZONE
BEGIN:VEVENT
DTSTART;TZID=America/New_York:20220819T000000
DTEND;TZID=America/New_York:20220820T235900
DTSTAMP:20260419T200340
CREATED:20240411T034723Z
LAST-MODIFIED:20240412T012255Z
UID:8800-1660867200-1661039940@ddrcommunity.com
SUMMARY:Nordic Cup 3.5 The Invitational
DESCRIPTION:Nordic Cup 3.5 is an invitational tournament where all the best players from previous events compete!The tournament is held during August 19th to 21st\, in McKylä Superarcade with currently planned disciplines of Precision and Stamina. The venue is considerably smaller than our usual Arabia Youth Center\, so no spectators are allowed to the venue during tournament hours. All spectators are more than welcome to the after parties on both 19th and 20th August! The tournament will be streamed online so all the spectators can watch it from a cozy place. We are hoping to book a nice sauna for both Friday and Saturday. See you all in the summer! <3
URL:https://ddrcommunity.com/event/nordic-cup-3-5-the-invitational/
LOCATION:Europe\, Netherlands
CATEGORIES:Tournaments
ATTACH;FMTTYPE=image/png:https://ddrcommunity.com/wp-content/uploads/2024/04/nc36-YOzMuw.tmp_.png
END:VEVENT
END:VCALENDAR