BEGIN:VCALENDAR
VERSION:2.0
PRODID:-//DDRCommunity - ECPv6.15.14//NONSGML v1.0//EN
CALSCALE:GREGORIAN
METHOD:PUBLISH
X-ORIGINAL-URL:https://ddrcommunity.com
X-WR-CALDESC:Events for DDRCommunity
REFRESH-INTERVAL;VALUE=DURATION:PT1H
X-Robots-Tag:noindex
X-PUBLISHED-TTL:PT1H
BEGIN:VTIMEZONE
TZID:America/New_York
BEGIN:DAYLIGHT
TZOFFSETFROM:-0500
TZOFFSETTO:-0400
TZNAME:EDT
DTSTART:20170312T070000
END:DAYLIGHT
BEGIN:STANDARD
TZOFFSETFROM:-0400
TZOFFSETTO:-0500
TZNAME:EST
DTSTART:20171105T060000
END:STANDARD
BEGIN:DAYLIGHT
TZOFFSETFROM:-0500
TZOFFSETTO:-0400
TZNAME:EDT
DTSTART:20180311T070000
END:DAYLIGHT
BEGIN:STANDARD
TZOFFSETFROM:-0400
TZOFFSETTO:-0500
TZNAME:EST
DTSTART:20181104T060000
END:STANDARD
BEGIN:DAYLIGHT
TZOFFSETFROM:-0500
TZOFFSETTO:-0400
TZNAME:EDT
DTSTART:20190310T070000
END:DAYLIGHT
BEGIN:STANDARD
TZOFFSETFROM:-0400
TZOFFSETTO:-0500
TZNAME:EST
DTSTART:20191103T060000
END:STANDARD
END:VTIMEZONE
BEGIN:VEVENT
DTSTART;TZID=America/New_York:20181229T110000
DTEND;TZID=America/New_York:20181229T180000
DTSTAMP:20260425T225522
CREATED:20181105T224928Z
LAST-MODIFIED:20240411T040804Z
UID:3605-1546081200-1546106400@ddrcommunity.com
SUMMARY:December 2 Remember
DESCRIPTION:Get hype for December 2 Remember! Our trailer reveals the team captains for our 8v8 squad battle\, our remote qualifier set and what’s in store for our first-ever D2R Freestyle Champion! We’re ending 2018 in style at @ESAOakland!#DDR #DanceDanceRevolution pic.twitter.com/uWbaFmeKa5\n— Freestyle Takeover (@FSTakeover) November 19\, 2018 \nD2R squad battle rules are up! https://t.co/1TYUSineMW\nQUALIFIER SET:– D2R (ESP 11)– Paranoia KCET (CSP 15)– DDR Megamix (ESP 15)\nSend your scores to staff [at] https://t.co/WfoVavoMiZ or tag w/ #D2RQualifier by 12/10. Top 8 will be drafted onto @fungah_ + @CHRS4LFE’s teams! pic.twitter.com/x1GMe2T744\n— Freestyle Takeover (@FSTakeover) November 26\, 2018 \nWe’ll be making next month a DECEMBER 2 REMEMBER on with a premiere DDR Freestyle championship showdown and 8-on-8 technical team battle at Esports Arena Oakland!\nThis will be a 20th anniversary celebration of the game we love and a huge opportunity for the DDR community to showcase its very best players. Details/mixes forthcoming but you are not going to want to miss this!
URL:https://ddrcommunity.com/event/december-2-remember/
LOCATION:Esports Arena Oakland\, 255 2nd St\, Oakland\, CA\, 94607\, United States
CATEGORIES:Tournaments
ATTACH;FMTTYPE=image/jpeg:https://ddrcommunity.com/wp-content/uploads/2024/04/45617338_315238919064202_2460587747425910784_n-480x320-z3tpGx.tmp_.jpg
END:VEVENT
END:VCALENDAR