BEGIN:VCALENDAR
VERSION:2.0
PRODID:-//DDRCommunity - ECPv6.15.14//NONSGML v1.0//EN
CALSCALE:GREGORIAN
METHOD:PUBLISH
X-WR-CALNAME:DDRCommunity
X-ORIGINAL-URL:https://ddrcommunity.com
X-WR-CALDESC:Events for DDRCommunity
REFRESH-INTERVAL;VALUE=DURATION:PT1H
X-Robots-Tag:noindex
X-PUBLISHED-TTL:PT1H
BEGIN:VTIMEZONE
TZID:America/New_York
BEGIN:DAYLIGHT
TZOFFSETFROM:-0500
TZOFFSETTO:-0400
TZNAME:EDT
DTSTART:20180311T070000
END:DAYLIGHT
BEGIN:STANDARD
TZOFFSETFROM:-0400
TZOFFSETTO:-0500
TZNAME:EST
DTSTART:20181104T060000
END:STANDARD
BEGIN:DAYLIGHT
TZOFFSETFROM:-0500
TZOFFSETTO:-0400
TZNAME:EDT
DTSTART:20190310T070000
END:DAYLIGHT
BEGIN:STANDARD
TZOFFSETFROM:-0400
TZOFFSETTO:-0500
TZNAME:EST
DTSTART:20191103T060000
END:STANDARD
BEGIN:DAYLIGHT
TZOFFSETFROM:-0500
TZOFFSETTO:-0400
TZNAME:EDT
DTSTART:20200308T070000
END:DAYLIGHT
BEGIN:STANDARD
TZOFFSETFROM:-0400
TZOFFSETTO:-0500
TZNAME:EST
DTSTART:20201101T060000
END:STANDARD
END:VTIMEZONE
BEGIN:VEVENT
DTSTART;TZID=America/New_York:20190525T190000
DTEND;TZID=America/New_York:20190525T210000
DTSTAMP:20260425T153106
CREATED:20190430T031150Z
LAST-MODIFIED:20240411T040147Z
UID:4197-1558810800-1558818000@ddrcommunity.com
SUMMARY:Freestyle Takeover: Fanime 2019
DESCRIPTION:We’re returning to the Fanime games hall on the year of the SILVER CELEBRATION~ for another round of Dance Dance Revolution freestyle!WHAT: A DDR 5th Mix freestyle tournament\nWHERE: FanimeCon gaming hall\nWHEN: Saturday 5/25 @ 7pm\nRULES:\nROUND 1 – IMPROV CARD DRAW\n3 song choices will come up – eliminate 2 and perform an improv to the remaining song. Top 8 dancers will advance to round 2.\nROUND 2 – ROUTINE\nPerform to any song you want on 5th mix. Come prepared and knock this round out of the park!\nPRIZES\n1st prize – 60% of the pot\, a sweet daypack from The Shrine and a DDR-themed canteen!\n2nd prize – 25% of the pot + DDR canteen!\n3rd prize – 15% of the pot and a mystery prize!\nJudges TBD\nFollow us here and on Twitter @FSTakeover for more!
URL:https://ddrcommunity.com/event/freestyle-takeover-fanime-2019/
LOCATION:San Jose Convention Center\, 410 Almaden Blvd\, San Jose\, CA\, 95110\, United States
CATEGORIES:Tournaments
ATTACH;FMTTYPE=image/jpeg:https://ddrcommunity.com/wp-content/uploads/2024/04/59418345_391519631436130_6235936211895058432_n-480x320-aVRieW.tmp_.jpg
END:VEVENT
END:VCALENDAR