BEGIN:VCALENDAR
VERSION:2.0
PRODID:-//DDRCommunity - ECPv6.15.14//NONSGML v1.0//EN
CALSCALE:GREGORIAN
METHOD:PUBLISH
X-WR-CALNAME:DDRCommunity
X-ORIGINAL-URL:https://ddrcommunity.com
X-WR-CALDESC:Events for DDRCommunity
REFRESH-INTERVAL;VALUE=DURATION:PT1H
X-Robots-Tag:noindex
X-PUBLISHED-TTL:PT1H
BEGIN:VTIMEZONE
TZID:America/New_York
BEGIN:DAYLIGHT
TZOFFSETFROM:-0500
TZOFFSETTO:-0400
TZNAME:EDT
DTSTART:20180311T070000
END:DAYLIGHT
BEGIN:STANDARD
TZOFFSETFROM:-0400
TZOFFSETTO:-0500
TZNAME:EST
DTSTART:20181104T060000
END:STANDARD
BEGIN:DAYLIGHT
TZOFFSETFROM:-0500
TZOFFSETTO:-0400
TZNAME:EDT
DTSTART:20190310T070000
END:DAYLIGHT
BEGIN:STANDARD
TZOFFSETFROM:-0400
TZOFFSETTO:-0500
TZNAME:EST
DTSTART:20191103T060000
END:STANDARD
BEGIN:DAYLIGHT
TZOFFSETFROM:-0500
TZOFFSETTO:-0400
TZNAME:EDT
DTSTART:20200308T070000
END:DAYLIGHT
BEGIN:STANDARD
TZOFFSETFROM:-0400
TZOFFSETTO:-0500
TZNAME:EST
DTSTART:20201101T060000
END:STANDARD
END:VTIMEZONE
BEGIN:VEVENT
DTSTART;TZID=America/New_York:20190201T210000
DTEND;TZID=America/New_York:20190203T000000
DTSTAMP:20260425T113920
CREATED:20190108T153426Z
LAST-MODIFIED:20240411T040801Z
UID:3787-1549054800-1549152000@ddrcommunity.com
SUMMARY:Genesis 6
DESCRIPTION:GENESIS 6 is once again back in Oakland\, at the spacious Oakland Marriott City Convention Center! 60\,000+ sqft of competitive gaming with our Top 8 Sunday taking place at the beautiful Paramount Theatre!LINE UP:\nSuper Smash Bros. 64\nSuper Smash Bros. Melee\nSuper Smash Bros. Ultimate\nRivals of Aether\nSplatoon 2\nDDR Extreme\nSlap City\nMagical Drop 3\nHOTEL:\nBook your hotel rooms today before they’re sold out!\nhttps://book.passkey.com/e/49731337\nFEES:\nEVENTS:\n$10/event\, limit 4 events per person\n(Due to time constraints\, players entering Splatoon 2 are limited to only 2 events total)\nCOMPETITOR PASS:\n$70 for main registration period\, until 12/17\n$85 for late registration\, until 01/07/19\n$100 for emergency registration\, until 01/15/19\n(All Competitor/Spectator passes are non-refundable/non-transferable)\nSPECTATOR PASS:\n$50 – Two-Day Pass\n$30 – One-day pass\n(All Competitor/Spectator passes are non-refundable/non-transferable)\n(Add $5 for purchasing Spectator pass in person during event)\n-A competitor or spectator pass is required for entry into the main ballroom.-\nSUNDAY TOP 8 VENUE:\n$45\nOrchestra Front\n$25\nBalcony & Orchestra Rear\nLimited to registered spectators/attendees until (1/07)\nAvailable to general public at that time and on-site if tickets remain available.\n— Top 8 tickets ARE refundable and transferable —\nBalcony seating (https://imgur.com/Lt9VptV)\nOrchestra seating diagram (https://imgur.com/HWaQUpp)\nTRAVEL\nThe closest airport to GENESIS 6 is Oakland (OAK). SFO is also an option due to BART being accessible from either airport directly to the vicinity of the venue. SJC (San Jose International) is not recommended due to its distance\, and lack of public transportation directly to Oakland.\nVisit genesisgaming.gg for more information
URL:https://ddrcommunity.com/event/genesis-6/
LOCATION:Oakland Marriott City Center\, 1001 Broadway\, Oakland\, CA\, 94607\, United States
CATEGORIES:Tournaments
ATTACH;FMTTYPE=image/jpeg:https://ddrcommunity.com/wp-content/uploads/2024/04/47307621_1316168651854855_139591513771343872_o-480x320-Of6LEB.tmp_.jpg
END:VEVENT
END:VCALENDAR