BEGIN:VCALENDAR
VERSION:2.0
PRODID:-//DDRCommunity - ECPv6.15.14//NONSGML v1.0//EN
CALSCALE:GREGORIAN
METHOD:PUBLISH
X-ORIGINAL-URL:https://ddrcommunity.com
X-WR-CALDESC:Events for DDRCommunity
REFRESH-INTERVAL;VALUE=DURATION:PT1H
X-Robots-Tag:noindex
X-PUBLISHED-TTL:PT1H
BEGIN:VTIMEZONE
TZID:America/New_York
BEGIN:DAYLIGHT
TZOFFSETFROM:-0500
TZOFFSETTO:-0400
TZNAME:EDT
DTSTART:20180311T070000
END:DAYLIGHT
BEGIN:STANDARD
TZOFFSETFROM:-0400
TZOFFSETTO:-0500
TZNAME:EST
DTSTART:20181104T060000
END:STANDARD
BEGIN:DAYLIGHT
TZOFFSETFROM:-0500
TZOFFSETTO:-0400
TZNAME:EDT
DTSTART:20190310T070000
END:DAYLIGHT
BEGIN:STANDARD
TZOFFSETFROM:-0400
TZOFFSETTO:-0500
TZNAME:EST
DTSTART:20191103T060000
END:STANDARD
BEGIN:DAYLIGHT
TZOFFSETFROM:-0500
TZOFFSETTO:-0400
TZNAME:EDT
DTSTART:20200308T070000
END:DAYLIGHT
BEGIN:STANDARD
TZOFFSETFROM:-0400
TZOFFSETTO:-0500
TZNAME:EST
DTSTART:20201101T060000
END:STANDARD
END:VTIMEZONE
BEGIN:VEVENT
DTSTART;VALUE=DATE:20190802
DTEND;VALUE=DATE:20190805
DTSTAMP:20260425T180959
CREATED:20190523T195449Z
LAST-MODIFIED:20190523T195449Z
UID:4293-1564704000-1564963199@ddrcommunity.com
SUMMARY:East Coast FA 6
DESCRIPTION:Qualifiers due: June 5th\, 2019 \nImportant links: \n\nPack/contents: \nhttps://drive.google.com/open… \nQualifying spreadsheet: \nhttps://docs.google.com/…/1Iq8pisVJHXZJ46RuY_Y7GUtngK…/edit… \nECFA 6 details: \nAugust 2nd to 4th 2019\nSouth Park\, PA\nHard Fa\, FA+\, HS3 \nThis event will be the 6th installment of the ECFA series\, with the usual Hard FA and FA+ and newly added HS division. The 6th iteration will have a bit of a twist and some new ideas and flavor added to the mix that I’m excited to try! \nAs usual\, the primary focus of the event is 4 panel ITG/SM5 emphasizing technical footwork and precise timing. The content provided will be of the highest quality and technicality available. The contents will be a combination of very new or unreleased content and content ranging from 2009 to 2018 that have stood the test of time in quality and play-ability. \nECFA has had a reputation for a serious\, yet thoroughly enjoyable experience for everyone of all skill ranges. There will be other forms of entertainment provided\, as well as prizes\, trophies\, awards\, and food for guests and spectators. I am sincerely looking forward to all of your interests and hope to see everyone playing to their max potential for these qualifiers. Good luck!
URL:https://ddrcommunity.com/event/east-coast-fa-6/
LOCATION:ECFA\, South Park Township\, PA\, United States
CATEGORIES:Tournaments
ATTACH;FMTTYPE=image/png:https://ddrcommunity.com/wp-content/uploads/2019/05/ECFA6-bn.png
END:VEVENT
END:VCALENDAR