BEGIN:VCALENDAR
VERSION:2.0
PRODID:-//DDRCommunity - ECPv6.15.14//NONSGML v1.0//EN
CALSCALE:GREGORIAN
METHOD:PUBLISH
X-ORIGINAL-URL:https://ddrcommunity.com
X-WR-CALDESC:Events for DDRCommunity
REFRESH-INTERVAL;VALUE=DURATION:PT1H
X-Robots-Tag:noindex
X-PUBLISHED-TTL:PT1H
BEGIN:VTIMEZONE
TZID:America/Chicago
BEGIN:DAYLIGHT
TZOFFSETFROM:-0600
TZOFFSETTO:-0500
TZNAME:CDT
DTSTART:20230312T080000
END:DAYLIGHT
BEGIN:STANDARD
TZOFFSETFROM:-0500
TZOFFSETTO:-0600
TZNAME:CST
DTSTART:20231105T070000
END:STANDARD
BEGIN:DAYLIGHT
TZOFFSETFROM:-0600
TZOFFSETTO:-0500
TZNAME:CDT
DTSTART:20240310T080000
END:DAYLIGHT
BEGIN:STANDARD
TZOFFSETFROM:-0500
TZOFFSETTO:-0600
TZNAME:CST
DTSTART:20241103T070000
END:STANDARD
BEGIN:DAYLIGHT
TZOFFSETFROM:-0600
TZOFFSETTO:-0500
TZNAME:CDT
DTSTART:20250309T080000
END:DAYLIGHT
BEGIN:STANDARD
TZOFFSETFROM:-0500
TZOFFSETTO:-0600
TZNAME:CST
DTSTART:20251102T070000
END:STANDARD
END:VTIMEZONE
BEGIN:VEVENT
DTSTART;VALUE=DATE:20240712
DTEND;VALUE=DATE:20240715
DTSTAMP:20260419T235604
CREATED:20240420T220023Z
LAST-MODIFIED:20240420T220023Z
UID:10428-1720742400-1721001599@ddrcommunity.com
SUMMARY:BHOP BALL #2
DESCRIPTION:Bhop Esports presents the Bhop ball #2 SMX and ITG tournament July 12-14th\nAll of you are cordially invited to BHOP Ball #2. This time around we will have 2 StepManiaX setups and 2 ITG setups\, with special guests DDR Extreme and Pump It Up XX\nSign up today! www.start.gg/bhopball Date: Friday (free play)\, Saturday (pools)\, and Sunday (Top 8)\, July 12th – 14th\nVenue: BHOP Esports 122 Hawthorn Ctr Space 532 Vernon Hills IL 60061 Main Events: ITG Tech and StepManiaX Capacity: 32 players per event (may be subject to change). Please register as soon as possible to secure your spot! https://discord.gg/3VxaaXCV Here is the link to our discord for further announcements on qualifiers/the Bhop ball ITG pack\nSTART.GG LINK https://www.start.gg/tournament/bhop-ball-2/details start.gg We will be having extra setups this time and expect more people than ever! Hope to see y’all there! (edited)
URL:https://ddrcommunity.com/event/bhop-ball-2/
LOCATION:BHOP Esports\, Hawthorn Mall\, Vernon Hills IL
CATEGORIES:Tournaments
ATTACH;FMTTYPE=image/png:https://ddrcommunity.com/wp-content/uploads/2024/04/bhop2startggbannertemp.png
ORGANIZER;CN="BHOP Esports":MAILTO:admin@bhopesports.com
END:VEVENT
END:VCALENDAR