BEGIN:VCALENDAR
VERSION:2.0
PRODID:-//DDRCommunity - ECPv6.15.14//NONSGML v1.0//EN
CALSCALE:GREGORIAN
METHOD:PUBLISH
X-ORIGINAL-URL:https://ddrcommunity.com
X-WR-CALDESC:Events for DDRCommunity
REFRESH-INTERVAL;VALUE=DURATION:PT1H
X-Robots-Tag:noindex
X-PUBLISHED-TTL:PT1H
BEGIN:VTIMEZONE
TZID:America/Chicago
BEGIN:DAYLIGHT
TZOFFSETFROM:-0600
TZOFFSETTO:-0500
TZNAME:CDT
DTSTART:20240310T080000
END:DAYLIGHT
BEGIN:STANDARD
TZOFFSETFROM:-0500
TZOFFSETTO:-0600
TZNAME:CST
DTSTART:20241103T070000
END:STANDARD
BEGIN:DAYLIGHT
TZOFFSETFROM:-0600
TZOFFSETTO:-0500
TZNAME:CDT
DTSTART:20250309T080000
END:DAYLIGHT
BEGIN:STANDARD
TZOFFSETFROM:-0500
TZOFFSETTO:-0600
TZNAME:CST
DTSTART:20251102T070000
END:STANDARD
BEGIN:DAYLIGHT
TZOFFSETFROM:-0600
TZOFFSETTO:-0500
TZNAME:CDT
DTSTART:20260308T080000
END:DAYLIGHT
BEGIN:STANDARD
TZOFFSETFROM:-0500
TZOFFSETTO:-0600
TZNAME:CST
DTSTART:20261101T070000
END:STANDARD
END:VTIMEZONE
BEGIN:VEVENT
DTSTART;TZID=America/Chicago:20250214T170000
DTEND;TZID=America/Chicago:20250216T220000
DTSTAMP:20260419T123346
CREATED:20241124T220408Z
LAST-MODIFIED:20241215T022554Z
UID:13685-1739552400-1739743200@ddrcommunity.com
SUMMARY:Grumble in the Pasture
DESCRIPTION:GIP is a lower-profile event from the people behind DDRIllini\, focusing on everything but the Singles bracket! The side events never get enough time in the spotlight\, so we decided to do something about it. Doubles and Couples will be fleshed out a bit more than in previous events\, so all skill levels are welcome. We hope to see you there!
URL:https://ddrcommunity.com/event/grumble-in-the-pasture/
LOCATION:Illini Union Ballroom\, 1401 W. Green St.\, Urbana\, IL\, 61801\, United States
CATEGORIES:Tournaments
ATTACH;FMTTYPE=image/png:https://ddrcommunity.com/wp-content/uploads/2024/11/grumble.png
END:VEVENT
END:VCALENDAR