BEGIN:VCALENDAR
VERSION:2.0
PRODID:-//DDRCommunity - ECPv6.15.14//NONSGML v1.0//EN
CALSCALE:GREGORIAN
METHOD:PUBLISH
X-WR-CALNAME:DDRCommunity
X-ORIGINAL-URL:https://ddrcommunity.com
X-WR-CALDESC:Events for DDRCommunity
REFRESH-INTERVAL;VALUE=DURATION:PT1H
X-Robots-Tag:noindex
X-PUBLISHED-TTL:PT1H
BEGIN:VTIMEZONE
TZID:America/New_York
BEGIN:DAYLIGHT
TZOFFSETFROM:-0500
TZOFFSETTO:-0400
TZNAME:EDT
DTSTART:20240310T070000
END:DAYLIGHT
BEGIN:STANDARD
TZOFFSETFROM:-0400
TZOFFSETTO:-0500
TZNAME:EST
DTSTART:20241103T060000
END:STANDARD
BEGIN:DAYLIGHT
TZOFFSETFROM:-0500
TZOFFSETTO:-0400
TZNAME:EDT
DTSTART:20250309T070000
END:DAYLIGHT
BEGIN:STANDARD
TZOFFSETFROM:-0400
TZOFFSETTO:-0500
TZNAME:EST
DTSTART:20251102T060000
END:STANDARD
BEGIN:DAYLIGHT
TZOFFSETFROM:-0500
TZOFFSETTO:-0400
TZNAME:EDT
DTSTART:20260308T070000
END:DAYLIGHT
BEGIN:STANDARD
TZOFFSETFROM:-0400
TZOFFSETTO:-0500
TZNAME:EST
DTSTART:20261101T060000
END:STANDARD
END:VTIMEZONE
BEGIN:VEVENT
DTSTART;TZID=America/New_York:20250530T110000
DTEND;TZID=America/New_York:20250601T200000
DTSTAMP:20260419T075040
CREATED:20250505T013555Z
LAST-MODIFIED:20250505T013555Z
UID:24678-1748602800-1748808000@ddrcommunity.com
SUMMARY:Stamina Jawn
DESCRIPTION:STAMINA JAWN \nhttps://staminajawn.groovestats.com/ \nAfter six years off from live events\, in collaboration with quietly-turning and the PGH Dance Game Space\, I’m running a new stamina event: Stamina Jawn! \nI’ve been holding off since the first Stamina Con due to reasons ranging from Covid happening\, format concerns with the proliferation of highly personally tuned private setups detracting from player experience when competing live on stamina content\, the escalating cost of renting space for a competition\, the increased scope of my work relating to online events\, and so on\, but I’ve narrowed in on an event concept and location that I think will satisfy my concerns as well as being fun for the community! \nWHEN:\nMay 30th-June 1st 2025 \nWHERE:\nPGH Dance Game Space (address available on Stamina Jawn site after signing up)\nPittsburgh\, PA \nWalkthrough of the space:\n \nLonger form video about it:\n \nWHAT:\nStamina Jawn is an opportunity for players to come together in person and do their East Coast Stamina 13.5 sets live (credit to titandude for suggesting this concept originally). Attendance is capped at 90 people\, with a maximum of 20 teams. \nYou can read up on East Coast Stamina 13.5 here:\nhttps://ecs135.groovestats.com/ \nSingles and Doubles teams on both ITG and Pump are welcome to enter\, though sign-ups will be first come first serve. \nDepending on the setup you sign up for\, you may also be able to bring your own pad if you want! \nEach team will get a 5 hour block on the schedule (one hour of pad modding/warming up + 4 hours of Raw Output)\, and there will be 2.5 hour time slots available for any teams that want to do the full splits as well (one hour of pad modding + 1.5 hours for the full marathon attempt). \nSolo teams won’t be allowed to register for a place on the schedule– as much as I encourage people trying the .5 events solo\, the point of Stamina Jawn is to bring teams together. However\, a limited amount of people will be able to register to hang out/spectate\, depending on the number of teams that decide to compete and their composition (having more teams of two rather than teams of three obviously would allow for more non-competitors). \nOutside of the core time slots for Raw Output and Marathon attempts\, the machines will be free to use for anyone who wants to play\, with priority given to players who have marathon splits they want to attempt.
URL:https://ddrcommunity.com/event/stamina-jawn/
LOCATION:PGH Dance Game Space\, Pittsburgh\, PA\, United States
CATEGORIES:Meetups,Tournaments
ATTACH;FMTTYPE=image/png:https://ddrcommunity.com/wp-content/uploads/2025/05/sj-invite-logo-scaled.png
END:VEVENT
BEGIN:VEVENT
DTSTART;TZID=America/New_York:20250613T080000
DTEND;TZID=America/New_York:20250615T170000
DTSTAMP:20260419T075040
CREATED:20250312T233356Z
LAST-MODIFIED:20250515T144453Z
UID:15403-1749801600-1750006800@ddrcommunity.com
SUMMARY:CEO Project Storm 2025
DESCRIPTION:Project Storm\, also known as DDR Storm\, is one of the longest running multi-dance game tournaments in the United States! This year the event is once again presented by Storm x League and hosted by CEO Gaming as part of CEO Fighting Game Championships on June 13-15\, 2025 at the Rosen Shingle Creek in Orlando\, FL. \nThis year the main events at Project Storm are: \n• DDR A3\n• ITGmania\n• StepManiaX\n• Pump It Up Phoenix \nThere are also various planned community events for Taiko no Tatsujin: Rhythm Festival\, DANCERUSH STARDOM\, PIU WNB\, DDR A3 WNB\, SMX WNB\, and ITG2 Officials! \nAny community members who wish to run community events may also look through the official start.gg site and follow the appropriate steps to run their own dance/rhythm game side events during the weekend if they do not conflict with a main event. Please be sure to check out the social channels below for general event updates and/or if you have any event questions! Please also see the Discord for hotel/travel updates and inquires (#hotel-travel-venue channel). \nOfficial CEO Discord:\nCEOGaming – Twitter (X) / Bsky\nAlex Jebailey – Twitter (X)/Bsky\nSteven Lo (VivaLaMoo) – Twitter (X)/ Bsky \n\nDiscord – vivalamoochicken
URL:https://ddrcommunity.com/event/ceo-project-storm-2025/
LOCATION:Rosen Shingle Creek\, 9939 Universal Blvd\, Orlando\, FL\, 32819\, United States
CATEGORIES:Tournaments
ATTACH;FMTTYPE=image/png:https://ddrcommunity.com/wp-content/uploads/2025/03/ceoxvxprojectstorm3.0.png
ORGANIZER;CN="Steven Lo":MAILTO:vivalamoochicken@gmail.com
END:VEVENT
END:VCALENDAR