BEGIN:VCALENDAR
VERSION:2.0
PRODID:-//DDRCommunity - ECPv6.15.14//NONSGML v1.0//EN
CALSCALE:GREGORIAN
METHOD:PUBLISH
X-WR-CALNAME:DDRCommunity
X-ORIGINAL-URL:https://ddrcommunity.com
X-WR-CALDESC:Events for DDRCommunity
REFRESH-INTERVAL;VALUE=DURATION:PT1H
X-Robots-Tag:noindex
X-PUBLISHED-TTL:PT1H
BEGIN:VTIMEZONE
TZID:America/New_York
BEGIN:DAYLIGHT
TZOFFSETFROM:-0500
TZOFFSETTO:-0400
TZNAME:EDT
DTSTART:20180311T070000
END:DAYLIGHT
BEGIN:STANDARD
TZOFFSETFROM:-0400
TZOFFSETTO:-0500
TZNAME:EST
DTSTART:20181104T060000
END:STANDARD
BEGIN:DAYLIGHT
TZOFFSETFROM:-0500
TZOFFSETTO:-0400
TZNAME:EDT
DTSTART:20190310T070000
END:DAYLIGHT
BEGIN:STANDARD
TZOFFSETFROM:-0400
TZOFFSETTO:-0500
TZNAME:EST
DTSTART:20191103T060000
END:STANDARD
BEGIN:DAYLIGHT
TZOFFSETFROM:-0500
TZOFFSETTO:-0400
TZNAME:EDT
DTSTART:20200308T070000
END:DAYLIGHT
BEGIN:STANDARD
TZOFFSETFROM:-0400
TZOFFSETTO:-0500
TZNAME:EST
DTSTART:20201101T060000
END:STANDARD
END:VTIMEZONE
BEGIN:VEVENT
DTSTART;TZID=America/New_York:20190923T000000
DTEND;TZID=America/New_York:20191103T030000
DTSTAMP:20260425T233331
CREATED:20190921T184813Z
LAST-MODIFIED:20240411T035732Z
UID:5109-1569196800-1572750000@ddrcommunity.com
SUMMARY:Queens of the Quad 2019
DESCRIPTION:This is a 6-week remote event intended to challenge girls to improve their timing in ITG.The event actually runs from Monday\, September 23\, 12:00am – Sunday\, November 3\, 11:59pm.\nGo girls! 😀\nEVERYTHING YOU NEED TO KNOW HERE: \nhttps://tinyurl.com/QOTQ19\nSCORE SUBMISSION FORM:\nhttps://tinyurl.com/qotq19submit \nSCORE SPREADSHEET/RANKINGS:\nhttps://tinyurl.com/qotq19scores
URL:https://ddrcommunity.com/event/queens-of-the-quad-2019/
LOCATION:Online
CATEGORIES:Online Tournaments
ATTACH;FMTTYPE=image/jpeg:https://ddrcommunity.com/wp-content/uploads/2024/04/70839482_10100946203811956_2348615750995935232_n-480x314-A6mqBp.tmp_.jpg
END:VEVENT
END:VCALENDAR