BEGIN:VCALENDAR
VERSION:2.0
PRODID:-//DDRCommunity - ECPv6.15.14//NONSGML v1.0//EN
CALSCALE:GREGORIAN
METHOD:PUBLISH
X-ORIGINAL-URL:https://ddrcommunity.com
X-WR-CALDESC:Events for DDRCommunity
REFRESH-INTERVAL;VALUE=DURATION:PT1H
X-Robots-Tag:noindex
X-PUBLISHED-TTL:PT1H
BEGIN:VTIMEZONE
TZID:America/New_York
BEGIN:DAYLIGHT
TZOFFSETFROM:-0500
TZOFFSETTO:-0400
TZNAME:EDT
DTSTART:20220313T070000
END:DAYLIGHT
BEGIN:STANDARD
TZOFFSETFROM:-0400
TZOFFSETTO:-0500
TZNAME:EST
DTSTART:20221106T060000
END:STANDARD
BEGIN:DAYLIGHT
TZOFFSETFROM:-0500
TZOFFSETTO:-0400
TZNAME:EDT
DTSTART:20230312T070000
END:DAYLIGHT
BEGIN:STANDARD
TZOFFSETFROM:-0400
TZOFFSETTO:-0500
TZNAME:EST
DTSTART:20231105T060000
END:STANDARD
BEGIN:DAYLIGHT
TZOFFSETFROM:-0500
TZOFFSETTO:-0400
TZNAME:EDT
DTSTART:20240310T070000
END:DAYLIGHT
BEGIN:STANDARD
TZOFFSETFROM:-0400
TZOFFSETTO:-0500
TZNAME:EST
DTSTART:20241103T060000
END:STANDARD
END:VTIMEZONE
BEGIN:VEVENT
DTSTART;TZID=America/New_York:20230902T000000
DTEND;TZID=America/New_York:20230903T235900
DTSTAMP:20260422T184707
CREATED:20240411T034040Z
LAST-MODIFIED:20240412T012010Z
UID:8772-1693612800-1693785540@ddrcommunity.com
SUMMARY:Panini Fest 2023
DESCRIPTION:Colorado’s annual dance game tournament. Brackets for DDR\, ITG\, and Pump It Up.
URL:https://ddrcommunity.com/event/panini-fest-2023/
LOCATION:Soft Landing Arcade\, 5703 N Academy Blvd\, Colorado Springs\, CO 80918
CATEGORIES:Meetups,Tournaments
ATTACH;FMTTYPE=image/jpeg:https://ddrcommunity.com/wp-content/uploads/2024/04/IMG_20230530_161837-W5xtrQ.tmp_.jpg
ORGANIZER;CN="Patrick Lanini":MAILTO:Rollinglanini@gmail.com
END:VEVENT
END:VCALENDAR