BEGIN:VCALENDAR
VERSION:2.0
PRODID:-//DDRCommunity - ECPv6.15.14//NONSGML v1.0//EN
CALSCALE:GREGORIAN
METHOD:PUBLISH
X-ORIGINAL-URL:https://ddrcommunity.com
X-WR-CALDESC:Events for DDRCommunity
REFRESH-INTERVAL;VALUE=DURATION:PT1H
X-Robots-Tag:noindex
X-PUBLISHED-TTL:PT1H
BEGIN:VTIMEZONE
TZID:America/Los_Angeles
BEGIN:DAYLIGHT
TZOFFSETFROM:-0800
TZOFFSETTO:-0700
TZNAME:PDT
DTSTART:20230312T100000
END:DAYLIGHT
BEGIN:STANDARD
TZOFFSETFROM:-0700
TZOFFSETTO:-0800
TZNAME:PST
DTSTART:20231105T090000
END:STANDARD
BEGIN:DAYLIGHT
TZOFFSETFROM:-0800
TZOFFSETTO:-0700
TZNAME:PDT
DTSTART:20240310T100000
END:DAYLIGHT
BEGIN:STANDARD
TZOFFSETFROM:-0700
TZOFFSETTO:-0800
TZNAME:PST
DTSTART:20241103T090000
END:STANDARD
BEGIN:DAYLIGHT
TZOFFSETFROM:-0800
TZOFFSETTO:-0700
TZNAME:PDT
DTSTART:20250309T100000
END:DAYLIGHT
BEGIN:STANDARD
TZOFFSETFROM:-0700
TZOFFSETTO:-0800
TZNAME:PST
DTSTART:20251102T090000
END:STANDARD
END:VTIMEZONE
BEGIN:VTIMEZONE
TZID:America/New_York
BEGIN:DAYLIGHT
TZOFFSETFROM:-0500
TZOFFSETTO:-0400
TZNAME:EDT
DTSTART:20230312T070000
END:DAYLIGHT
BEGIN:STANDARD
TZOFFSETFROM:-0400
TZOFFSETTO:-0500
TZNAME:EST
DTSTART:20231105T060000
END:STANDARD
BEGIN:DAYLIGHT
TZOFFSETFROM:-0500
TZOFFSETTO:-0400
TZNAME:EDT
DTSTART:20240310T070000
END:DAYLIGHT
BEGIN:STANDARD
TZOFFSETFROM:-0400
TZOFFSETTO:-0500
TZNAME:EST
DTSTART:20241103T060000
END:STANDARD
BEGIN:DAYLIGHT
TZOFFSETFROM:-0500
TZOFFSETTO:-0400
TZNAME:EDT
DTSTART:20250309T070000
END:DAYLIGHT
BEGIN:STANDARD
TZOFFSETFROM:-0400
TZOFFSETTO:-0500
TZNAME:EST
DTSTART:20251102T060000
END:STANDARD
END:VTIMEZONE
BEGIN:VEVENT
DTSTART;TZID=America/Los_Angeles:20240720T120000
DTEND;TZID=America/Los_Angeles:20240721T210000
DTSTAMP:20260419T234549
CREATED:20240702T030800Z
LAST-MODIFIED:20240702T030800Z
UID:11729-1721476800-1721595600@ddrcommunity.com
SUMMARY:The Final Audition\, Episode 1
DESCRIPTION:The Final Audition\, Ep. 1\nCalling all dancers! We are searching for the next Pump it Up superstar! Are you up for the challenge? Show up to The Final Audition\, for Episode 1 of this exciting new Pump it Up tournament in SoCal! \n\nThis event will be held at Factory Tea Bar in San Gabriel\, CA from July 20-21\, 2024\nTournament matches will be played on an LX Cabinet running Pump it Up Phoenix\nLower and Upper speed divisions will be run in a double-elimination pools format\nThe event will feature a Co-op x2 tournament on Saturday night\nThe venue offers many other rhythm games for players to enjoy\, in addition to some delicious treats from the tea bar\n\nRegistration + more info on the event page!
URL:https://ddrcommunity.com/event/the-final-audition-episode-1/
LOCATION:Factory Tea Bar\, San Gabriel\, CA
CATEGORIES:Tournaments
ATTACH;FMTTYPE=image/png:https://ddrcommunity.com/wp-content/uploads/2024/07/banner.png
ORGANIZER;CN="Ryan Sie":MAILTO:finalauditiontournament@gmail.com
END:VEVENT
BEGIN:VEVENT
DTSTART;VALUE=DATE:20240726
DTEND;VALUE=DATE:20240728
DTSTAMP:20260419T234549
CREATED:20240614T153555Z
LAST-MODIFIED:20240614T153555Z
UID:11366-1721952000-1722124799@ddrcommunity.com
SUMMARY:Midsummer Melody: A Michigan Dance Game Adventure
DESCRIPTION:Once upon a time…\n…fans of rhythm\, dance and music gathered in a magical Michigan forest to celebrate the annual Midsummer Fairy Festival. \nThe Council of Magic hosted six main events for all to enjoy: \n\nDance Dance Revolution Singles\nDance Dance Revolution Doubles\nDance Dance Revolution Women & Non-Binary\nStepManiaX\nPump It Up Phoenix\nBeatmania IIDX\n\nAdditionally\, rumors of an unknown enemy are lurking in the darkness. In order to stop them\, The Council is working on side quests (achievements) and challenges for both tournament entrants and spectators alike… \nJoin our quest and see how the story unfolds by registering today!
URL:https://ddrcommunity.com/event/midsummer-melody-a-michigan-dance-game-adventure/
LOCATION:Round1 Great Lakes Crossing\, 4000 Baldwin Rd\, Auburn Hills\, 48326\, United States
CATEGORIES:Tournaments
ATTACH;FMTTYPE=image/png:https://ddrcommunity.com/wp-content/uploads/2024/06/Midsummer_Melody_Twitter_Header-4800-x-2400-px-1600-x-800-px-1.png
END:VEVENT
END:VCALENDAR