BEGIN:VCALENDAR
VERSION:2.0
PRODID:-//DDRCommunity - ECPv6.15.14//NONSGML v1.0//EN
CALSCALE:GREGORIAN
METHOD:PUBLISH
X-ORIGINAL-URL:https://ddrcommunity.com
X-WR-CALDESC:Events for DDRCommunity
REFRESH-INTERVAL;VALUE=DURATION:PT1H
X-Robots-Tag:noindex
X-PUBLISHED-TTL:PT1H
BEGIN:VTIMEZONE
TZID:America/New_York
BEGIN:DAYLIGHT
TZOFFSETFROM:-0500
TZOFFSETTO:-0400
TZNAME:EDT
DTSTART:20170312T070000
END:DAYLIGHT
BEGIN:STANDARD
TZOFFSETFROM:-0400
TZOFFSETTO:-0500
TZNAME:EST
DTSTART:20171105T060000
END:STANDARD
BEGIN:DAYLIGHT
TZOFFSETFROM:-0500
TZOFFSETTO:-0400
TZNAME:EDT
DTSTART:20180311T070000
END:DAYLIGHT
BEGIN:STANDARD
TZOFFSETFROM:-0400
TZOFFSETTO:-0500
TZNAME:EST
DTSTART:20181104T060000
END:STANDARD
BEGIN:DAYLIGHT
TZOFFSETFROM:-0500
TZOFFSETTO:-0400
TZNAME:EDT
DTSTART:20190310T070000
END:DAYLIGHT
BEGIN:STANDARD
TZOFFSETFROM:-0400
TZOFFSETTO:-0500
TZNAME:EST
DTSTART:20191103T060000
END:STANDARD
END:VTIMEZONE
BEGIN:VEVENT
DTSTART;TZID=America/New_York:20180428T120000
DTEND;TZID=America/New_York:20180428T190000
DTSTAMP:20260425T183349
CREATED:20180329T140716Z
LAST-MODIFIED:20240411T041314Z
UID:2896-1524916800-1524942000@ddrcommunity.com
SUMMARY:USPF 2018: United States Pump Festival 2018
DESCRIPTION:Location: Round 1\, Eastridge Mall\, 2200 Eastridge Loop #2094\, San Jose\, CA 95122Time: April 28\, 2018\, 12-7 PM\nEntry/Venue Fee: $10 to participate (tentative\, pending on if we can find support to subsidize this fee)\, free to watch\nI am pleased to formally announce the United States Pump Festival 2018! USPF 2018\, the official national tournament for Pump It Up for the United States of America\, will be taking place in the San Francisco Bay Area in Northern California in the heart of Silicon Valley in Round 1 Eastridge Mall in San Jose!\nAs it was in previous USPFs\, there will be female speed\, freestyle\, and male speed divisions. The winner of each of these divisions will be eligible for a future international official Pump It Up event.\nThis will be the first time for a national Pump It Up tournament to take place in the San Francisco Bay Area\, and I\, Kevin Tan\, the official West USA Supporter\, and other Northern California Pump It Up players are eager to welcome all of you into our area! We will be posting more official details and rules in the future.\nWe will be broadcasting the event on:\nTwitch\nhttp://twitch.tv/norcalworldorder\nYoutube\nhttps://www.youtube.com/channel/UCG21Estrx9poQSz6NF8CJ6w\nDouyu\nhttps://www.douyu.com/valius\nAre you interested in attending or participating in USPF 2018? Please feel free to sign up so that we can better plan our event schedule for the day of the tournament. If you do not already have a piugame account\, please make one so that you can enter the tournament.\nhttps://docs.google.com/forms/d/e/1FAIpQLSdpC4pFcDg6qRaHmyht9vlYtpY1W_wF1Wxfsm7XzeKFmegf0A/viewform\n===========SCHEDULE===========\n12 PM – Start of Female Speed Division\n3 PM – Start of Freestyle Division\n5:30 – Start of Male Speed Division\nNOTE – during downtime in freestyle and female speed divisions\, we will be allowing male speed qualifiers due to the sheer amount of entrants. Whenever possible\, we will announce when qualifiers can be done.\n=======TOURNAMENT RULES=======\nOfficial USPF rules can be read here:\nhttps://docs.google.com/document/d/1JIpg5GI5i1STPZV0LHQ08wS6pyO8LnsPBJJaqXBa4FU\nThe following are important general rules from the document \nTo take part in USPF 2018 a player must:\n1. Be a citizen or legal permanent resident of the USA\n2. Pay the venue fee\n3. Follow the rules \n1. Playing with socks only or playing barefoot is not permitted at Round 1. All competitors must wear shoes.\n2. Please do not do anything to cause damage to the machine.\n3. Competitors may only enter into one category.\n4. Competitors may not drink alcohol during the tournament according to venue rules.\n5. Please do not commits act of political\, regional\, national\, individual\, and racial discrimination. \n=======FEMALE SPEED DIVISION=======\n==SONG LIST==\nAll Prime 1 and Prime 2 New Tunes up to the 2.02 update.\n=======FREESTYLE DIVISION=======\n==SONG LIST==\nAll Prime 1 and Prime 2 New Tunes (usable in both rounds of Freestyle division)\n=======MALE SPEED DIVISION=======\n==SONG LIST==\nAll Prime 1 and Prime 2 New Tunes up to the 2.02 update.
URL:https://ddrcommunity.com/event/uspf-2018-united-states-pump-festival-2018/
LOCATION:Round 1 San Jose\, 2200 Eastridge Loop\, San Jose\, CA\, 95122\, United States
CATEGORIES:Tournaments
ATTACH;FMTTYPE=image/jpeg:https://ddrcommunity.com/wp-content/uploads/2024/04/29063623_1865462510190845_5141279658100129792_n-480x320-SAMget.tmp_.jpg
END:VEVENT
END:VCALENDAR