BEGIN:VCALENDAR
VERSION:2.0
PRODID:-//DDRCommunity - ECPv6.15.14//NONSGML v1.0//EN
CALSCALE:GREGORIAN
METHOD:PUBLISH
X-WR-CALNAME:DDRCommunity
X-ORIGINAL-URL:https://ddrcommunity.com
X-WR-CALDESC:Events for DDRCommunity
REFRESH-INTERVAL;VALUE=DURATION:PT1H
X-Robots-Tag:noindex
X-PUBLISHED-TTL:PT1H
BEGIN:VTIMEZONE
TZID:America/New_York
BEGIN:DAYLIGHT
TZOFFSETFROM:-0500
TZOFFSETTO:-0400
TZNAME:EDT
DTSTART:20200308T070000
END:DAYLIGHT
BEGIN:STANDARD
TZOFFSETFROM:-0400
TZOFFSETTO:-0500
TZNAME:EST
DTSTART:20201101T060000
END:STANDARD
BEGIN:DAYLIGHT
TZOFFSETFROM:-0500
TZOFFSETTO:-0400
TZNAME:EDT
DTSTART:20210314T070000
END:DAYLIGHT
BEGIN:STANDARD
TZOFFSETFROM:-0400
TZOFFSETTO:-0500
TZNAME:EST
DTSTART:20211107T060000
END:STANDARD
BEGIN:DAYLIGHT
TZOFFSETFROM:-0500
TZOFFSETTO:-0400
TZNAME:EDT
DTSTART:20220313T070000
END:DAYLIGHT
BEGIN:STANDARD
TZOFFSETFROM:-0400
TZOFFSETTO:-0500
TZNAME:EST
DTSTART:20221106T060000
END:STANDARD
END:VTIMEZONE
BEGIN:VEVENT
DTSTART;TZID=America/New_York:20211210T000000
DTEND;TZID=America/New_York:20211212T180000
DTSTAMP:20260422T225003
CREATED:20240411T034941Z
LAST-MODIFIED:20240411T041944Z
UID:8813-1639094400-1639332000@ddrcommunity.com
SUMMARY:Eclipse East 2021
DESCRIPTION:Arrow Eclipse presents: Eclipse EastAfter 3 years since its inception with just a handful of members\, the DMV Based Rhythm Gaming Community is ambitiously hosting it’s very first official rhythm gaming tournament in the East Coast from December 10th – December 12th\, 2021. The first event will be proudly hosted at the Baltimore Convention Center\, just a mere few blocks away from the iconic Inner Harbor that hosts a countless amount of annual large-scale events settled in the heart of the Port of Baltimore.\nAddress: 1 W Pratt St\, Baltimore\, MD 21201\nCurrent Tournaments List for Eclipse East: \nDance Dance Revolution – Upper Division\nDance Dance Revolution – Lower Division (may combine with Uppers based on availability)\nPump It Up XX – Upper Division\nPump It Up XX – Lower Division\nPump It Up XX – Grab-Bag Division (Random Gimmicks & Performances)\nDance Rush Stardom Freestyle \nCurrent Cabinets List for Free-Play (List subject to adjustment): \nPump It Up: XX (x3)\nDance Dance Revolution – White Cab\nDance Dance Revolution – Red Cab\nDance Rush Stardom\nEZ2DJ\nTechnika 3\nBeatmania IIDX \nRules List & Schedules to Be Announced at a later date. Each Tournament has a non-refundable entry fee of $10 that go directly to the prize pot\, you may enter in as many tournaments as you would like. Prize splits are currently set for 50%/25%/12.5%/12.5% for 1st Place – 4th Place\, respectively. Side events will be $5 each additionally.\nPreregistration starts at just $35 for all three days\, you may purchase individual day passes at the door\, subject to availability\, Preregistration is the only way to guarantee your space.
URL:https://ddrcommunity.com/event/eclipse-east-2021/
LOCATION:PA
CATEGORIES:Tournaments
ATTACH;FMTTYPE=image/png:https://ddrcommunity.com/wp-content/uploads/2021/07/eclipse-east-2021.png
END:VEVENT
END:VCALENDAR