BEGIN:VCALENDAR
VERSION:2.0
PRODID:-//DDRCommunity - ECPv6.15.14//NONSGML v1.0//EN
CALSCALE:GREGORIAN
METHOD:PUBLISH
X-WR-CALNAME:DDRCommunity
X-ORIGINAL-URL:https://ddrcommunity.com
X-WR-CALDESC:Events for DDRCommunity
REFRESH-INTERVAL;VALUE=DURATION:PT1H
X-Robots-Tag:noindex
X-PUBLISHED-TTL:PT1H
BEGIN:VTIMEZONE
TZID:America/New_York
BEGIN:DAYLIGHT
TZOFFSETFROM:-0500
TZOFFSETTO:-0400
TZNAME:EDT
DTSTART:20220313T070000
END:DAYLIGHT
BEGIN:STANDARD
TZOFFSETFROM:-0400
TZOFFSETTO:-0500
TZNAME:EST
DTSTART:20221106T060000
END:STANDARD
BEGIN:DAYLIGHT
TZOFFSETFROM:-0500
TZOFFSETTO:-0400
TZNAME:EDT
DTSTART:20230312T070000
END:DAYLIGHT
BEGIN:STANDARD
TZOFFSETFROM:-0400
TZOFFSETTO:-0500
TZNAME:EST
DTSTART:20231105T060000
END:STANDARD
BEGIN:DAYLIGHT
TZOFFSETFROM:-0500
TZOFFSETTO:-0400
TZNAME:EDT
DTSTART:20240310T070000
END:DAYLIGHT
BEGIN:STANDARD
TZOFFSETFROM:-0400
TZOFFSETTO:-0500
TZNAME:EST
DTSTART:20241103T060000
END:STANDARD
END:VTIMEZONE
BEGIN:VEVENT
DTSTART;TZID=America/New_York:20230225T140000
DTEND;TZID=America/New_York:20230225T220000
DTSTAMP:20260421T232409
CREATED:20240411T034509Z
LAST-MODIFIED:20240411T041941Z
UID:8791-1677333600-1677362400@ddrcommunity.com
SUMMARY:SMX Winter Cup 2023 (Houston\, TX)
DESCRIPTION:TOs: JellySlosh & Fano\nLocation: Fano’s House in Cypress\, TX \nOverview \nFreeplay / Qualifers – 12pm – 2pm~\nTeams – 2pm – 4pm~\nWild – 4pm~ – ??\n  \nEntry Fee: $5\nPrize bonus will be provided based on # of entrants.\nPrizes: 60%/30%/10% + Pot Bonus for 1st – 4th.\nMaximum Entrants: 20\nBracket Format: Double Elimination\nSong Pick Format: Card Draw (includes paid DLC)\nSonglist: Whatever Update is at least 2 weeks old by this point in time. (Update #36?)\nBar usage is allowed\nMods that disqualify scores or alter a chart are not allowed\nBG 25% and disabling announcers are to be used at all times unless both players agree.\nPlease follow house rules at all times.\n  \nTeams Tournament\nEX scoring / Gauntlet\n  \nRules: https://bit.ly/SMX-Winter-Cup-2023\nBracket: https://www.start.gg/tournament/smx-winter-cup-2023-1/event/stepmaniax-wild/brackets\nTeam Scores: https://docs.google.com/spreadsheets/d/1GvCih_kKLsa8BpmY-zLAqI26eV_7TisXJ1lESc4mlto/edit?usp=sharing#gid=2055541861\nStream: https://www.twitch.tv/jelly_slosh
URL:https://ddrcommunity.com/event/smx-winter-cup-2023-houston-tx/
LOCATION:PA
CATEGORIES:Tournaments
ATTACH;FMTTYPE=image/jpeg:https://ddrcommunity.com/wp-content/uploads/2024/04/smx-winter-cup-poster-gKT0za.tmp_.jpg
END:VEVENT
END:VCALENDAR