BEGIN:VCALENDAR
VERSION:2.0
PRODID:-//DDRCommunity - ECPv6.15.14//NONSGML v1.0//EN
CALSCALE:GREGORIAN
METHOD:PUBLISH
X-ORIGINAL-URL:https://ddrcommunity.com
X-WR-CALDESC:Events for DDRCommunity
REFRESH-INTERVAL;VALUE=DURATION:PT1H
X-Robots-Tag:noindex
X-PUBLISHED-TTL:PT1H
BEGIN:VTIMEZONE
TZID:America/New_York
BEGIN:DAYLIGHT
TZOFFSETFROM:-0500
TZOFFSETTO:-0400
TZNAME:EDT
DTSTART:20180311T070000
END:DAYLIGHT
BEGIN:STANDARD
TZOFFSETFROM:-0400
TZOFFSETTO:-0500
TZNAME:EST
DTSTART:20181104T060000
END:STANDARD
BEGIN:DAYLIGHT
TZOFFSETFROM:-0500
TZOFFSETTO:-0400
TZNAME:EDT
DTSTART:20190310T070000
END:DAYLIGHT
BEGIN:STANDARD
TZOFFSETFROM:-0400
TZOFFSETTO:-0500
TZNAME:EST
DTSTART:20191103T060000
END:STANDARD
BEGIN:DAYLIGHT
TZOFFSETFROM:-0500
TZOFFSETTO:-0400
TZNAME:EDT
DTSTART:20200308T070000
END:DAYLIGHT
BEGIN:STANDARD
TZOFFSETFROM:-0400
TZOFFSETTO:-0500
TZNAME:EST
DTSTART:20201101T060000
END:STANDARD
END:VTIMEZONE
BEGIN:VEVENT
DTSTART;TZID=America/New_York:20191213T120000
DTEND;TZID=America/New_York:20191215T170000
DTSTAMP:20260425T213804
CREATED:20190514T150419Z
LAST-MODIFIED:20240411T035456Z
UID:4276-1576238400-1576429200@ddrcommunity.com
SUMMARY:Tokyo Attack Presents: RAJ 2019
DESCRIPTION:Welcome to RAJ 2019!http://rajotg.com\nRAJ 2019 is a 3 day\, 24 hour\, gaming event. It will feature over 100 free to play arcade machines\, a casual fighting game area\, and 20+ tournaments. Whether your interest is in casual gaming or tournaments\, RAJ is the event for you!\nRegistration: Full weekend badges are $50 online and will be $60 at the door. Single day badges can be bought at door only for $30. Badges include access to all Raj rooms and free play on all games. Badges are required to enter the venue space.\nHotel/Venue: The event will take place at the Hyatt Regency Columbus. We will be located on the bottom level. Our room block will be opening very soon!\nTournaments:\nDanceDanceRevolution A\nDance Dance Revolution Extreme Pro\nDANCERUSH STARDOM\nPump it Up XX\nIn The Groove\nCHUNITHM AMAZON PLUS\nSOUND VOLTEX VIVID WAVE\nmaimai FiNALE\njubeat festo\nbeatmania IIDX 26 Rootage\npop’n music peace\nNeon FM\nStreet Fighter V Arcade Edition\nDRAGONBALL FighterZ\nSOULCALIBUR VI\nSuper Smash Bros. Ultimate\nTekken 7\nBlazBlue Cross Tag Battle\nMortal Kombat 11\nUNDER NIGHT IN-BIRTH Exe:Late[st]\nSamurai Shodown\nStreet Fighter III: Third Strike\nSuper Street Fighter II Turbo\nVampire Savior\nPower Rangers: Battle for the Grid\nDEAD OR ALIVE 6\nFighter EX Layer\nWindjammers 2\nInitial D ARCADE STAGE Zero\nBISHI BASHI CHANNEL\nSCOTTO\nArcade Games:\nDANCERUSH STARDOM\nchunithm(x3)\nmaimai(x3)\nSOUND VOLTEX (x4)\nbeatmania IIDX\npop’n music (x2)\njubeat (x10)\nBeatStream (x4)\nNOSTALGIA\nDanceDanceRevolution (x2)\nTaiko no Tatsujin (x3)\nDance Dance Revolution Extreme (x2)\nIn the Groove\nPump it Up XX\nDanceEvolution ARCADE\nGROOVE COASTER(x3)\ncrossbeats REV. SUNRiSE\nNeon FM\nMUSECA\nREFLEC BEAT (x2)\nHatsune Miku: Project DIVA Arcade Future Tone (x2)\nDanceManiax\nSuper Smash Bros. Ultimate\nStreet Fighter V Arcade Edition\nTekken 7: Fated Retribution\nDRAGON BALL FighterZ\nSOULCALIBUR VI\nBlazBlue Cross Tag Battle\nUNDER NIGHT IN-BIRTH Exe:Late[st]\nFighting Climax Ignition\nMortal Kombat 11\nSamurai Showdown\nCyber Troopers Virtual-On Oratorio Tangram\nStreet Fighter III: 3rd Strike\nSuper Street Fighter II Turbo\nMarvel vs Capcom 2\nCapcom vs SNK 2\nInitial D ARCADE STAGE Zero (x6)\nSuper Table-Flip!\nTHE☆BishiBashi\nBISHI BASHI CHANNEL\nSCOTTO\nPuyo Puyo Tetris\nSilent Scope Bone Eater\nTime Crisis 5 (x2)\nKidō Senshi Gundam: Senjō no Kizuna (Gundam Battle Pods) (x4)\nSuper Puzzle Fighter II X\nSpecial Thanks to the following groups for making Raj possible:\nKDog’s Arcade: https://fb.me/kdogsarcade/ (For providing additional arcade machines)\nWeDoCa: https://fb.me/wedocagaming/ (For providing 25 Candy Cabinets)\nDead State Design: https://fb.me/DeadStateDesign/ (For providing 30+ freeplay consoles)\nNo Good Network: https://fb.me/nogoodnetwork/ (For helping with fgc tournaments)
URL:https://ddrcommunity.com/event/tokyo-attack-presents-raj-2019/
LOCATION:Hyatt Regency Columbus\, 350 North High Street\, Columbus\, OH\, 43215\, United States
CATEGORIES:Tournaments
ATTACH;FMTTYPE=image/jpeg:https://ddrcommunity.com/wp-content/uploads/2024/04/54516260_2006530912791589_6197449662790631424_n-480x320-zJtL0d.tmp_.jpg
END:VEVENT
BEGIN:VEVENT
DTSTART;TZID=America/New_York:20191221T100000
DTEND;TZID=America/New_York:20191221T180000
DTSTAMP:20260425T213804
CREATED:20191108T192236Z
LAST-MODIFIED:20240411T035455Z
UID:5445-1576922400-1576951200@ddrcommunity.com
SUMMARY:BEMANI Esports Championship 2019
DESCRIPTION:// BEMANI Esports Championship 2019 //BEMANI Esports Championship 2019 (BEC 2019)\nthe biggest arcade tournament in Southeast Asia\nDate: December 21\, 2019 (Saturday)\nLocation: The Street Ratchada\, Bangkok\, Thailand\nPrize pool: 325\,000 THB\nOnline Qualifiers Round: November 7-20\, 2019\nTournaments:\n1) Dance Dance Revolution\n2) Sound Voltex\n3) Gitadora Drum Mania\n4) Dance Rush Stardom\n5) Jubeat\nParticipating regions:\n1) Thailand\n2) Philippines\n3) Indonesia\n4) Singapore & Malaysia\n<>\nStep 1 – Sign up eArena & Discord\nStep 2 – Create team (individual is fine)\nStep 3 – Join and register to tournament\nStep 4 – Check in and join “Discord”\nStep 5 – Let’s play and report your score on Discord group\nSign up to eArena: https://earena.com/sign-up\nSign up to Discord: https://discordapp.com/register\nCreate team : https://earena.com/team/list\nJoin tournament : https://earena.com/tournament/list\nCheck-in Discord: https://discordapp.com/invite/s8r3Aby\n24 players will be advanced to final tournament of BEC 2019 in Bangkok Thailand (between 19-21 December 2019).\nGood luck and see you soon !
URL:https://ddrcommunity.com/event/bemani-esports-championship-2019/
LOCATION:The Street Ratchada\, ถนน รัชดาภิเษก\, Bangkok\, 10400\, Thailand
CATEGORIES:Tournaments
ATTACH;FMTTYPE=image/jpeg:https://ddrcommunity.com/wp-content/uploads/2024/04/75610588_2543802392393638_5596077653493809152_o-480x320-tG0k1t.tmp_.jpg
END:VEVENT
END:VCALENDAR