BEGIN:VCALENDAR
VERSION:2.0
PRODID:-//DDRCommunity - ECPv6.15.14//NONSGML v1.0//EN
CALSCALE:GREGORIAN
METHOD:PUBLISH
X-WR-CALNAME:DDRCommunity
X-ORIGINAL-URL:https://ddrcommunity.com
X-WR-CALDESC:Events for DDRCommunity
REFRESH-INTERVAL;VALUE=DURATION:PT1H
X-Robots-Tag:noindex
X-PUBLISHED-TTL:PT1H
BEGIN:VTIMEZONE
TZID:America/New_York
BEGIN:DAYLIGHT
TZOFFSETFROM:-0500
TZOFFSETTO:-0400
TZNAME:EDT
DTSTART:20170312T070000
END:DAYLIGHT
BEGIN:STANDARD
TZOFFSETFROM:-0400
TZOFFSETTO:-0500
TZNAME:EST
DTSTART:20171105T060000
END:STANDARD
BEGIN:DAYLIGHT
TZOFFSETFROM:-0500
TZOFFSETTO:-0400
TZNAME:EDT
DTSTART:20180311T070000
END:DAYLIGHT
BEGIN:STANDARD
TZOFFSETFROM:-0400
TZOFFSETTO:-0500
TZNAME:EST
DTSTART:20181104T060000
END:STANDARD
BEGIN:DAYLIGHT
TZOFFSETFROM:-0500
TZOFFSETTO:-0400
TZNAME:EDT
DTSTART:20190310T070000
END:DAYLIGHT
BEGIN:STANDARD
TZOFFSETFROM:-0400
TZOFFSETTO:-0500
TZNAME:EST
DTSTART:20191103T060000
END:STANDARD
END:VTIMEZONE
BEGIN:VEVENT
DTSTART;TZID=America/New_York:20181207T120000
DTEND;TZID=America/New_York:20181209T160000
DTSTAMP:20260424T002922
CREATED:20180404T175815Z
LAST-MODIFIED:20240411T041004Z
UID:2915-1544184000-1544371200@ddrcommunity.com
SUMMARY:Raj of the Garage 5
DESCRIPTION:Facebook Event PageWelcome to Raj of the Garage 5!\nRegister: http://www.rajotg.com\nNOTE TO THE FGC: We are not using smash.gg for registration\, please register for the event and tournaments directly on our site. \nRaj of the Garage 5 is a 3 day\, 24 hour\, gaming event. It will feature over 100 free to play arcade machines\, a casual fighting game area\, and 18 tournaments ranging from rhythm games\, to fighting games\, to racing games\, and more. Whether your interest is in casual gaming or tournaments\, Raj is the event for you!\nRegistration: Full weekend badges are $50 online and will be $60 at the door. Single day badges can be bought at door only for $30. Badges include access to all Raj rooms and free play on all games. Badges are required to enter the venue space.\nHotel/Venue: The event will take place at the Hyatt Regency Columbus. We will be located on the bottom level. Our room rate is $109 for a King or Double room. Please make sure to book your room directly from our website to assure you get the room rate.\nTournaments:\nDanceDanceRevolution\nDance Dance Revolution Extreme Pro\nIn The Groove\nPump it Up PRIME 2\nSOUND VOLTEX\njubeat\nbeatmania IIDX\npop’n music\nREFLEC BEAT\nBishi Bashi Channel\nInitial D ARCADE STAGE 8 Infinity\nStreet Fighter V Arcade Edition\nDRAGON BALL FighterZ\nTekken 7\nBlazBlue Cross Tag Battle\nSuper Smash Bros. Wii U\nPuyoPuyo Tetris\nSuper Puzzle Fighter II Turbo\nArcade Games:\nSOUND VOLTEX (4 Cabinets)\nbeatmania IIDX (2 Cabinets)\npop’n music (4 Cabinets)\njubeat (11 Cabinets)\nMÚSECA (2 Cabinets)\nBeatStream (6 Cabinets)\nDanceDanceRevolution (2 Cabinets)\nDance Dance Revolution Extreme Pro (2 Cabinets)\nIn the Groove (2 Cabinets)\nPump it Up PRIME 2 (2 Cabinets)\nInitial D ARCADE STAGE 8 Infinity (4 Cabinets)\nTaiko no Tatsujin (2 Cabinets)\nDanceEvolution ARCADE (2 Cabinets)\nGROOVE COASTER 3 EX (2 Cabinets)\nCho Chabudai Gaeshi! (Super Table-Flip!) (2 Cabinets)\nTHE☆BishiBashi\nBishi Bashi Champ\nFuture Tom Tom\nNeon FM\nHatsune Miku: Project DIVA Arcade Future Tone (2 Cabinets)\nmaimai MURASAKi\ncrossbeats REV. SUNRISE\nMusic GunGun 2\nDanceManiax Update\nREFLEC BEAT (3 Cabinets)\nStreet Fighter V Arcade Edition (2-cab head-to-head)\nBlazBlue Cross Tag Battle (2-cab head-to-head)\nTekken 7 (2-cab head-to-head)\nMarvel vs. Capcom: Infinite (2-cab head-to-head)\nDRAGON BALL FighterZ (2 Pair\, 2-cab head-to-head)\nPokkén Tournament (2-cab head-to-head)\nDengeki Bunko: Fighting Climax Ignition (2-cab head-to-head)\nCyber Troopers Virtual-On Oratorio Tangram (2-cab head-to-head) \nGitadora Guitar\nGitadora Drum\nSilent Scope Bone Eater\nHouse of the Dead EX\nGunslinger Stratos (2 Cabinets)\nKidō Senshi Gundam: Senjō no Kizuna (Gundam Battle Pods) (4 Cabinets)\nStreet Fighter III: Third Strike\nSuper Street Fighter II Turbo\nMarvel vs. Capcom 2: New Age of Heroes\nCapcom Vs SNK 2: Millionaire Fighting 2001\nSuper Puzzle Fighter II Turbo\nWindjammers\nMobile Suit Gundam: Gundam vs. Gundam NEXT\nGals Panic S\nEspgaluda II\nTetris The Grand Master 3: Terror Instinct\nSpecial Thanks to the following groups for making Raj possible:\nOhayocon: https://fb.me/ohayocon/ (For helping us secure this amazing venue and offering tons of support)\nKDog’s Arcade: https://fb.me/kdogsarcade/ (For providing additional arcade machines)\nWeDoCa: https://fb.me/wedocagaming/ (For providing 25 Candy Cabinets)\nDead State Design: https://fb.me/DeadStateDesign/ (For providing 30+ freeplay consoles)\nNo Good Network: https://fb.me/nogoodnetwork/ (For helping with fgc tournaments)
URL:https://ddrcommunity.com/event/raj-of-the-garage-5/
LOCATION:Hyatt Regency Columbus\, 350 North High Street\, Columbus\, OH\, 43215\, United States
CATEGORIES:Tournaments
ATTACH;FMTTYPE=image/jpeg:https://ddrcommunity.com/wp-content/uploads/2024/04/30127340_1536065756504776_2677307995544560086_n-480x320-nBi8cI.tmp_.jpg
END:VEVENT
END:VCALENDAR