BEGIN:VCALENDAR
VERSION:2.0
PRODID:-//DDRCommunity - ECPv6.15.14//NONSGML v1.0//EN
CALSCALE:GREGORIAN
METHOD:PUBLISH
X-ORIGINAL-URL:https://ddrcommunity.com
X-WR-CALDESC:Events for DDRCommunity
REFRESH-INTERVAL;VALUE=DURATION:PT1H
X-Robots-Tag:noindex
X-PUBLISHED-TTL:PT1H
BEGIN:VTIMEZONE
TZID:America/New_York
BEGIN:DAYLIGHT
TZOFFSETFROM:-0500
TZOFFSETTO:-0400
TZNAME:EDT
DTSTART:20180311T070000
END:DAYLIGHT
BEGIN:STANDARD
TZOFFSETFROM:-0400
TZOFFSETTO:-0500
TZNAME:EST
DTSTART:20181104T060000
END:STANDARD
BEGIN:DAYLIGHT
TZOFFSETFROM:-0500
TZOFFSETTO:-0400
TZNAME:EDT
DTSTART:20190310T070000
END:DAYLIGHT
BEGIN:STANDARD
TZOFFSETFROM:-0400
TZOFFSETTO:-0500
TZNAME:EST
DTSTART:20191103T060000
END:STANDARD
BEGIN:DAYLIGHT
TZOFFSETFROM:-0500
TZOFFSETTO:-0400
TZNAME:EDT
DTSTART:20200308T070000
END:DAYLIGHT
BEGIN:STANDARD
TZOFFSETFROM:-0400
TZOFFSETTO:-0500
TZNAME:EST
DTSTART:20201101T060000
END:STANDARD
END:VTIMEZONE
BEGIN:VEVENT
DTSTART;TZID=America/New_York:20190222T170000
DTEND;TZID=America/New_York:20190223T230000
DTSTAMP:20260424T030847
CREATED:20190116T202817Z
LAST-MODIFIED:20240411T040603Z
UID:3937-1550854800-1550962800@ddrcommunity.com
SUMMARY:Silver City Summit at R1 SCG
DESCRIPTION:Welcome to the first ever arcade tournament at Round 1 SCG\, Silver City Summit\, hosted by System Arcadia. System Arcadia is an event promotion company in the Northeast that has been running events in Massachusetts since 2015. Before System Arcadia however\, its employees have been involved in many of the major rhythm game tournaments and have deep community involvement. In the past\, our crew has worked on the MMG series\, the GUAC and CotC multi-game series\, and many of the rhythm game tournaments that have occurred at anime conventions in the region such as Anime Boston and ConnectiCon over the last several years.Thanks to the graciousness of Round 1\, we are now able to throw you a high-quality event on the newest machines from Japan. We aim to provide the ever-growing rhythm game scene in our region a professional yet entertaining tournament series. For our first event\, we will be running 5 rhythm game tournaments.\n– Dance Dance Revolution Ace\n– Pump It Up Prime 2\n– beatmania IIDX 26 Rootage\n– Sound Voltex IV Heavenly Haven\n– DanceRush Stardom\nYou can find the rulesets for each tournament in the individual event pages on our Smash.GG page here: https://smash.gg/r1scs\nQualifying times: On Friday\, February 22nd\, there will be a couple TO’s present to take down on-site registration and qualifying scores from 6 P.M. to 11 P.M. If you can qualify during this time period\, it will help us with handling registration on Saturday and gives you more time to prep for the tournament. On the day of the event\, you may qualify from 10:00 A.M. to 12:30 P.M. Each game will have its TO present to take down your scores.\nAll tournaments begin promptly at 1 P.M. and will go until they finish\, with DanceRush starting at 2 P.M. There will be no tournament matches on Sunday. There will be a 30-minute intermission at 6:00 P.M. for a group photo and allow people to get food or take a break from the tournaments.
URL:https://ddrcommunity.com/event/silver-city-summit-at-r1-scg/
LOCATION:Round 1 Silver City Galleria\, 2 Galleria Mall Dr\, Taunton\, MA\, 02780\, United States
CATEGORIES:Tournaments
ATTACH;FMTTYPE=image/jpeg:https://ddrcommunity.com/wp-content/uploads/2024/04/51585710_10215542260123994_1097776254829985792_n-480x320-V2rBj3.tmp_.jpg
END:VEVENT
END:VCALENDAR