BEGIN:VCALENDAR
VERSION:2.0
PRODID:-//DDRCommunity - ECPv6.15.14//NONSGML v1.0//EN
CALSCALE:GREGORIAN
METHOD:PUBLISH
X-WR-CALNAME:DDRCommunity
X-ORIGINAL-URL:https://ddrcommunity.com
X-WR-CALDESC:Events for DDRCommunity
REFRESH-INTERVAL;VALUE=DURATION:PT1H
X-Robots-Tag:noindex
X-PUBLISHED-TTL:PT1H
BEGIN:VTIMEZONE
TZID:America/New_York
BEGIN:DAYLIGHT
TZOFFSETFROM:-0500
TZOFFSETTO:-0400
TZNAME:EDT
DTSTART:20180311T070000
END:DAYLIGHT
BEGIN:STANDARD
TZOFFSETFROM:-0400
TZOFFSETTO:-0500
TZNAME:EST
DTSTART:20181104T060000
END:STANDARD
BEGIN:DAYLIGHT
TZOFFSETFROM:-0500
TZOFFSETTO:-0400
TZNAME:EDT
DTSTART:20190310T070000
END:DAYLIGHT
BEGIN:STANDARD
TZOFFSETFROM:-0400
TZOFFSETTO:-0500
TZNAME:EST
DTSTART:20191103T060000
END:STANDARD
BEGIN:DAYLIGHT
TZOFFSETFROM:-0500
TZOFFSETTO:-0400
TZNAME:EDT
DTSTART:20200308T070000
END:DAYLIGHT
BEGIN:STANDARD
TZOFFSETFROM:-0400
TZOFFSETTO:-0500
TZNAME:EST
DTSTART:20201101T060000
END:STANDARD
END:VTIMEZONE
BEGIN:VEVENT
DTSTART;TZID=America/New_York:20190329T120000
DTEND;TZID=America/New_York:20190331T170000
DTSTAMP:20260424T043148
CREATED:20180922T195358Z
LAST-MODIFIED:20240411T040547Z
UID:3439-1553860800-1554051600@ddrcommunity.com
SUMMARY:The Big Deal 3D
DESCRIPTION:watching some @Tbd_thebigdeal streams this weekend?\nDDR: https://t.co/irmMSkHEVmIIDX: https://t.co/IWJiBJuE0cPIU: https://t.co/YSGHZJRyk9SDVX: https://t.co/aJ1pkXyCh3\nall day Sat (11a~12M CT)DDR top 16\, IIDX EX\, PIU FS continue Sun (11a~4p CT)  https://t.co/TOZJwMq30x\n— Whybarne T. Toubdanxe (@RI74TA) March 28\, 2019 \nTHE BIG DEAL: 3D. The largest annual multi rhythm game tournament in the nation is back for its 3rd installment on March 29-31st at Round 1 Grapevine Mills in Grapevine\, TX!\nPRE-REGISTRATION LINK: https://smash.gg/tournament/the-big-deal-3d\nTOURNAMENTS:\nDance Dance Revolution\nPump it up\nBeatmania IIDX\nSound Voltex\nDance Rush\nRules/Levels/Other Details TBA. All tournaments will be held on the most recent versions of the above games.\nFor current discussion on tournaments\, please join us on our public discord channel! https://discord.gg/UzvQyew\nAIRPORTS:\n– Dallas/Ft. Worth International Airport: DFW’s main airport. Closest to the venue and most accessible from nearly every other airport in the nation/internationally. Most of the hotels next to the mall also offer free shuttle service to/from the airport.\n-Dallas Love Field: Located in Dallas proper. Good alternative airport for flying in via Southwest Airlines. it’s about 30 min drive from the venue.\nTRANSPORTATION:\nIf flying into DFW\, you can get a complimentary shuttle for any of the hotels right next to the mall\, although you will likely need to call the hotel ahead of time to arrange for the shuttle. If you’re flying into Love Field\, there’s no public transit that goes to Grapevine\, so you’ll either need to Uber/Lyft/drive a rental over (about a 15-20 mile drive)\, or have someone pic you up.\nHOTELS:\n-UPDATE-\nTHE BIG DEAL 3D ROOM BLOCK @ HYATT PLACE RESERVATION LINK:\nhttps://tinyurl.com/y9qg9nug\nFree Breakfast\, Complementary Wi-Fi and shuttle pick up @ DFW Airport. Call (972)-691-1199 and Dial “0” once the line picks up. The shuttle runs every 30 minutes upon request\nThere is a group of 3 hotels located literally right next to the Round 1. We recommend booking at one of these 3 hotels due to the convenience and easy accessibility to the venue.\nHyatt Place:\nhttps://dallasgrapevine.place.hyatt.com/en/hotel/home.html\nThere are a few other hotels nearby that are also available either within walking distance\, or just outside walking distance\, with the Springhill Suites\, Embassy Suites\, and Hilton DFW Lakes being the most notable ones (and more upscale).
URL:https://ddrcommunity.com/event/the-big-deal-3d/
LOCATION:Round 1 Grapevine Mills\, 3000 Grapevine Mills Pkwy
CATEGORIES:Tournaments
ATTACH;FMTTYPE=image/jpeg:https://ddrcommunity.com/wp-content/uploads/2024/04/48362575_2375418192486490_4341994430522195968_n-480x320-jtUnS1.tmp_.jpg
END:VEVENT
END:VCALENDAR