BEGIN:VCALENDAR
VERSION:2.0
PRODID:-//DDRCommunity - ECPv6.15.14//NONSGML v1.0//EN
CALSCALE:GREGORIAN
METHOD:PUBLISH
X-ORIGINAL-URL:https://ddrcommunity.com
X-WR-CALDESC:Events for DDRCommunity
REFRESH-INTERVAL;VALUE=DURATION:PT1H
X-Robots-Tag:noindex
X-PUBLISHED-TTL:PT1H
BEGIN:VTIMEZONE
TZID:America/New_York
BEGIN:DAYLIGHT
TZOFFSETFROM:-0500
TZOFFSETTO:-0400
TZNAME:EDT
DTSTART:20170312T070000
END:DAYLIGHT
BEGIN:STANDARD
TZOFFSETFROM:-0400
TZOFFSETTO:-0500
TZNAME:EST
DTSTART:20171105T060000
END:STANDARD
BEGIN:DAYLIGHT
TZOFFSETFROM:-0500
TZOFFSETTO:-0400
TZNAME:EDT
DTSTART:20180311T070000
END:DAYLIGHT
BEGIN:STANDARD
TZOFFSETFROM:-0400
TZOFFSETTO:-0500
TZNAME:EST
DTSTART:20181104T060000
END:STANDARD
BEGIN:DAYLIGHT
TZOFFSETFROM:-0500
TZOFFSETTO:-0400
TZNAME:EDT
DTSTART:20190310T070000
END:DAYLIGHT
BEGIN:STANDARD
TZOFFSETFROM:-0400
TZOFFSETTO:-0500
TZNAME:EST
DTSTART:20191103T060000
END:STANDARD
END:VTIMEZONE
BEGIN:VEVENT
DTSTART;TZID=America/New_York:20181109T180000
DTEND;TZID=America/New_York:20181111T230000
DTSTAMP:20260425T222318
CREATED:20180827T145952Z
LAST-MODIFIED:20240411T041159Z
UID:3353-1541786400-1541977200@ddrcommunity.com
SUMMARY:Rumble In The Prairie 10.5
DESCRIPTION:Facebook Event PageSIGNUPS:\nSCHEDULE:\nWEBSITE: http://rip.ddrillini.club (TO BE UPDATED)\n(Packs\, remote qualifiers\, and rules @ website)\nITG Singles\nITG Doubles\nDaikyi SRT\nPIU Couples\nRIP10.5 is our smaller/more local fall tournament\, compared to the one happening in the spring. \nWe hope to see you there!
URL:https://ddrcommunity.com/event/rumble-in-the-prairie-10-5/
LOCATION:Illini Union Rec Room\, 1401 W Green St.\, Urbana\, IL\, 61801\, United States
CATEGORIES:Tournaments
ATTACH;FMTTYPE=image/jpeg:https://ddrcommunity.com/wp-content/uploads/2024/04/37101512_2202255686699553_2422683716145905664_n-480x320-KZYOgR.tmp_.jpg
END:VEVENT
END:VCALENDAR