BEGIN:VCALENDAR
VERSION:2.0
PRODID:-//DDRCommunity - ECPv6.15.14//NONSGML v1.0//EN
CALSCALE:GREGORIAN
METHOD:PUBLISH
X-WR-CALNAME:DDRCommunity
X-ORIGINAL-URL:https://ddrcommunity.com
X-WR-CALDESC:Events for DDRCommunity
REFRESH-INTERVAL;VALUE=DURATION:PT1H
X-Robots-Tag:noindex
X-PUBLISHED-TTL:PT1H
BEGIN:VTIMEZONE
TZID:America/New_York
BEGIN:DAYLIGHT
TZOFFSETFROM:-0500
TZOFFSETTO:-0400
TZNAME:EDT
DTSTART:20210314T070000
END:DAYLIGHT
BEGIN:STANDARD
TZOFFSETFROM:-0400
TZOFFSETTO:-0500
TZNAME:EST
DTSTART:20211107T060000
END:STANDARD
BEGIN:DAYLIGHT
TZOFFSETFROM:-0500
TZOFFSETTO:-0400
TZNAME:EDT
DTSTART:20220313T070000
END:DAYLIGHT
BEGIN:STANDARD
TZOFFSETFROM:-0400
TZOFFSETTO:-0500
TZNAME:EST
DTSTART:20221106T060000
END:STANDARD
BEGIN:DAYLIGHT
TZOFFSETFROM:-0500
TZOFFSETTO:-0400
TZNAME:EDT
DTSTART:20230312T070000
END:DAYLIGHT
BEGIN:STANDARD
TZOFFSETFROM:-0400
TZOFFSETTO:-0500
TZNAME:EST
DTSTART:20231105T060000
END:STANDARD
END:VTIMEZONE
BEGIN:VEVENT
DTSTART;TZID=America/New_York:20220326T000000
DTEND;TZID=America/New_York:20220624T235900
DTSTAMP:20260423T070741
CREATED:20240411T034726Z
LAST-MODIFIED:20240412T012321Z
UID:8803-1648252800-1656115140@ddrcommunity.com
SUMMARY:ITL Online 2022
DESCRIPTION:The International Timing League Online 2022 (ITL Online 2022) is an online event for StepMania 5 that is focused on technique and timing. The event is organized by the International Timing Collective (ITC) and features charts from members in the community.Song difficulties range from ITG 7s to 16s\, so whether you’re an expert or just starting out there should be something here for everybody! All you need to get started is a home dance pad and a computer! Event details and how to get setup is outlined on the event website. Join our Discord or follow us on Twitter (#ITLOnline2022) to connect with other entrants or for help with getting started!
URL:https://ddrcommunity.com/event/itl-online-2022/
LOCATION:Online
CATEGORIES:Online Tournaments
ATTACH;FMTTYPE=image/png:https://ddrcommunity.com/wp-content/uploads/2024/04/ITL_PackBanner-jfajbM.tmp_.png
ORGANIZER;CN="Vincent N. (VincentITG)":MAILTO:nebraskarhythm@gmail.com
END:VEVENT
END:VCALENDAR