BEGIN:VCALENDAR
VERSION:2.0
PRODID:-//DDRCommunity - ECPv6.15.14//NONSGML v1.0//EN
CALSCALE:GREGORIAN
METHOD:PUBLISH
X-ORIGINAL-URL:https://ddrcommunity.com
X-WR-CALDESC:Events for DDRCommunity
REFRESH-INTERVAL;VALUE=DURATION:PT1H
X-Robots-Tag:noindex
X-PUBLISHED-TTL:PT1H
BEGIN:VTIMEZONE
TZID:America/New_York
BEGIN:DAYLIGHT
TZOFFSETFROM:-0500
TZOFFSETTO:-0400
TZNAME:EDT
DTSTART:20170312T070000
END:DAYLIGHT
BEGIN:STANDARD
TZOFFSETFROM:-0400
TZOFFSETTO:-0500
TZNAME:EST
DTSTART:20171105T060000
END:STANDARD
BEGIN:DAYLIGHT
TZOFFSETFROM:-0500
TZOFFSETTO:-0400
TZNAME:EDT
DTSTART:20180311T070000
END:DAYLIGHT
BEGIN:STANDARD
TZOFFSETFROM:-0400
TZOFFSETTO:-0500
TZNAME:EST
DTSTART:20181104T060000
END:STANDARD
BEGIN:DAYLIGHT
TZOFFSETFROM:-0500
TZOFFSETTO:-0400
TZNAME:EDT
DTSTART:20190310T070000
END:DAYLIGHT
BEGIN:STANDARD
TZOFFSETFROM:-0400
TZOFFSETTO:-0500
TZNAME:EST
DTSTART:20191103T060000
END:STANDARD
END:VTIMEZONE
BEGIN:VEVENT
DTSTART;TZID=America/New_York:20181012T100000
DTEND;TZID=America/New_York:20181014T170000
DTSTAMP:20260423T211507
CREATED:20180318T211728Z
LAST-MODIFIED:20240411T041214Z
UID:2811-1539338400-1539536400@ddrcommunity.com
SUMMARY:The Beast In The East 3
DESCRIPTION:BITE 3 is back for another wild year! Stay tuned for more game and tournament announcements.The Beast in the East 3\nOctober 12th-14th\nFacebook Event Page\nPreregistration Page\nOfficial Tournament Games (Coming Soon)\nArcade Game List: \nPump it Up\nDance Dance Revolution\nInitial D 7 (2 cabs)\nPop’n Music\nStreet Fighter 3: 3rd Strike\nSoul Calibur 2\nWindjammers\nTekken 5: Dark Resurrection\nJubeat\nDengeki Bunko: Fighting Climax\nSuper SF2 Turbo\nCapcom vs SNK 2\nVampire Savior
URL:https://ddrcommunity.com/event/the-beast-in-the-east-3/
LOCATION:Military Circle Mall\, 606 Church St.\, Norfolk\, VA\, 23510\, United States
CATEGORIES:Tournaments
ATTACH;FMTTYPE=image/png:https://ddrcommunity.com/wp-content/uploads/2024/04/mac-wallpaper-1-1000x563-480x320-a1y3hI.tmp_.png
END:VEVENT
END:VCALENDAR