BEGIN:VCALENDAR
VERSION:2.0
PRODID:-//DDRCommunity - ECPv6.15.14//NONSGML v1.0//EN
CALSCALE:GREGORIAN
METHOD:PUBLISH
X-WR-CALNAME:DDRCommunity
X-ORIGINAL-URL:https://ddrcommunity.com
X-WR-CALDESC:Events for DDRCommunity
REFRESH-INTERVAL;VALUE=DURATION:PT1H
X-Robots-Tag:noindex
X-PUBLISHED-TTL:PT1H
BEGIN:VTIMEZONE
TZID:America/New_York
BEGIN:DAYLIGHT
TZOFFSETFROM:-0500
TZOFFSETTO:-0400
TZNAME:EDT
DTSTART:20190310T070000
END:DAYLIGHT
BEGIN:STANDARD
TZOFFSETFROM:-0400
TZOFFSETTO:-0500
TZNAME:EST
DTSTART:20191103T060000
END:STANDARD
BEGIN:DAYLIGHT
TZOFFSETFROM:-0500
TZOFFSETTO:-0400
TZNAME:EDT
DTSTART:20200308T070000
END:DAYLIGHT
BEGIN:STANDARD
TZOFFSETFROM:-0400
TZOFFSETTO:-0500
TZNAME:EST
DTSTART:20201101T060000
END:STANDARD
BEGIN:DAYLIGHT
TZOFFSETFROM:-0500
TZOFFSETTO:-0400
TZNAME:EDT
DTSTART:20210314T070000
END:DAYLIGHT
BEGIN:STANDARD
TZOFFSETFROM:-0400
TZOFFSETTO:-0500
TZNAME:EST
DTSTART:20211107T060000
END:STANDARD
END:VTIMEZONE
BEGIN:VEVENT
DTSTART;TZID=America/New_York:20200118T100000
DTEND;TZID=America/New_York:20200119T170000
DTSTAMP:20260425T183349
CREATED:20240411T035428Z
LAST-MODIFIED:20240411T042202Z
UID:8849-1579341600-1579453200@ddrcommunity.com
SUMMARY:UPS Tournament 5
DESCRIPTION:University Park Stepmania Tournament 5!PREREGISTRATION IS OPEN!\nU.P.S. 5 is an ITG Tournament\, sort of\nIt’s more like a casual SM5 Tournament and dance game social event.\nRULES AND INFORMATION ARE LOCATED HERE: http://aaronin.jp/boards/viewtopic.php?p=492911\nDAN’S 3.95 –> SM5 LUA GUIDE LOCATED HERE: http://dguzek.github.io/Lua-For-SM5/
URL:https://ddrcommunity.com/event/ups-tournament-5/
LOCATION:Pollock Commons\, State College\, PA
CATEGORIES:Tournaments
ATTACH;FMTTYPE=image/jpeg:https://ddrcommunity.com/wp-content/uploads/2024/04/67724278_10156054916425916_5043989436140879872_o-DQxceH.tmp_.jpg
END:VEVENT
END:VCALENDAR