BEGIN:VCALENDAR
VERSION:2.0
PRODID:-//DDRCommunity - ECPv6.15.14//NONSGML v1.0//EN
CALSCALE:GREGORIAN
METHOD:PUBLISH
X-ORIGINAL-URL:https://ddrcommunity.com
X-WR-CALDESC:Events for DDRCommunity
REFRESH-INTERVAL;VALUE=DURATION:PT1H
X-Robots-Tag:noindex
X-PUBLISHED-TTL:PT1H
BEGIN:VTIMEZONE
TZID:America/New_York
BEGIN:DAYLIGHT
TZOFFSETFROM:-0500
TZOFFSETTO:-0400
TZNAME:EDT
DTSTART:20220313T070000
END:DAYLIGHT
BEGIN:STANDARD
TZOFFSETFROM:-0400
TZOFFSETTO:-0500
TZNAME:EST
DTSTART:20221106T060000
END:STANDARD
BEGIN:DAYLIGHT
TZOFFSETFROM:-0500
TZOFFSETTO:-0400
TZNAME:EDT
DTSTART:20230312T070000
END:DAYLIGHT
BEGIN:STANDARD
TZOFFSETFROM:-0400
TZOFFSETTO:-0500
TZNAME:EST
DTSTART:20231105T060000
END:STANDARD
BEGIN:DAYLIGHT
TZOFFSETFROM:-0500
TZOFFSETTO:-0400
TZNAME:EDT
DTSTART:20240310T070000
END:DAYLIGHT
BEGIN:STANDARD
TZOFFSETFROM:-0400
TZOFFSETTO:-0500
TZNAME:EST
DTSTART:20241103T060000
END:STANDARD
END:VTIMEZONE
BEGIN:VEVENT
DTSTART;TZID=America/New_York:20230114T100000
DTEND;TZID=America/New_York:20230115T170000
DTSTAMP:20260422T192212
CREATED:20240411T034512Z
LAST-MODIFIED:20240411T041942Z
UID:8793-1673690400-1673802000@ddrcommunity.com
SUMMARY:R.I.G.H.T.S 1
DESCRIPTION:R.I.G.H.T.S Tournament 1!PREREGISTRATION IS OPEN!\nU.P.S.  R.I.G.H.T.S is an ITG Tournament\, sort of\nIt’s more like a casual SM5 Tournament and dance game social event.\nSpiritual successor to D.O.W.N.S/U.P.S events\nRULES AND INFORMATION ARE LOCATED HERE: https://github.com/CrashCringle12/RIGHTS-1/wiki\nDiscord: https://discord.gg/vRRh2cFptG
URL:https://ddrcommunity.com/event/r-i-g-h-t-s-1/
LOCATION:Pollock Commons\, State College\, PA
CATEGORIES:Meetups,Tournaments
ATTACH;FMTTYPE=image/png:https://ddrcommunity.com/wp-content/uploads/2024/04/Rights-oOydFP.tmp_.png
ORGANIZER;CN="Crash Cringle":MAILTO:lamarcooley123@gmail.com
END:VEVENT
END:VCALENDAR